| Back to Multiple platform build/check report for BioC 3.9 | 
 | 
This page was generated on 2019-04-09 11:44:45 -0400 (Tue, 09 Apr 2019).
| Package 286/1703 | Hostname | OS / Arch | INSTALL | BUILD | CHECK | BUILD BIN | ||||||
| clustComp 1.11.0 Aurora Torrente 
 | malbec2 | Linux (Ubuntu 18.04.2 LTS) / x86_64 | OK | OK | [ OK ] |  | ||||||
| tokay2 | Windows Server 2012 R2 Standard / x64 | OK | OK | OK | OK |  | ||||||
| celaya2 | OS X 10.11.6 El Capitan / x86_64 | OK | OK | OK | OK |  | ||||||
| merida2 | OS X 10.11.6 El Capitan / x86_64 | OK | OK | OK | OK | 
| Package: clustComp | 
| Version: 1.11.0 | 
| Command: /home/biocbuild/bbs-3.9-bioc/R/bin/R CMD check --install=check:clustComp.install-out.txt --library=/home/biocbuild/bbs-3.9-bioc/R/library --no-vignettes --timings clustComp_1.11.0.tar.gz | 
| StartedAt: 2019-04-08 23:30:48 -0400 (Mon, 08 Apr 2019) | 
| EndedAt: 2019-04-08 23:31:16 -0400 (Mon, 08 Apr 2019) | 
| EllapsedTime: 28.0 seconds | 
| RetCode: 0 | 
| Status: OK | 
| CheckDir: clustComp.Rcheck | 
| Warnings: 0 | 
############################################################################## ############################################################################## ### ### Running command: ### ### /home/biocbuild/bbs-3.9-bioc/R/bin/R CMD check --install=check:clustComp.install-out.txt --library=/home/biocbuild/bbs-3.9-bioc/R/library --no-vignettes --timings clustComp_1.11.0.tar.gz ### ############################################################################## ############################################################################## * using log directory ‘/home/biocbuild/bbs-3.9-bioc/meat/clustComp.Rcheck’ * using R Under development (unstable) (2019-03-18 r76245) * using platform: x86_64-pc-linux-gnu (64-bit) * using session charset: UTF-8 * using option ‘--no-vignettes’ * checking for file ‘clustComp/DESCRIPTION’ ... OK * this is package ‘clustComp’ version ‘1.11.0’ * checking package namespace information ... OK * checking package dependencies ... OK * checking if this is a source package ... OK * checking if there is a namespace ... OK * checking for hidden files and directories ... OK * checking for portable file names ... OK * checking for sufficient/correct file permissions ... OK * checking whether package ‘clustComp’ can be installed ... OK * checking installed package size ... OK * checking package directory ... OK * checking ‘build’ directory ... OK * checking DESCRIPTION meta-information ... OK * checking top-level files ... OK * checking for left-over files ... OK * checking index information ... OK * checking package subdirectories ... OK * checking R files for non-ASCII characters ... OK * checking R files for syntax errors ... OK * checking whether the package can be loaded ... OK * checking whether the package can be loaded with stated dependencies ... OK * checking whether the package can be unloaded cleanly ... OK * checking whether the namespace can be loaded with stated dependencies ... OK * checking whether the namespace can be unloaded cleanly ... OK * checking dependencies in R code ... OK * checking S3 generic/method consistency ... OK * checking replacement functions ... OK * checking foreign function calls ... OK * checking R code for possible problems ... OK * checking Rd files ... OK * checking Rd metadata ... OK * checking Rd cross-references ... OK * checking for missing documentation entries ... OK * checking for code/documentation mismatches ... OK * checking Rd \usage sections ... OK * checking Rd contents ... OK * checking for unstated dependencies in examples ... OK * checking files in ‘vignettes’ ... OK * checking examples ... OK * checking for unstated dependencies in ‘tests’ ... OK * checking tests ... Running ‘runTests.R’ OK * checking for unstated dependencies in vignettes ... OK * checking package vignettes in ‘inst/doc’ ... OK * checking running R code from vignettes ... SKIPPED * checking re-building of vignette outputs ... SKIPPED * checking PDF version of manual ... OK * DONE Status: OK
clustComp.Rcheck/00install.out
############################################################################## ############################################################################## ### ### Running command: ### ### /home/biocbuild/bbs-3.9-bioc/R/bin/R CMD INSTALL clustComp ### ############################################################################## ############################################################################## * installing to library ‘/home/biocbuild/bbs-3.9-bioc/R/library’ * installing *source* package ‘clustComp’ ... ** using staged installation ** R ** inst ** byte-compile and prepare package for lazy loading ** help *** installing help indices ** building package indices ** installing vignettes ** testing if installed package can be loaded from temporary location ** testing if installed package can be loaded from final location ** testing if installed package keeps a record of temporary installation path * DONE (clustComp)
clustComp.Rcheck/tests/runTests.Rout
R Under development (unstable) (2019-03-18 r76245) -- "Unsuffered Consequences"
Copyright (C) 2019 The R Foundation for Statistical Computing
Platform: x86_64-pc-linux-gnu (64-bit)
R is free software and comes with ABSOLUTELY NO WARRANTY.
You are welcome to redistribute it under certain conditions.
Type 'license()' or 'licence()' for distribution details.
R is a collaborative project with many contributors.
Type 'contributors()' for more information and
'citation()' on how to cite R or R packages in publications.
Type 'demo()' for some demos, 'help()' for on-line help, or
'help.start()' for an HTML browser interface to help.
Type 'q()' to quit R.
> BiocGenerics:::testPackage("clustComp")
RUNIT TEST PROTOCOL -- Mon Apr  8 23:31:13 2019 
*********************************************** 
Number of test functions: 3 
Number of errors: 0 
Number of failures: 0 
 
1 Test Suite : 
clustComp RUnit Tests - 3 test functions, 0 errors, 0 failures
Number of test functions: 3 
Number of errors: 0 
Number of failures: 0 
> 
> proc.time()
   user  system elapsed 
  0.566   0.043   0.629 
clustComp.Rcheck/clustComp-Ex.timings
| name | user | system | elapsed | |
| SCmapping | 0.015 | 0.000 | 0.016 | |
| barycentre | 0.001 | 0.000 | 0.001 | |
| drawTreeGraph | 0.057 | 0.000 | 0.056 | |
| dyn.cross | 0.003 | 0.000 | 0.003 | |
| flatVSflat | 0.036 | 0.004 | 0.041 | |
| flatVShier | 0.381 | 0.069 | 0.447 | |
| insert | 0 | 0 | 0 | |
| score.crossing | 0.003 | 0.000 | 0.003 | |
| score.it | 0.002 | 0.000 | 0.002 | |