| Back to Multiple platform build/check report for BioC 3.9 |
|
This page was generated on 2019-04-09 11:27:41 -0400 (Tue, 09 Apr 2019).
| Package 1260/1703 | Hostname | OS / Arch | INSTALL | BUILD | CHECK | BUILD BIN | ||||||
| qpgraph 2.17.0 Robert Castelo
| malbec2 | Linux (Ubuntu 18.04.2 LTS) / x86_64 | OK | OK | [ OK ] | |||||||
| tokay2 | Windows Server 2012 R2 Standard / x64 | OK | OK | WARNINGS | OK | |||||||
| celaya2 | OS X 10.11.6 El Capitan / x86_64 | OK | OK | OK | OK | |||||||
| merida2 | OS X 10.11.6 El Capitan / x86_64 | OK | OK | OK | OK |
| Package: qpgraph |
| Version: 2.17.0 |
| Command: /home/biocbuild/bbs-3.9-bioc/R/bin/R CMD check --install=check:qpgraph.install-out.txt --library=/home/biocbuild/bbs-3.9-bioc/R/library --no-vignettes --timings qpgraph_2.17.0.tar.gz |
| StartedAt: 2019-04-09 02:55:09 -0400 (Tue, 09 Apr 2019) |
| EndedAt: 2019-04-09 03:00:00 -0400 (Tue, 09 Apr 2019) |
| EllapsedTime: 291.0 seconds |
| RetCode: 0 |
| Status: OK |
| CheckDir: qpgraph.Rcheck |
| Warnings: 0 |
############################################################################## ############################################################################## ### ### Running command: ### ### /home/biocbuild/bbs-3.9-bioc/R/bin/R CMD check --install=check:qpgraph.install-out.txt --library=/home/biocbuild/bbs-3.9-bioc/R/library --no-vignettes --timings qpgraph_2.17.0.tar.gz ### ############################################################################## ############################################################################## * using log directory ‘/home/biocbuild/bbs-3.9-bioc/meat/qpgraph.Rcheck’ * using R Under development (unstable) (2019-03-18 r76245) * using platform: x86_64-pc-linux-gnu (64-bit) * using session charset: UTF-8 * using option ‘--no-vignettes’ * checking for file ‘qpgraph/DESCRIPTION’ ... OK * this is package ‘qpgraph’ version ‘2.17.0’ * checking package namespace information ... OK * checking package dependencies ... OK * checking if this is a source package ... OK * checking if there is a namespace ... OK * checking for hidden files and directories ... OK * checking for portable file names ... OK * checking for sufficient/correct file permissions ... OK * checking whether package ‘qpgraph’ can be installed ... OK * checking installed package size ... OK * checking package directory ... OK * checking ‘build’ directory ... OK * checking DESCRIPTION meta-information ... OK * checking top-level files ... OK * checking for left-over files ... OK * checking index information ... OK * checking package subdirectories ... OK * checking R files for non-ASCII characters ... OK * checking R files for syntax errors ... OK * checking whether the package can be loaded ... OK * checking whether the package can be loaded with stated dependencies ... OK * checking whether the package can be unloaded cleanly ... OK * checking whether the namespace can be loaded with stated dependencies ... OK * checking whether the namespace can be unloaded cleanly ... OK * checking dependencies in R code ... OK * checking S3 generic/method consistency ... OK * checking replacement functions ... OK * checking foreign function calls ... OK * checking R code for possible problems ... OK * checking Rd files ... OK * checking Rd metadata ... OK * checking Rd cross-references ... OK * checking for missing documentation entries ... OK * checking for code/documentation mismatches ... OK * checking Rd \usage sections ... OK * checking Rd contents ... OK * checking for unstated dependencies in examples ... OK * checking contents of ‘data’ directory ... OK * checking data for non-ASCII characters ... OK * checking data for ASCII and uncompressed saves ... OK * checking line endings in shell scripts ... OK * checking line endings in C/C++/Fortran sources/headers ... OK * checking line endings in Makefiles ... OK * checking compilation flags in Makevars ... OK * checking for GNU extensions in Makefiles ... OK * checking for portable use of $(BLAS_LIBS) and $(LAPACK_LIBS) ... OK * checking compiled code ... NOTE Note: information on .o files is not available * checking installed files from ‘inst/doc’ ... OK * checking files in ‘vignettes’ ... OK * checking examples ... OK * checking for unstated dependencies in ‘tests’ ... OK * checking tests ... Running ‘runTests.R’ OK * checking for unstated dependencies in vignettes ... OK * checking package vignettes in ‘inst/doc’ ... OK * checking running R code from vignettes ... SKIPPED * checking re-building of vignette outputs ... SKIPPED * checking PDF version of manual ... OK * DONE Status: 1 NOTE See ‘/home/biocbuild/bbs-3.9-bioc/meat/qpgraph.Rcheck/00check.log’ for details.
qpgraph.Rcheck/00install.out
##############################################################################
##############################################################################
###
### Running command:
###
### /home/biocbuild/bbs-3.9-bioc/R/bin/R CMD INSTALL qpgraph
###
##############################################################################
##############################################################################
* installing to library ‘/home/biocbuild/bbs-3.9-bioc/R/library’
* installing *source* package ‘qpgraph’ ...
** using staged installation
checking for gcc... gcc
checking for C compiler default output file name... a.out
checking whether the C compiler works... yes
checking whether we are cross compiling... no
checking for suffix of executables...
checking for suffix of object files... o
checking whether we are using the GNU C compiler... yes
checking whether gcc accepts -g... yes
checking for gcc option to accept ANSI C... none needed
checking build system type... x86_64-unknown-linux-gnu
checking host system type... x86_64-unknown-linux-gnu
configure: creating ./config.status
config.status: creating src/Makevars
** libs
gcc -I"/home/biocbuild/bbs-3.9-bioc/R/include" -DNDEBUG -I/usr/local/include -I/usr/local/include -g -O2 -Wall -Wall -pedantic -fpic -g -O2 -Wall -c cliquer.c -o cliquer.o
gcc -I"/home/biocbuild/bbs-3.9-bioc/R/include" -DNDEBUG -I/usr/local/include -I/usr/local/include -g -O2 -Wall -Wall -pedantic -fpic -g -O2 -Wall -c graph.c -o graph.o
gcc -I"/home/biocbuild/bbs-3.9-bioc/R/include" -DNDEBUG -I/usr/local/include -I/usr/local/include -g -O2 -Wall -Wall -pedantic -fpic -g -O2 -Wall -c qpgraph.c -o qpgraph.o
qpgraph.c: In function ‘qp_fast_path_weight’:
qpgraph.c:5851:20: warning: left-hand operand of comma expression has no effect [-Wunused-value]
int i = edges[k, 0];
^
qpgraph.c:5852:20: warning: left-hand operand of comma expression has no effect [-Wunused-value]
int j = edges[k, 1];
^
gcc -I"/home/biocbuild/bbs-3.9-bioc/R/include" -DNDEBUG -I/usr/local/include -I/usr/local/include -g -O2 -Wall -Wall -pedantic -fpic -g -O2 -Wall -c reorder.c -o reorder.o
gcc -shared -L/home/biocbuild/bbs-3.9-bioc/R/lib -L/usr/local/lib -o qpgraph.so cliquer.o graph.o qpgraph.o reorder.o -L/home/biocbuild/bbs-3.9-bioc/R/lib -lRlapack -L/home/biocbuild/bbs-3.9-bioc/R/lib -lRblas -lgfortran -lm -lquadmath -L/home/biocbuild/bbs-3.9-bioc/R/lib -lR
installing to /home/biocbuild/bbs-3.9-bioc/R/library/00LOCK-qpgraph/00new/qpgraph/libs
** R
** data
*** moving datasets to lazyload DB
** inst
** byte-compile and prepare package for lazy loading
No methods found in package ‘GenomicRanges’ for request: ‘c’ when loading ‘qpgraph’
Creating a generic function for ‘det’ from package ‘Matrix’ in package ‘qpgraph’
** help
*** installing help indices
** building package indices
** installing vignettes
‘eQTLnetworks.Rnw’
‘qpTxRegNet.Rnw’
‘qpgraphSimulate.Rnw’
** testing if installed package can be loaded from temporary location
No methods found in package ‘GenomicRanges’ for request: ‘c’ when loading ‘qpgraph’
** checking absolute paths in shared objects and dynamic libraries
** testing if installed package can be loaded from final location
No methods found in package ‘GenomicRanges’ for request: ‘c’ when loading ‘qpgraph’
** testing if installed package keeps a record of temporary installation path
* DONE (qpgraph)
qpgraph.Rcheck/tests/runTests.Rout
R Under development (unstable) (2019-03-18 r76245) -- "Unsuffered Consequences"
Copyright (C) 2019 The R Foundation for Statistical Computing
Platform: x86_64-pc-linux-gnu (64-bit)
R is free software and comes with ABSOLUTELY NO WARRANTY.
You are welcome to redistribute it under certain conditions.
Type 'license()' or 'licence()' for distribution details.
R is a collaborative project with many contributors.
Type 'contributors()' for more information and
'citation()' on how to cite R or R packages in publications.
Type 'demo()' for some demos, 'help()' for on-line help, or
'help.start()' for an HTML browser interface to help.
Type 'q()' to quit R.
> BiocGenerics:::testPackage("qpgraph")
No methods found in package 'GenomicRanges' for request: 'c' when loading 'qpgraph'
Using t tests for zero partial regression coefficients.
Using exact likelihood ratio tests.
RUNIT TEST PROTOCOL -- Tue Apr 9 02:59:52 2019
***********************************************
Number of test functions: 3
Number of errors: 0
Number of failures: 0
1 Test Suite :
qpgraph RUnit Tests - 3 test functions, 0 errors, 0 failures
Number of test functions: 3
Number of errors: 0
Number of failures: 0
>
> proc.time()
user system elapsed
16.319 0.454 17.373
qpgraph.Rcheck/qpgraph-Ex.timings
| name | user | system | elapsed | |
| EcoliOxygen | 0.003 | 0.000 | 0.003 | |
| qpAllCItests | 0.407 | 0.000 | 0.422 | |
| qpAnyGraph | 0.134 | 0.000 | 0.134 | |
| qpAvgNrr | 1.934 | 0.000 | 1.965 | |
| qpBoundary | 0.386 | 0.004 | 0.390 | |
| qpCItest | 0.802 | 0.016 | 0.833 | |
| qpClique | 0.337 | 0.000 | 0.338 | |
| qpCliqueNumber | 0.337 | 0.016 | 0.380 | |
| qpCov | 0.081 | 0.008 | 0.090 | |
| qpEdgeNrr | 0.082 | 0.004 | 0.085 | |
| qpFunctionalCoherence | 0 | 0 | 0 | |
| qpG2Sigma | 0.012 | 0.000 | 0.012 | |
| qpGenNrr | 0.641 | 0.015 | 0.659 | |
| qpGetCliques | 0.361 | 0.000 | 0.379 | |
| qpGraphDensity | 0.327 | 0.000 | 0.332 | |
| qpHTF | 0.121 | 0.000 | 0.125 | |
| qpHist | 0.272 | 0.000 | 0.286 | |
| qpIPF | 0.170 | 0.000 | 0.173 | |
| qpK2ParCor | 0.064 | 0.002 | 0.065 | |
| qpNrr | 0.167 | 0.000 | 0.168 | |
| qpPAC | 0.316 | 0.008 | 0.325 | |
| qpPCC | 0.107 | 0.000 | 0.107 | |
| qpPRscoreThreshold | 0.158 | 0.002 | 0.160 | |
| qpPathWeight | 0.089 | 0.011 | 0.102 | |
| qpPlotMap | 0.031 | 0.000 | 0.032 | |
| qpPlotNetwork | 0 | 0 | 0 | |
| qpPrecisionRecall | 0.231 | 0.001 | 0.232 | |
| qpRndGraph | 0.015 | 0.000 | 0.015 | |
| qpRndWishart | 0.01 | 0.00 | 0.01 | |
| qpTopPairs | 0.003 | 0.000 | 0.003 | |
| qpUnifRndAssociation | 0.003 | 0.000 | 0.004 | |
| qpUpdateCliquesRemoving | 0.000 | 0.000 | 0.001 | |