| Back to Multiple platform build/check report for BioC 3.9 |
|
This page was generated on 2019-04-09 11:46:53 -0400 (Tue, 09 Apr 2019).
| Package 909/1703 | Hostname | OS / Arch | INSTALL | BUILD | CHECK | BUILD BIN | ||||||
| MAST 1.9.2 Andrew McDavid
| malbec2 | Linux (Ubuntu 18.04.2 LTS) / x86_64 | OK | OK | [ OK ] | |||||||
| tokay2 | Windows Server 2012 R2 Standard / x64 | OK | OK | OK | OK | |||||||
| celaya2 | OS X 10.11.6 El Capitan / x86_64 | OK | OK | OK | OK | |||||||
| merida2 | OS X 10.11.6 El Capitan / x86_64 | OK | OK | OK | OK |
| Package: MAST |
| Version: 1.9.2 |
| Command: /home/biocbuild/bbs-3.9-bioc/R/bin/R CMD check --install=check:MAST.install-out.txt --library=/home/biocbuild/bbs-3.9-bioc/R/library --no-vignettes --timings MAST_1.9.2.tar.gz |
| StartedAt: 2019-04-09 01:44:11 -0400 (Tue, 09 Apr 2019) |
| EndedAt: 2019-04-09 01:49:04 -0400 (Tue, 09 Apr 2019) |
| EllapsedTime: 293.5 seconds |
| RetCode: 0 |
| Status: OK |
| CheckDir: MAST.Rcheck |
| Warnings: 0 |
##############################################################################
##############################################################################
###
### Running command:
###
### /home/biocbuild/bbs-3.9-bioc/R/bin/R CMD check --install=check:MAST.install-out.txt --library=/home/biocbuild/bbs-3.9-bioc/R/library --no-vignettes --timings MAST_1.9.2.tar.gz
###
##############################################################################
##############################################################################
* using log directory ‘/home/biocbuild/bbs-3.9-bioc/meat/MAST.Rcheck’
* using R Under development (unstable) (2019-03-18 r76245)
* using platform: x86_64-pc-linux-gnu (64-bit)
* using session charset: UTF-8
* using option ‘--no-vignettes’
* checking for file ‘MAST/DESCRIPTION’ ... OK
* checking extension type ... Package
* this is package ‘MAST’ version ‘1.9.2’
* checking package namespace information ... OK
* checking package dependencies ... OK
* checking if this is a source package ... OK
* checking if there is a namespace ... OK
* checking for hidden files and directories ... NOTE
Found the following hidden files and directories:
.travis.yml
These were most likely included in error. See section ‘Package
structure’ in the ‘Writing R Extensions’ manual.
* checking for portable file names ... OK
* checking for sufficient/correct file permissions ... OK
* checking whether package ‘MAST’ can be installed ... OK
* checking installed package size ... NOTE
installed size is 5.1Mb
sub-directories of 1Mb or more:
R 1.0Mb
data 3.7Mb
* checking package directory ... OK
* checking ‘build’ directory ... OK
* checking DESCRIPTION meta-information ... OK
* checking top-level files ... OK
* checking for left-over files ... OK
* checking index information ... OK
* checking package subdirectories ... OK
* checking R files for non-ASCII characters ... OK
* checking R files for syntax errors ... OK
* checking whether the package can be loaded ... OK
* checking whether the package can be loaded with stated dependencies ... OK
* checking whether the package can be unloaded cleanly ... OK
* checking whether the namespace can be loaded with stated dependencies ... OK
* checking whether the namespace can be unloaded cleanly ... OK
* checking dependencies in R code ... OK
* checking S3 generic/method consistency ... OK
* checking replacement functions ... OK
* checking foreign function calls ... OK
* checking R code for possible problems ... OK
* checking Rd files ... OK
* checking Rd metadata ... OK
* checking Rd cross-references ... OK
* checking for missing documentation entries ... OK
* checking for code/documentation mismatches ... OK
* checking Rd \usage sections ... OK
* checking Rd contents ... OK
* checking for unstated dependencies in examples ... OK
* checking contents of ‘data’ directory ... OK
* checking data for non-ASCII characters ... OK
* checking data for ASCII and uncompressed saves ... OK
* checking files in ‘vignettes’ ... OK
* checking examples ... OK
Examples with CPU or elapsed time > 5s
user system elapsed
collectResiduals 18.566 0.129 4.257
summary-ZlmFit-method 6.741 0.016 1.134
LRT 6.364 0.028 1.190
* checking for unstated dependencies in ‘tests’ ... OK
* checking tests ...
Running ‘testthat.R’
OK
* checking for unstated dependencies in vignettes ... OK
* checking package vignettes in ‘inst/doc’ ... OK
* checking running R code from vignettes ... SKIPPED
* checking re-building of vignette outputs ... SKIPPED
* checking PDF version of manual ... OK
* DONE
Status: 2 NOTEs
See
‘/home/biocbuild/bbs-3.9-bioc/meat/MAST.Rcheck/00check.log’
for details.
MAST.Rcheck/00install.out
############################################################################## ############################################################################## ### ### Running command: ### ### /home/biocbuild/bbs-3.9-bioc/R/bin/R CMD INSTALL MAST ### ############################################################################## ############################################################################## * installing to library ‘/home/biocbuild/bbs-3.9-bioc/R/library’ * installing *source* package ‘MAST’ ... ** using staged installation ** R ** data *** moving datasets to lazyload DB ** inst ** byte-compile and prepare package for lazy loading ** help *** installing help indices ** building package indices ** installing vignettes ** testing if installed package can be loaded from temporary location ** testing if installed package can be loaded from final location ** testing if installed package keeps a record of temporary installation path * DONE (MAST)
MAST.Rcheck/tests/testthat.Rout
R Under development (unstable) (2019-03-18 r76245) -- "Unsuffered Consequences"
Copyright (C) 2019 The R Foundation for Statistical Computing
Platform: x86_64-pc-linux-gnu (64-bit)
R is free software and comes with ABSOLUTELY NO WARRANTY.
You are welcome to redistribute it under certain conditions.
Type 'license()' or 'licence()' for distribution details.
R is a collaborative project with many contributors.
Type 'contributors()' for more information and
'citation()' on how to cite R or R packages in publications.
Type 'demo()' for some demos, 'help()' for on-line help, or
'help.start()' for an HTML browser interface to help.
Type 'q()' to quit R.
> library(testthat)
> test_check("MAST")
Loading required package: MAST
Loading required package: SingleCellExperiment
Loading required package: SummarizedExperiment
Loading required package: GenomicRanges
Loading required package: stats4
Loading required package: BiocGenerics
Loading required package: parallel
Attaching package: 'BiocGenerics'
The following objects are masked from 'package:parallel':
clusterApply, clusterApplyLB, clusterCall, clusterEvalQ,
clusterExport, clusterMap, parApply, parCapply, parLapply,
parLapplyLB, parRapply, parSapply, parSapplyLB
The following objects are masked from 'package:stats':
IQR, mad, sd, var, xtabs
The following objects are masked from 'package:base':
Filter, Find, Map, Position, Reduce, anyDuplicated, append,
as.data.frame, basename, cbind, colMeans, colSums, colnames,
dirname, do.call, duplicated, eval, evalq, get, grep, grepl,
intersect, is.unsorted, lapply, mapply, match, mget, order, paste,
pmax, pmax.int, pmin, pmin.int, rank, rbind, rowMeans, rowSums,
rownames, sapply, setdiff, sort, table, tapply, union, unique,
unsplit, which, which.max, which.min
Loading required package: S4Vectors
Attaching package: 'S4Vectors'
The following object is masked from 'package:base':
expand.grid
Loading required package: IRanges
Loading required package: GenomeInfoDb
Loading required package: Biobase
Welcome to Bioconductor
Vignettes contain introductory material; view with
'browseVignettes()'. To cite Bioconductor, see
'citation("Biobase")', and for packages 'citation("pkgname")'.
Loading required package: DelayedArray
Loading required package: matrixStats
Attaching package: 'matrixStats'
The following objects are masked from 'package:Biobase':
anyMissing, rowMedians
Loading required package: BiocParallel
Attaching package: 'DelayedArray'
The following objects are masked from 'package:matrixStats':
colMaxs, colMins, colRanges, rowMaxs, rowMins, rowRanges
The following objects are masked from 'package:base':
aperm, apply, rowsum
Attaching package: 'MAST'
The following object is masked from 'package:stats':
filter
Error : number of levels of each grouping factor must be < number of observations
(0.0426,0.354] (0.354,0.757] (0.757,1.28] (1.28,1.96] (1.96,2.84]
2.258200 2.258200 2.258200 2.258200 2.258200
(2.84,3.99] (3.99,13.2]
2.258200 3.313588
(0.0602,0.436] (0.436,0.67] (0.67,0.944] (0.944,1.26] (1.26,1.63]
1.967142 1.967142 1.967142 2.003488 2.003488
(1.63,2.06] (2.06,2.56] (2.56,3.83]
2.600202 2.600202 2.600202
(0.03,1.56] (1.56,5.36] (5.36,14.8] (14.8,9.25e+03]
238.2279 238.2279 238.2279 4525.1912
Error in (function (x, y, weights = rep(1, nobs), start = NULL, etastart = NULL, :
NAs in V(mu)
══ testthat results ═══════════════════════════════════════════════════════════
OK: 279 SKIPPED: 5 FAILED: 0
>
> proc.time()
user system elapsed
104.386 1.100 66.359
MAST.Rcheck/MAST-Ex.timings
| name | user | system | elapsed | |
| Drop | 0.001 | 0.000 | 0.000 | |
| FromFlatDF | 4.718 | 0.024 | 1.350 | |
| FromMatrix | 0.242 | 0.000 | 0.242 | |
| Hypothesis | 0.008 | 0.003 | 0.011 | |
| LRT | 6.364 | 0.028 | 1.190 | |
| ZlmFit-class | 1.626 | 0.016 | 1.386 | |
| applyFlat | 0.001 | 0.000 | 0.001 | |
| bootVcov1 | 1.274 | 0.000 | 1.041 | |
| cData | 0.034 | 0.000 | 0.035 | |
| calcZ | 4.437 | 0.031 | 1.647 | |
| collectResiduals | 18.566 | 0.129 | 4.257 | |
| computeEtFromCt | 0.055 | 0.008 | 0.063 | |
| convertMASTClassicToSingleCellAssay | 0.021 | 0.000 | 0.021 | |
| defaultAssay | 0.051 | 0.000 | 0.051 | |
| defaultPrior | 0.000 | 0.000 | 0.001 | |
| expavg | 0 | 0 | 0 | |
| filterLowExpressedGenes | 0.043 | 0.000 | 0.043 | |
| freq | 0.034 | 0.000 | 0.034 | |
| getConcordance | 0.514 | 0.004 | 0.203 | |
| getwellKey | 0.014 | 0.008 | 0.022 | |
| gseaAfterBoot | 3.985 | 0.024 | 2.049 | |
| hushWarning | 0.002 | 0.000 | 0.001 | |
| impute | 2.283 | 0.016 | 1.369 | |
| invlogit | 0.005 | 0.000 | 0.000 | |
| logFC | 1.793 | 0.016 | 0.389 | |
| logmean | 0.001 | 0.000 | 0.001 | |
| lrTest | 1.101 | 0.000 | 0.785 | |
| mast_filter | 0.786 | 0.000 | 0.786 | |
| melt.SingleCellAssay | 1.169 | 0.000 | 0.255 | |
| plot.thresholdSCRNACountMatrix | 0.388 | 0.024 | 0.413 | |
| plotSCAConcordance | 1.139 | 0.012 | 0.511 | |
| predict.ZlmFit | 2.104 | 0.008 | 1.256 | |
| se.coef | 1.081 | 0.008 | 0.828 | |
| split-SingleCellAssay-character-method | 0.079 | 0.000 | 0.079 | |
| stat_ell | 2.559 | 0.003 | 1.740 | |
| subset-SingleCellAssay-method | 0.023 | 0.000 | 0.019 | |
| summary-GSEATests-method | 3.755 | 0.012 | 1.738 | |
| summary-ZlmFit-method | 6.741 | 0.016 | 1.134 | |
| thresholdSCRNACountMatrix | 0.320 | 0.012 | 0.332 | |
| waldTest | 1.297 | 0.008 | 1.064 | |
| zlm | 0.668 | 0.008 | 0.261 | |