| Back to Multiple platform build/check report for BioC 3.9 |
|
This page was generated on 2019-04-09 11:47:20 -0400 (Tue, 09 Apr 2019).
| Package 435/1703 | Hostname | OS / Arch | INSTALL | BUILD | CHECK | BUILD BIN | ||||||
| discordant 1.7.1 Charlotte Siska
| malbec2 | Linux (Ubuntu 18.04.2 LTS) / x86_64 | [ OK ] | OK | WARNINGS | |||||||
| tokay2 | Windows Server 2012 R2 Standard / x64 | OK | OK | WARNINGS | OK | |||||||
| celaya2 | OS X 10.11.6 El Capitan / x86_64 | OK | OK | OK | OK | |||||||
| merida2 | OS X 10.11.6 El Capitan / x86_64 | OK | OK | OK | OK |
| Package: discordant |
| Version: 1.7.1 |
| Command: /home/biocbuild/bbs-3.9-bioc/R/bin/R CMD INSTALL discordant |
| StartedAt: 2019-04-08 18:08:34 -0400 (Mon, 08 Apr 2019) |
| EndedAt: 2019-04-08 18:08:42 -0400 (Mon, 08 Apr 2019) |
| EllapsedTime: 8.2 seconds |
| RetCode: 0 |
| Status: OK |
##############################################################################
##############################################################################
###
### Running command:
###
### /home/biocbuild/bbs-3.9-bioc/R/bin/R CMD INSTALL discordant
###
##############################################################################
##############################################################################
* installing to library ‘/home/biocbuild/bbs-3.9-bioc/R/library’
* installing *source* package ‘discordant’ ...
** using staged installation
** libs
gcc -I"/home/biocbuild/bbs-3.9-bioc/R/include" -DNDEBUG -I/usr/local/include -fpic -g -O2 -Wall -c discordant.c -o discordant.o
discordant.c: In function ‘em_normal_partial_concordant’:
discordant.c:21:13: warning: suggest parentheses around comparison in operand of ‘&’ [-Wparentheses]
while(flag>0 & iter<(*iteration)){
˜˜˜˜^˜
discordant.c:147:13: warning: suggest parentheses around comparison in operand of ‘&’ [-Wparentheses]
while(flag>0 & iter<(*iteration)){
˜˜˜˜^˜
gcc -shared -L/home/biocbuild/bbs-3.9-bioc/R/lib -L/usr/local/lib -o discordant.so discordant.o -L/home/biocbuild/bbs-3.9-bioc/R/lib -lR
installing to /home/biocbuild/bbs-3.9-bioc/R/library/00LOCK-discordant/00new/discordant/libs
** R
** data
** inst
** byte-compile and prepare package for lazy loading
** help
*** installing help indices
** building package indices
** installing vignettes
** testing if installed package can be loaded from temporary location
** checking absolute paths in shared objects and dynamic libraries
** testing if installed package can be loaded from final location
** testing if installed package keeps a record of temporary installation path
* DONE (discordant)