| Back to Multiple platform build/check report for BioC 3.9 |
|
This page was generated on 2019-04-09 11:44:41 -0400 (Tue, 09 Apr 2019).
| Package 934/1703 | Hostname | OS / Arch | INSTALL | BUILD | CHECK | BUILD BIN | ||||||
| Mergeomics 1.11.0 Zeyneb Kurt
| malbec2 | Linux (Ubuntu 18.04.2 LTS) / x86_64 | OK | OK | [ OK ] | |||||||
| tokay2 | Windows Server 2012 R2 Standard / x64 | OK | OK | OK | OK | |||||||
| celaya2 | OS X 10.11.6 El Capitan / x86_64 | OK | OK | OK | OK | |||||||
| merida2 | OS X 10.11.6 El Capitan / x86_64 | OK | OK | OK | OK |
| Package: Mergeomics |
| Version: 1.11.0 |
| Command: /home/biocbuild/bbs-3.9-bioc/R/bin/R CMD check --install=check:Mergeomics.install-out.txt --library=/home/biocbuild/bbs-3.9-bioc/R/library --no-vignettes --timings Mergeomics_1.11.0.tar.gz |
| StartedAt: 2019-04-09 01:48:14 -0400 (Tue, 09 Apr 2019) |
| EndedAt: 2019-04-09 01:58:54 -0400 (Tue, 09 Apr 2019) |
| EllapsedTime: 640.2 seconds |
| RetCode: 0 |
| Status: OK |
| CheckDir: Mergeomics.Rcheck |
| Warnings: 0 |
##############################################################################
##############################################################################
###
### Running command:
###
### /home/biocbuild/bbs-3.9-bioc/R/bin/R CMD check --install=check:Mergeomics.install-out.txt --library=/home/biocbuild/bbs-3.9-bioc/R/library --no-vignettes --timings Mergeomics_1.11.0.tar.gz
###
##############################################################################
##############################################################################
* using log directory ‘/home/biocbuild/bbs-3.9-bioc/meat/Mergeomics.Rcheck’
* using R Under development (unstable) (2019-03-18 r76245)
* using platform: x86_64-pc-linux-gnu (64-bit)
* using session charset: UTF-8
* using option ‘--no-vignettes’
* checking for file ‘Mergeomics/DESCRIPTION’ ... OK
* checking extension type ... Package
* this is package ‘Mergeomics’ version ‘1.11.0’
* checking package namespace information ... OK
* checking package dependencies ... OK
* checking if this is a source package ... OK
* checking if there is a namespace ... OK
* checking for hidden files and directories ... OK
* checking for portable file names ... OK
* checking for sufficient/correct file permissions ... OK
* checking whether package ‘Mergeomics’ can be installed ... OK
* checking installed package size ... NOTE
installed size is 8.4Mb
sub-directories of 1Mb or more:
extdata 7.5Mb
* checking package directory ... OK
* checking ‘build’ directory ... OK
* checking DESCRIPTION meta-information ... OK
* checking top-level files ... OK
* checking for left-over files ... OK
* checking index information ... OK
* checking package subdirectories ... OK
* checking R files for non-ASCII characters ... OK
* checking R files for syntax errors ... OK
* checking whether the package can be loaded ... OK
* checking whether the package can be loaded with stated dependencies ... OK
* checking whether the package can be unloaded cleanly ... OK
* checking whether the namespace can be loaded with stated dependencies ... OK
* checking whether the namespace can be unloaded cleanly ... OK
* checking dependencies in R code ... OK
* checking S3 generic/method consistency ... OK
* checking replacement functions ... OK
* checking foreign function calls ... OK
* checking R code for possible problems ... NOTE
kda.analyze: no visible global function definition for ‘p.adjust’
kda.analyze.exec: no visible global function definition for ‘pnorm’
kda.analyze.simulate: no visible global function definition for ‘rnorm’
kda.prepare: no visible global function definition for ‘quantile’
kda.prepare: no visible global function definition for ‘object.size’
kda.prepare.screen: no visible global function definition for
‘quantile’
kda.prepare.screen: no visible global function definition for ‘median’
kda.start: no visible global function definition for ‘object.size’
kda2cytoscape: no visible global function definition for ‘write.table’
kda2cytoscape.colormap: no visible global function definition for
‘rainbow’
kda2cytoscape.colormap: no visible global function definition for
‘col2rgb’
kda2himmeli: no visible global function definition for ‘quantile’
kda2himmeli: no visible global function definition for ‘write.table’
kda2himmeli.colormap: no visible global function definition for
‘rainbow’
kda2himmeli.colormap: no visible global function definition for
‘col2rgb’
ssea.analyze: no visible global function definition for ‘qnorm’
ssea.analyze: no visible global function definition for ‘approx’
ssea.analyze: no visible global function definition for ‘pnorm’
ssea.analyze.simulate: no visible global function definition for
‘quantile’
ssea.control: no visible global function definition for ‘median’
ssea.control: no visible global function definition for ‘object.size’
ssea.meta: no visible global function definition for ‘qnorm’
ssea.meta: no visible global function definition for ‘quantile’
ssea.meta: no visible global function definition for ‘pnorm’
ssea.meta: no visible global function definition for ‘median’
ssea.meta: no visible global function definition for ‘na.omit’
ssea.prepare: no visible global function definition for ‘median’
ssea.prepare: no visible global function definition for ‘object.size’
ssea.start: no visible global function definition for ‘na.omit’
ssea.start: no visible global function definition for ‘object.size’
ssea.start.configure: no visible global function definition for
‘write.table’
ssea2kda: no visible global function definition for ‘na.omit’
ssea2kda.import: no visible global function definition for ‘na.omit’
tool.aggregate: no visible global function definition for ‘na.omit’
tool.cluster: no visible global function definition for ‘as.dist’
tool.cluster: no visible global function definition for ‘hclust’
tool.fdr.bh: no visible global function definition for ‘qnorm’
tool.fdr.bh: no visible global function definition for ‘p.adjust’
tool.fdr.bh: no visible global function definition for ‘approx’
tool.fdr.empirical: no visible global function definition for ‘qnorm’
tool.fdr.empirical: no visible global function definition for ‘approx’
tool.metap: no visible global function definition for ‘qnorm’
tool.metap: no visible global function definition for ‘pnorm’
tool.normalize: no visible global function definition for ‘sd’
tool.normalize: no visible global function definition for ‘median’
tool.normalize: no visible global function definition for ‘optim’
tool.normalize: no visible global function definition for ‘ks.test’
tool.normalize.quality: no visible global function definition for ‘sd’
tool.normalize.quality: no visible global function definition for
‘ks.test’
tool.overlap: no visible global function definition for ‘phyper’
tool.read: no visible global function definition for ‘read.delim’
tool.read: no visible global function definition for ‘na.omit’
tool.save: no visible global function definition for ‘write.table’
tool.unify: no visible global function definition for ‘sd’
tool.unify: no visible global function definition for ‘quantile’
tool.unify: no visible global function definition for ‘approx’
Undefined global functions or variables:
approx as.dist col2rgb hclust ks.test median na.omit object.size
optim p.adjust phyper pnorm qnorm quantile rainbow read.delim rnorm
sd write.table
Consider adding
importFrom("grDevices", "col2rgb", "rainbow")
importFrom("stats", "approx", "as.dist", "hclust", "ks.test", "median",
"na.omit", "optim", "p.adjust", "phyper", "pnorm", "qnorm",
"quantile", "rnorm", "sd")
importFrom("utils", "object.size", "read.delim", "write.table")
to your NAMESPACE file.
* checking Rd files ... OK
* checking Rd metadata ... OK
* checking Rd cross-references ... OK
* checking for missing documentation entries ... OK
* checking for code/documentation mismatches ... OK
* checking Rd \usage sections ... OK
* checking Rd contents ... OK
* checking for unstated dependencies in examples ... OK
* checking contents of ‘data’ directory ... OK
* checking data for non-ASCII characters ... OK
* checking data for ASCII and uncompressed saves ... OK
* checking files in ‘vignettes’ ... OK
* checking examples ... OK
Examples with CPU or elapsed time > 5s
user system elapsed
kda.analyze.exec 11.344 0.063 11.473
kda.analyze.test 10.931 0.000 10.941
kda.analyze.simulate 9.955 0.008 10.048
kda.prepare 8.922 0.016 8.939
ssea2kda.analyze 8.270 0.012 8.296
ssea2kda 7.664 0.012 7.722
ssea2kda.import 6.660 0.011 6.673
ssea.finish.details 6.212 0.009 6.224
ssea.finish.genes 5.843 0.012 5.864
ssea.analyze.simulate 5.517 0.004 5.529
ssea.finish 5.322 0.004 5.334
ssea.analyze 5.318 0.004 5.350
ssea.meta 5.124 0.012 5.135
* checking for unstated dependencies in ‘tests’ ... OK
* checking tests ...
Running ‘runTests.R’
OK
* checking for unstated dependencies in vignettes ... OK
* checking package vignettes in ‘inst/doc’ ... OK
* checking running R code from vignettes ... SKIPPED
* checking re-building of vignette outputs ... SKIPPED
* checking PDF version of manual ... OK
* DONE
Status: 2 NOTEs
See
‘/home/biocbuild/bbs-3.9-bioc/meat/Mergeomics.Rcheck/00check.log’
for details.
Mergeomics.Rcheck/00install.out
############################################################################## ############################################################################## ### ### Running command: ### ### /home/biocbuild/bbs-3.9-bioc/R/bin/R CMD INSTALL Mergeomics ### ############################################################################## ############################################################################## * installing to library ‘/home/biocbuild/bbs-3.9-bioc/R/library’ * installing *source* package ‘Mergeomics’ ... ** using staged installation ** R ** data ** inst ** byte-compile and prepare package for lazy loading ** help *** installing help indices ** building package indices ** installing vignettes ** testing if installed package can be loaded from temporary location ** testing if installed package can be loaded from final location ** testing if installed package keeps a record of temporary installation path * DONE (Mergeomics)
Mergeomics.Rcheck/tests/runTests.Rout
R Under development (unstable) (2019-03-18 r76245) -- "Unsuffered Consequences"
Copyright (C) 2019 The R Foundation for Statistical Computing
Platform: x86_64-pc-linux-gnu (64-bit)
R is free software and comes with ABSOLUTELY NO WARRANTY.
You are welcome to redistribute it under certain conditions.
Type 'license()' or 'licence()' for distribution details.
R is a collaborative project with many contributors.
Type 'contributors()' for more information and
'citation()' on how to cite R or R packages in publications.
Type 'demo()' for some demos, 'help()' for on-line help, or
'help.start()' for an HTML browser interface to help.
Type 'q()' to quit R.
> BiocGenerics:::testPackage("Mergeomics")
KDA Version:12.7.2015
Parameters:
Search depth: 1
Search direction: 1
Maximum overlap: 0.33
Minimum module size: 20
Minimum degree: automatic
Maximum degree: automatic
Edge factor: 0
Random seed: 1
Importing edges...
TAIL HEAD WEIGHT
Length:140663 Length:140663 Min. :1
Class :character Class :character 1st Qu.:1
Mode :character Mode :character Median :1
Mean :1
3rd Qu.:1
Max. :1
Importing modules...
MODULE NODE
Length:1643 Length:1643
Class :character Class :character
Mode :character Mode :character
Graph: 7.694687 Mb
Minimum degree set to 20
Maximum degree set to 278
Collecting hubs...
4876 hubs (25.21%)
Graph: 13.28496 Mb
Analyzing network...
6675: Dhcr7, n=114, p=2.24e-17
6648: Cit, n=20, p=7.89e-01
6643: Pbx4, n=23, p=2.32e-05
5582: Sypl, n=319, p=2.02e-02
4746: Tcf7l2, n=73, p=2.63e-02
4708: Tpte, n=86, p=5.05e-02
4511: Pzp, n=160, p=8.85e-03
4464: Tsc22d3, n=487, p=4.28e-13
4407: Dntt, n=93, p=2.40e-20
4360: Amica1, n=132, p=1.06e-06
4588,..: Lrg1, n=86, p=5.76e-12
MSEA Version:01.04.2016
Parameters:
Permutation type: gene
Permutations: 100
Random seed: 1
Minimum gene count: 10
Maximum gene count: 500
Maximum overlap between genes: 0.33
Importing modules...
MODULE DESCR
Length:20 Length:20
Class :character Class :character
Mode :character Mode :character
MODULE GENE
Length:2906 Length:2906
Class :character Class :character
Mode :character Mode :character
Importing marker values...
MARKER VALUE
Length:76866 Min. : 0.8094
Class :character 1st Qu.: 0.9450
Mode :character Median : 1.1374
Mean : 1.3944
3rd Qu.: 1.4688
Max. :323.0100
Importing mapping data...
GENE MARKER
Length:132705 Length:132705
Class :character Class :character
Mode :character Mode :character
Merging genes containing shared markers...
WARNING! Limited overlap analysis due to large number of groups.
103310/1673535
205039/1673535
339888/1673535
474173/1673535
590520/1673535
706646/1673535
817136/1673535
925290/1673535
1032755/1673535
1143169/1673535
1254649/1673535
1374563/1673535
1486650/1673535
1597883/1673535
1673535 comparisons
21115 comparisons
13861 comparisons
12880 comparisons
Job: 11.66891 Mb
Preparing data structures...
Job: 17.11776 Mb
Adding positive controls...
Job: 17.42039 Mb
Estimating enrichment...
100/100 cycles
Normalizing scores...
RUNIT TEST PROTOCOL -- Tue Apr 9 01:58:44 2019
***********************************************
Number of test functions: 2
Number of errors: 0
Number of failures: 0
1 Test Suite :
Mergeomics RUnit Tests - 2 test functions, 0 errors, 0 failures
Number of test functions: 2
Number of errors: 0
Number of failures: 0
>
> proc.time()
user system elapsed
447.722 0.368 449.851
Mergeomics.Rcheck/Mergeomics-Ex.timings
| name | user | system | elapsed | |
| MSEA.KDA.onestep | 0.003 | 0.000 | 0.003 | |
| job.kda | 0.015 | 0.004 | 0.019 | |
| kda.analyze | 0.015 | 0.004 | 0.036 | |
| kda.analyze.exec | 11.344 | 0.063 | 11.473 | |
| kda.analyze.simulate | 9.955 | 0.008 | 10.048 | |
| kda.analyze.test | 10.931 | 0.000 | 10.941 | |
| kda.configure | 0.001 | 0.000 | 0.001 | |
| kda.finish | 0.188 | 0.008 | 0.197 | |
| kda.finish.estimate | 0.125 | 0.004 | 0.130 | |
| kda.finish.save | 0.123 | 0.004 | 0.127 | |
| kda.finish.summarize | 0.125 | 0.004 | 0.129 | |
| kda.finish.trim | 0.119 | 0.008 | 0.127 | |
| kda.prepare | 8.922 | 0.016 | 8.939 | |
| kda.prepare.overlap | 0.001 | 0.000 | 0.001 | |
| kda.prepare.screen | 0.001 | 0.000 | 0.000 | |
| kda.start | 1.908 | 0.000 | 1.909 | |
| kda.start.edges | 0.002 | 0.000 | 0.002 | |
| kda.start.identify | 0.009 | 0.000 | 0.008 | |
| kda.start.modules | 0.002 | 0.000 | 0.002 | |
| kda2cytoscape | 0.345 | 0.004 | 0.351 | |
| kda2cytoscape.colorize | 0 | 0 | 0 | |
| kda2cytoscape.colormap | 0 | 0 | 0 | |
| kda2cytoscape.drivers | 0.212 | 0.000 | 0.211 | |
| kda2cytoscape.edges | 0.186 | 0.004 | 0.194 | |
| kda2cytoscape.exec | 0.145 | 0.004 | 0.149 | |
| kda2cytoscape.identify | 0.003 | 0.000 | 0.003 | |
| kda2himmeli | 0.396 | 0.000 | 0.407 | |
| kda2himmeli.colorize | 0.000 | 0.000 | 0.001 | |
| kda2himmeli.colormap | 0.001 | 0.000 | 0.000 | |
| kda2himmeli.drivers | 0.136 | 0.000 | 0.136 | |
| kda2himmeli.edges | 0.187 | 0.000 | 0.187 | |
| kda2himmeli.exec | 0.285 | 0.000 | 0.285 | |
| kda2himmeli.identify | 0.005 | 0.000 | 0.006 | |
| ssea.analyze | 5.318 | 0.004 | 5.350 | |
| ssea.analyze.observe | 4.623 | 0.004 | 4.628 | |
| ssea.analyze.randgenes | 4.327 | 0.016 | 4.345 | |
| ssea.analyze.randloci | 3.667 | 0.000 | 3.668 | |
| ssea.analyze.simulate | 5.517 | 0.004 | 5.529 | |
| ssea.analyze.statistic | 0 | 0 | 0 | |
| ssea.control | 3.462 | 0.000 | 3.466 | |
| ssea.finish | 5.322 | 0.004 | 5.334 | |
| ssea.finish.details | 6.212 | 0.009 | 6.224 | |
| ssea.finish.fdr | 4.717 | 0.010 | 4.729 | |
| ssea.finish.genes | 5.843 | 0.012 | 5.864 | |
| ssea.meta | 5.124 | 0.012 | 5.135 | |
| ssea.prepare | 4.812 | 0.000 | 4.812 | |
| ssea.prepare.counts | 4.395 | 0.016 | 4.412 | |
| ssea.prepare.structure | 4.631 | 0.004 | 4.634 | |
| ssea.start | 4.298 | 0.000 | 4.302 | |
| ssea.start.configure | 0.295 | 0.004 | 0.299 | |
| ssea.start.identify | 0.004 | 0.000 | 0.004 | |
| ssea.start.relabel | 3.903 | 0.004 | 3.908 | |
| ssea2kda | 7.664 | 0.012 | 7.722 | |
| ssea2kda.analyze | 8.270 | 0.012 | 8.296 | |
| ssea2kda.import | 6.660 | 0.011 | 6.673 | |
| tool.aggregate | 0.002 | 0.000 | 0.002 | |
| tool.cluster | 0.022 | 0.000 | 0.022 | |
| tool.cluster.static | 0.001 | 0.000 | 0.000 | |
| tool.coalesce | 0.064 | 0.000 | 0.064 | |
| tool.coalesce.exec | 0.153 | 0.000 | 0.152 | |
| tool.coalesce.find | 0.168 | 0.000 | 0.169 | |
| tool.coalesce.merge | 0.153 | 0.000 | 0.153 | |
| tool.fdr | 0.001 | 0.000 | 0.001 | |
| tool.fdr.bh | 0.000 | 0.000 | 0.001 | |
| tool.fdr.empirical | 0.001 | 0.000 | 0.001 | |
| tool.graph | 1.528 | 0.012 | 1.541 | |
| tool.graph.degree | 1.102 | 0.004 | 1.106 | |
| tool.graph.list | 1.135 | 0.000 | 1.136 | |
| tool.metap | 0.003 | 0.000 | 0.003 | |
| tool.normalize | 0.01 | 0.00 | 0.01 | |
| tool.normalize.quality | 0.009 | 0.000 | 0.008 | |
| tool.overlap | 0.006 | 0.000 | 0.006 | |
| tool.read | 0.187 | 0.000 | 0.187 | |
| tool.save | 0.001 | 0.000 | 0.002 | |
| tool.subgraph | 0.082 | 0.000 | 0.081 | |
| tool.subgraph.find | 0.078 | 0.000 | 0.078 | |
| tool.subgraph.search | 0.074 | 0.004 | 0.078 | |
| tool.subgraph.stats | 0.09 | 0.00 | 0.09 | |
| tool.translate | 0.047 | 0.000 | 0.048 | |
| tool.unify | 0.001 | 0.000 | 0.001 | |