| Back to Multiple platform build/check report for BioC 3.9 |
|
This page was generated on 2019-04-09 11:39:33 -0400 (Tue, 09 Apr 2019).
| Package 750/1703 | Hostname | OS / Arch | INSTALL | BUILD | CHECK | BUILD BIN | ||||||
| hiReadsProcessor 1.19.0 Nirav V Malani
| malbec2 | Linux (Ubuntu 18.04.2 LTS) / x86_64 | OK | OK | [ OK ] | |||||||
| tokay2 | Windows Server 2012 R2 Standard / x64 | ...NOT SUPPORTED... | ||||||||||
| celaya2 | OS X 10.11.6 El Capitan / x86_64 | OK | OK | OK | OK | |||||||
| merida2 | OS X 10.11.6 El Capitan / x86_64 | OK | OK | OK | OK | |||||||
| Package: hiReadsProcessor |
| Version: 1.19.0 |
| Command: /home/biocbuild/bbs-3.9-bioc/R/bin/R CMD check --install=check:hiReadsProcessor.install-out.txt --library=/home/biocbuild/bbs-3.9-bioc/R/library --no-vignettes --timings hiReadsProcessor_1.19.0.tar.gz |
| StartedAt: 2019-04-09 01:14:22 -0400 (Tue, 09 Apr 2019) |
| EndedAt: 2019-04-09 01:19:06 -0400 (Tue, 09 Apr 2019) |
| EllapsedTime: 283.3 seconds |
| RetCode: 0 |
| Status: OK |
| CheckDir: hiReadsProcessor.Rcheck |
| Warnings: 0 |
############################################################################## ############################################################################## ### ### Running command: ### ### /home/biocbuild/bbs-3.9-bioc/R/bin/R CMD check --install=check:hiReadsProcessor.install-out.txt --library=/home/biocbuild/bbs-3.9-bioc/R/library --no-vignettes --timings hiReadsProcessor_1.19.0.tar.gz ### ############################################################################## ############################################################################## * using log directory ‘/home/biocbuild/bbs-3.9-bioc/meat/hiReadsProcessor.Rcheck’ * using R Under development (unstable) (2019-03-18 r76245) * using platform: x86_64-pc-linux-gnu (64-bit) * using session charset: UTF-8 * using option ‘--no-vignettes’ * checking for file ‘hiReadsProcessor/DESCRIPTION’ ... OK * this is package ‘hiReadsProcessor’ version ‘1.19.0’ * checking package namespace information ... OK * checking package dependencies ... OK * checking if this is a source package ... OK * checking if there is a namespace ... OK * checking for hidden files and directories ... NOTE Found the following hidden files and directories: .BBSoptions These were most likely included in error. See section ‘Package structure’ in the ‘Writing R Extensions’ manual. * checking for portable file names ... OK * checking for sufficient/correct file permissions ... OK * checking whether package ‘hiReadsProcessor’ can be installed ... OK * checking installed package size ... OK * checking package directory ... OK * checking ‘build’ directory ... OK * checking DESCRIPTION meta-information ... OK * checking top-level files ... OK * checking for left-over files ... OK * checking index information ... OK * checking package subdirectories ... OK * checking R files for non-ASCII characters ... OK * checking R files for syntax errors ... OK * checking whether the package can be loaded ... OK * checking whether the package can be loaded with stated dependencies ... OK * checking whether the package can be unloaded cleanly ... OK * checking whether the namespace can be loaded with stated dependencies ... OK * checking whether the namespace can be unloaded cleanly ... OK * checking dependencies in R code ... OK * checking S3 generic/method consistency ... OK * checking replacement functions ... OK * checking foreign function calls ... OK * checking R code for possible problems ... NOTE chunkize: no visible global function definition for ‘breakInChunks’ chunkize: no visible global function definition for ‘detectCores’ clusterSites : <anonymous>: no visible binding for global variable ‘queryHits’ clusterSites: no visible binding for global variable ‘clusteredValue’ clusterSites: no visible binding for global variable ‘clusteredValue.freq’ crossOverCheck: no visible binding for global variable ‘queryHits’ decodeByBarcode: no visible global function definition for ‘metadata<-’ decodeByBarcode: no visible global function definition for ‘metadata’ extractSeqs : <anonymous>: no visible global function definition for ‘metadata’ extractSeqs : <anonymous> : <anonymous> : <anonymous>: no visible global function definition for ‘IRanges’ extractSeqs : <anonymous> : <anonymous>: no visible global function definition for ‘IRanges’ findBarcodes: no visible global function definition for ‘metadata<-’ findBarcodes: no visible global function definition for ‘metadata’ findIntegrations: no visible global function definition for ‘fasta.info’ findIntegrations : <anonymous>: no visible global function definition for ‘IRanges’ findVector : <anonymous>: no visible global function definition for ‘IRanges’ pairUpAlignments : <anonymous>: no visible binding for global variable ‘queryHits’ pairwiseAlignSeqs: no visible global function definition for ‘IRangesList’ pairwiseAlignSeqs: no visible global function definition for ‘IRanges’ primerIDAlignSeqs: no visible global function definition for ‘IRanges’ primerIDAlignSeqs: no visible global function definition for ‘IRangesList’ pslToRangedObject: no visible global function definition for ‘IRanges’ read.BAMasPSL: no visible global function definition for ‘ScanBamParam’ read.BAMasPSL: no visible global function definition for ‘scanBamFlag’ read.BAMasPSL: no visible global function definition for ‘DataFrame’ read.SeqFolder: no visible global function definition for ‘SimpleList’ read.psl: no visible global function definition for ‘mclapply’ read.psl : <anonymous>: no visible binding for global variable ‘matches’ read.psl : <anonymous>: no visible binding for global variable ‘misMatches’ read.psl : <anonymous>: no visible binding for global variable ‘qBaseInsert’ read.psl : <anonymous>: no visible binding for global variable ‘tBaseInsert’ read.psl: no visible binding for global variable ‘matches’ read.psl: no visible binding for global variable ‘misMatches’ read.psl: no visible binding for global variable ‘qBaseInsert’ read.psl: no visible binding for global variable ‘tBaseInsert’ read.sampleInfo: no visible global function definition for ‘SimpleList’ splitSeqsToFiles: no visible global function definition for ‘fasta.info’ vpairwiseAlignSeqs: no visible global function definition for ‘Rle’ vpairwiseAlignSeqs: no visible global function definition for ‘runLength’ vpairwiseAlignSeqs: no visible global function definition for ‘IRanges’ vpairwiseAlignSeqs: no visible global function definition for ‘runValue’ Undefined global functions or variables: DataFrame IRanges IRangesList Rle ScanBamParam SimpleList breakInChunks clusteredValue clusteredValue.freq detectCores fasta.info matches mclapply metadata metadata<- misMatches qBaseInsert queryHits runLength runValue scanBamFlag tBaseInsert * checking Rd files ... OK * checking Rd metadata ... OK * checking Rd cross-references ... OK * checking for missing documentation entries ... OK * checking for code/documentation mismatches ... OK * checking Rd \usage sections ... OK * checking Rd contents ... OK * checking for unstated dependencies in examples ... OK * checking contents of ‘data’ directory ... OK * checking data for non-ASCII characters ... OK * checking data for ASCII and uncompressed saves ... OK * checking files in ‘vignettes’ ... OK * checking examples ... OK * checking for unstated dependencies in vignettes ... OK * checking package vignettes in ‘inst/doc’ ... OK * checking running R code from vignettes ... SKIPPED * checking re-building of vignette outputs ... SKIPPED * checking PDF version of manual ... OK * DONE Status: 2 NOTEs See ‘/home/biocbuild/bbs-3.9-bioc/meat/hiReadsProcessor.Rcheck/00check.log’ for details.
hiReadsProcessor.Rcheck/00install.out
############################################################################## ############################################################################## ### ### Running command: ### ### /home/biocbuild/bbs-3.9-bioc/R/bin/R CMD INSTALL hiReadsProcessor ### ############################################################################## ############################################################################## * installing to library ‘/home/biocbuild/bbs-3.9-bioc/R/library’ * installing *source* package ‘hiReadsProcessor’ ... ** using staged installation ** R ** data ** inst ** byte-compile and prepare package for lazy loading ** help *** installing help indices ** building package indices ** installing vignettes ** testing if installed package can be loaded from temporary location ** testing if installed package can be loaded from final location ** testing if installed package keeps a record of temporary installation path * DONE (hiReadsProcessor)
hiReadsProcessor.Rcheck/hiReadsProcessor-Ex.timings
| name | user | system | elapsed | |
| addFeature | 0.945 | 0.008 | 0.978 | |
| addListNameToReads | 0.329 | 0.004 | 0.338 | |
| annotateSites | 0 | 0 | 0 | |
| blatSeqs | 0 | 0 | 0 | |
| chunkize | 0.032 | 0.000 | 0.032 | |
| clusterSites | 0.249 | 0.004 | 0.253 | |
| crossOverCheck | 0.218 | 0.023 | 0.243 | |
| dereplicateReads | 0.028 | 0.008 | 0.040 | |
| doRCtest | 0.154 | 0.232 | 0.524 | |
| extractFeature | 0.230 | 0.077 | 0.220 | |
| extractSeqs | 0.569 | 0.044 | 0.617 | |
| findAndTrimSeq | 1.923 | 0.131 | 2.056 | |
| findBarcodes | 0.773 | 0.000 | 0.772 | |
| findIntegrations | 0 | 0 | 0 | |
| findLTRs | 0.001 | 0.000 | 0.000 | |
| findLinkers | 0 | 0 | 0 | |
| findPrimers | 0 | 0 | 0 | |
| findVector | 0 | 0 | 0 | |
| getIntegrationSites | 1.654 | 0.000 | 1.658 | |
| getSectorsForSamples | 0.137 | 0.004 | 0.142 | |
| getSonicAbund | 0.356 | 0.020 | 0.411 | |
| isuSites | 3.103 | 0.008 | 3.122 | |
| otuSites | 3.608 | 0.007 | 3.637 | |
| pairUpAlignments | 0 | 0 | 0 | |
| pairwiseAlignSeqs | 2.471 | 0.606 | 3.020 | |
| primerIDAlignSeqs | 2.823 | 0.320 | 3.063 | |
| pslCols | 0 | 0 | 0 | |
| pslToRangedObject | 0.196 | 0.004 | 0.200 | |
| read.BAMasPSL | 0 | 0 | 0 | |
| read.SeqFolder | 1.239 | 0.016 | 1.262 | |
| read.blast8 | 0.001 | 0.000 | 0.000 | |
| read.psl | 0 | 0 | 0 | |
| read.sampleInfo | 1.231 | 0.004 | 1.256 | |
| read.seqsFromSector | 0 | 0 | 0 | |
| removeReadsWithNs | 0.022 | 0.000 | 0.021 | |
| replicateReads | 0.029 | 0.004 | 0.034 | |
| sampleSummary | 0.658 | 0.008 | 0.668 | |
| splitByBarcode | 0.037 | 0.000 | 0.037 | |
| splitSeqsToFiles | 0.228 | 0.004 | 0.235 | |
| startgfServer | 0 | 0 | 0 | |
| trimSeqs | 0.033 | 0.000 | 0.033 | |
| vpairwiseAlignSeqs | 1.859 | 0.598 | 2.349 | |
| write.listedDNAStringSet | 0.001 | 0.000 | 0.000 | |
| write.psl | 0.041 | 0.000 | 0.041 | |