| Back to Multiple platform build/check report for BioC 3.9 |
|
This page was generated on 2019-04-09 11:29:26 -0400 (Tue, 09 Apr 2019).
| Package 1079/1703 | Hostname | OS / Arch | INSTALL | BUILD | CHECK | BUILD BIN | ||||||
| netresponse 1.43.0 Leo Lahti
| malbec2 | Linux (Ubuntu 18.04.2 LTS) / x86_64 | [ OK ] | OK | WARNINGS | |||||||
| tokay2 | Windows Server 2012 R2 Standard / x64 | OK | OK | WARNINGS | OK | |||||||
| celaya2 | OS X 10.11.6 El Capitan / x86_64 | OK | OK | WARNINGS | OK | |||||||
| merida2 | OS X 10.11.6 El Capitan / x86_64 | OK | OK | WARNINGS | OK |
| Package: netresponse |
| Version: 1.43.0 |
| Command: /home/biocbuild/bbs-3.9-bioc/R/bin/R CMD INSTALL netresponse |
| StartedAt: 2019-04-08 18:20:32 -0400 (Mon, 08 Apr 2019) |
| EndedAt: 2019-04-08 18:20:50 -0400 (Mon, 08 Apr 2019) |
| EllapsedTime: 17.4 seconds |
| RetCode: 0 |
| Status: OK |
##############################################################################
##############################################################################
###
### Running command:
###
### /home/biocbuild/bbs-3.9-bioc/R/bin/R CMD INSTALL netresponse
###
##############################################################################
##############################################################################
* installing to library ‘/home/biocbuild/bbs-3.9-bioc/R/library’
* installing *source* package ‘netresponse’ ...
** using staged installation
** libs
gcc -I"/home/biocbuild/bbs-3.9-bioc/R/include" -DNDEBUG -I/usr/local/include -fpic -g -O2 -Wall -c netresponse.c -o netresponse.o
netresponse.c: In function ‘mHPpost’:
netresponse.c:264:15: warning: unused variable ‘prior_fields’ [-Wunused-variable]
const char *prior_fields[]={"Mumu","S2mu",
^˜˜˜˜˜˜˜˜˜˜˜
netresponse.c: In function ‘mLogLambda’:
netresponse.c:713:3: warning: ‘U_p’ may be used uninitialized in this function [-Wmaybe-uninitialized]
vdp_mk_log_lambda(Mumu, S2mu, Mubar, Mutilde,
^˜˜˜˜˜˜˜˜˜˜˜˜˜˜˜˜˜˜˜˜˜˜˜˜˜˜˜˜˜˜˜˜˜˜˜˜˜˜˜˜˜˜˜˜
AlphaKsi, BetaKsi, KsiAlpha, KsiBeta,
˜˜˜˜˜˜˜˜˜˜˜˜˜˜˜˜˜˜˜˜˜˜˜˜˜˜˜˜˜˜˜˜˜˜˜˜˜
post_gamma, log_lambda, prior_alpha,
˜˜˜˜˜˜˜˜˜˜˜˜˜˜˜˜˜˜˜˜˜˜˜˜˜˜˜˜˜˜˜˜˜˜˜˜
U_p, U_hat,
˜˜˜˜˜˜˜˜˜˜˜
datalen, dim1, dim2, data1, data2,
˜˜˜˜˜˜˜˜˜˜˜˜˜˜˜˜˜˜˜˜˜˜˜˜˜˜˜˜˜˜˜˜˜˜
Ns, ncentroids, implicitnoisevar);
˜˜˜˜˜˜˜˜˜˜˜˜˜˜˜˜˜˜˜˜˜˜˜˜˜˜˜˜˜˜˜˜˜
netresponse.c:713:3: warning: ‘KsiBeta’ may be used uninitialized in this function [-Wmaybe-uninitialized]
netresponse.c:713:3: warning: ‘KsiAlpha’ may be used uninitialized in this function [-Wmaybe-uninitialized]
netresponse.c:713:3: warning: ‘BetaKsi’ may be used uninitialized in this function [-Wmaybe-uninitialized]
netresponse.c:713:3: warning: ‘AlphaKsi’ may be used uninitialized in this function [-Wmaybe-uninitialized]
netresponse.c:713:3: warning: ‘Mutilde’ may be used uninitialized in this function [-Wmaybe-uninitialized]
netresponse.c:713:3: warning: ‘Mubar’ may be used uninitialized in this function [-Wmaybe-uninitialized]
netresponse.c:713:3: warning: ‘S2mu’ may be used uninitialized in this function [-Wmaybe-uninitialized]
netresponse.c:713:3: warning: ‘Mumu’ may be used uninitialized in this function [-Wmaybe-uninitialized]
gcc -shared -L/home/biocbuild/bbs-3.9-bioc/R/lib -L/usr/local/lib -o netresponse.so netresponse.o -L/home/biocbuild/bbs-3.9-bioc/R/lib -lR
installing to /home/biocbuild/bbs-3.9-bioc/R/library/00LOCK-netresponse/00new/netresponse/libs
** R
** data
** inst
** byte-compile and prepare package for lazy loading
** help
*** installing help indices
** building package indices
** installing vignettes
** testing if installed package can be loaded from temporary location
** checking absolute paths in shared objects and dynamic libraries
** testing if installed package can be loaded from final location
** testing if installed package keeps a record of temporary installation path
* DONE (netresponse)