| Back to Multiple platform build/check report for BioC 3.9 | 
 | 
This page was generated on 2019-04-09 11:51:10 -0400 (Tue, 09 Apr 2019).
| Package 727/1703 | Hostname | OS / Arch | INSTALL | BUILD | CHECK | BUILD BIN | ||||||
| gwasurvivr 1.1.0 Abbas Rizvi 
 | malbec2 | Linux (Ubuntu 18.04.2 LTS) / x86_64 | OK | [ OK ] | OK |  | ||||||
| tokay2 | Windows Server 2012 R2 Standard / x64 | OK | ERROR | skipped | skipped | |||||||
| celaya2 | OS X 10.11.6 El Capitan / x86_64 | OK | OK | OK | OK |  | ||||||
| merida2 | OS X 10.11.6 El Capitan / x86_64 | OK | OK | OK | OK | 
| Package: gwasurvivr | 
| Version: 1.1.0 | 
| Command: /home/biocbuild/bbs-3.9-bioc/R/bin/R CMD build --keep-empty-dirs --no-resave-data gwasurvivr | 
| StartedAt: 2019-04-08 22:08:50 -0400 (Mon, 08 Apr 2019) | 
| EndedAt: 2019-04-08 22:11:23 -0400 (Mon, 08 Apr 2019) | 
| EllapsedTime: 152.5 seconds | 
| RetCode: 0 | 
| Status: OK | 
| PackageFile: gwasurvivr_1.1.0.tar.gz | 
| PackageFileSize: 331.4 KiB | 
############################################################################## ############################################################################## ### ### Running command: ### ### /home/biocbuild/bbs-3.9-bioc/R/bin/R CMD build --keep-empty-dirs --no-resave-data gwasurvivr ### ############################################################################## ############################################################################## * checking for file ‘gwasurvivr/DESCRIPTION’ ... OK * preparing ‘gwasurvivr’: * checking DESCRIPTION meta-information ... OK * installing the package to build vignettes * creating vignettes ... OK * checking for LF line-endings in source and make files and shell scripts * checking for empty or unneeded directories * building ‘gwasurvivr_1.1.0.tar.gz’