| Back to Multiple platform build/check report for BioC 3.9 | 
 | 
This page was generated on 2019-04-09 11:51:37 -0400 (Tue, 09 Apr 2019).
| Package 1567/1703 | Hostname | OS / Arch | INSTALL | BUILD | CHECK | BUILD BIN | ||||||
| strandCheckR 1.1.1 Thu-Hien To 
 | malbec2 | Linux (Ubuntu 18.04.2 LTS) / x86_64 | OK | OK | [ OK ] |  | ||||||
| tokay2 | Windows Server 2012 R2 Standard / x64 | OK | OK | OK | OK |  | ||||||
| celaya2 | OS X 10.11.6 El Capitan / x86_64 | OK | OK | OK | OK |  | ||||||
| merida2 | OS X 10.11.6 El Capitan / x86_64 | OK | OK | OK | OK | 
| Package: strandCheckR | 
| Version: 1.1.1 | 
| Command: /home/biocbuild/bbs-3.9-bioc/R/bin/R CMD check --install=check:strandCheckR.install-out.txt --library=/home/biocbuild/bbs-3.9-bioc/R/library --no-vignettes --timings strandCheckR_1.1.1.tar.gz | 
| StartedAt: 2019-04-09 03:55:14 -0400 (Tue, 09 Apr 2019) | 
| EndedAt: 2019-04-09 03:59:15 -0400 (Tue, 09 Apr 2019) | 
| EllapsedTime: 241.1 seconds | 
| RetCode: 0 | 
| Status: OK | 
| CheckDir: strandCheckR.Rcheck | 
| Warnings: 0 | 
############################################################################## ############################################################################## ### ### Running command: ### ### /home/biocbuild/bbs-3.9-bioc/R/bin/R CMD check --install=check:strandCheckR.install-out.txt --library=/home/biocbuild/bbs-3.9-bioc/R/library --no-vignettes --timings strandCheckR_1.1.1.tar.gz ### ############################################################################## ############################################################################## * using log directory ‘/home/biocbuild/bbs-3.9-bioc/meat/strandCheckR.Rcheck’ * using R Under development (unstable) (2019-03-18 r76245) * using platform: x86_64-pc-linux-gnu (64-bit) * using session charset: UTF-8 * using option ‘--no-vignettes’ * checking for file ‘strandCheckR/DESCRIPTION’ ... OK * checking extension type ... Package * this is package ‘strandCheckR’ version ‘1.1.1’ * checking package namespace information ... OK * checking package dependencies ... OK * checking if this is a source package ... OK * checking if there is a namespace ... OK * checking for hidden files and directories ... OK * checking for portable file names ... OK * checking for sufficient/correct file permissions ... OK * checking whether package ‘strandCheckR’ can be installed ... OK * checking installed package size ... OK * checking package directory ... OK * checking ‘build’ directory ... OK * checking DESCRIPTION meta-information ... OK * checking top-level files ... OK * checking for left-over files ... OK * checking index information ... OK * checking package subdirectories ... OK * checking R files for non-ASCII characters ... OK * checking R files for syntax errors ... OK * checking whether the package can be loaded ... OK * checking whether the package can be loaded with stated dependencies ... OK * checking whether the package can be unloaded cleanly ... OK * checking whether the namespace can be loaded with stated dependencies ... OK * checking whether the namespace can be unloaded cleanly ... OK * checking dependencies in R code ... OK * checking S3 generic/method consistency ... OK * checking replacement functions ... OK * checking foreign function calls ... OK * checking R code for possible problems ... OK * checking Rd files ... OK * checking Rd metadata ... OK * checking Rd cross-references ... OK * checking for missing documentation entries ... OK * checking for code/documentation mismatches ... OK * checking Rd \usage sections ... OK * checking Rd contents ... OK * checking for unstated dependencies in examples ... OK * checking files in ‘vignettes’ ... OK * checking examples ... OK * checking for unstated dependencies in ‘tests’ ... OK * checking tests ... Running ‘testthat.R’ OK * checking for unstated dependencies in vignettes ... OK * checking package vignettes in ‘inst/doc’ ... OK * checking running R code from vignettes ... SKIPPED * checking re-building of vignette outputs ... SKIPPED * checking PDF version of manual ... OK * DONE Status: OK
strandCheckR.Rcheck/00install.out
############################################################################## ############################################################################## ### ### Running command: ### ### /home/biocbuild/bbs-3.9-bioc/R/bin/R CMD INSTALL strandCheckR ### ############################################################################## ############################################################################## * installing to library ‘/home/biocbuild/bbs-3.9-bioc/R/library’ * installing *source* package ‘strandCheckR’ ... ** using staged installation ** R ** inst ** byte-compile and prepare package for lazy loading ** help *** installing help indices ** building package indices ** installing vignettes ** testing if installed package can be loaded from temporary location ** testing if installed package can be loaded from final location ** testing if installed package keeps a record of temporary installation path * DONE (strandCheckR)
strandCheckR.Rcheck/tests/testthat.Rout
R Under development (unstable) (2019-03-18 r76245) -- "Unsuffered Consequences"
Copyright (C) 2019 The R Foundation for Statistical Computing
Platform: x86_64-pc-linux-gnu (64-bit)
R is free software and comes with ABSOLUTELY NO WARRANTY.
You are welcome to redistribute it under certain conditions.
Type 'license()' or 'licence()' for distribution details.
R is a collaborative project with many contributors.
Type 'contributors()' for more information and
'citation()' on how to cite R or R packages in publications.
Type 'demo()' for some demos, 'help()' for on-line help, or
'help.start()' for an HTML browser interface to help.
Type 'q()' to quit R.
> library(testthat)
> library(strandCheckR)
> 
> test_check("strandCheckR")
══ testthat results  ═══════════════════════════════════════════════════════════
OK: 28 SKIPPED: 1 FAILED: 0
> 
> proc.time()
   user  system elapsed 
 14.551   0.436  14.973 
strandCheckR.Rcheck/strandCheckR-Ex.timings
| name | user | system | elapsed | |
| checkPairedEnd | 0.044 | 0.000 | 0.057 | |
| filterDNA | 0.716 | 0.008 | 0.734 | |
| getWinFromBamFile | 0.467 | 0.008 | 0.476 | |
| intersectWithFeature | 4.047 | 0.020 | 4.080 | |
| plotHist | 0.528 | 0.012 | 0.541 | |
| plotWin | 1.783 | 0.004 | 1.787 | |
| strandCheckR-package | 1.504 | 0.044 | 1.548 | |