| Back to Multiple platform build/check report for BioC 3.9 |
|
This page was generated on 2019-04-09 11:44:14 -0400 (Tue, 09 Apr 2019).
| Package 163/1703 | Hostname | OS / Arch | INSTALL | BUILD | CHECK | BUILD BIN | ||||||
| BioQC 1.11.1 Jitao David Zhang
| malbec2 | Linux (Ubuntu 18.04.2 LTS) / x86_64 | OK | [ OK ] | WARNINGS | |||||||
| tokay2 | Windows Server 2012 R2 Standard / x64 | OK | OK | WARNINGS | OK | |||||||
| celaya2 | OS X 10.11.6 El Capitan / x86_64 | OK | OK | WARNINGS | OK | |||||||
| merida2 | OS X 10.11.6 El Capitan / x86_64 | OK | OK | WARNINGS | OK |
| Package: BioQC |
| Version: 1.11.1 |
| Command: /home/biocbuild/bbs-3.9-bioc/R/bin/R CMD build --keep-empty-dirs --no-resave-data BioQC |
| StartedAt: 2019-04-08 20:55:24 -0400 (Mon, 08 Apr 2019) |
| EndedAt: 2019-04-08 20:55:54 -0400 (Mon, 08 Apr 2019) |
| EllapsedTime: 30.5 seconds |
| RetCode: 0 |
| Status: OK |
| PackageFile: BioQC_1.11.1.tar.gz |
| PackageFileSize: 602.7 KiB |
##############################################################################
##############################################################################
###
### Running command:
###
### /home/biocbuild/bbs-3.9-bioc/R/bin/R CMD build --keep-empty-dirs --no-resave-data BioQC
###
##############################################################################
##############################################################################
* checking for file ‘BioQC/DESCRIPTION’ ... OK
* preparing ‘BioQC’:
* checking DESCRIPTION meta-information ... OK
* cleaning src
* installing the package to build vignettes
* creating vignettes ... OK
Warning: ‘inst/doc’ files
‘bioqc-efficiency.R’, ‘bioqc-signedGenesets.R’
ignored as vignettes have been rebuilt.
Run R CMD build with --no-build-vignettes to prevent rebuilding.
* cleaning src
* checking for LF line-endings in source and make files and shell scripts
* checking for empty or unneeded directories
* building ‘BioQC_1.11.1.tar.gz’