| Back to Multiple platform build/check report for BioC 3.9 |
|
This page was generated on 2019-04-09 11:32:01 -0400 (Tue, 09 Apr 2019).
| Package 783/1703 | Hostname | OS / Arch | INSTALL | BUILD | CHECK | BUILD BIN | ||||||
| IdMappingAnalysis 1.27.0 Alex Lisovich
| malbec2 | Linux (Ubuntu 18.04.2 LTS) / x86_64 | OK | [ OK ] | OK | |||||||
| tokay2 | Windows Server 2012 R2 Standard / x64 | OK | OK | OK | OK | |||||||
| celaya2 | OS X 10.11.6 El Capitan / x86_64 | OK | OK | OK | OK | |||||||
| merida2 | OS X 10.11.6 El Capitan / x86_64 | OK | OK | OK | OK |
| Package: IdMappingAnalysis |
| Version: 1.27.0 |
| Command: /home/biocbuild/bbs-3.9-bioc/R/bin/R CMD build --keep-empty-dirs --no-resave-data IdMappingAnalysis |
| StartedAt: 2019-04-08 19:45:18 -0400 (Mon, 08 Apr 2019) |
| EndedAt: 2019-04-08 19:46:00 -0400 (Mon, 08 Apr 2019) |
| EllapsedTime: 42.7 seconds |
| RetCode: 0 |
| Status: OK |
| PackageFile: IdMappingAnalysis_1.27.0.tar.gz |
| PackageFileSize: 1.911 MiB |
##############################################################################
##############################################################################
###
### Running command:
###
### /home/biocbuild/bbs-3.9-bioc/R/bin/R CMD build --keep-empty-dirs --no-resave-data IdMappingAnalysis
###
##############################################################################
##############################################################################
* checking for file ‘IdMappingAnalysis/DESCRIPTION’ ... OK
* preparing ‘IdMappingAnalysis’:
* checking DESCRIPTION meta-information ... OK
* installing the package to build vignettes
* creating vignettes ... OK
Warning: ‘inst/doc’ file
‘IdMappingAnalysis.Rnw’
ignored as vignettes have been rebuilt.
Run R CMD build with --no-build-vignettes to prevent rebuilding.
* checking for LF line-endings in source and make files and shell scripts
* checking for empty or unneeded directories
* looking to see if a ‘data/datalist’ file should be added
* building ‘IdMappingAnalysis_1.27.0.tar.gz’