| Back to Multiple platform build/check report for BioC 3.9 |
|
This page was generated on 2019-04-09 11:49:40 -0400 (Tue, 09 Apr 2019).
| Package 1338/1703 | Hostname | OS / Arch | INSTALL | BUILD | CHECK | BUILD BIN | ||||||
| RGMQL 1.3.0 Simone Pallotta
| malbec2 | Linux (Ubuntu 18.04.2 LTS) / x86_64 | OK | OK | [ OK ] | |||||||
| tokay2 | Windows Server 2012 R2 Standard / x64 | OK | OK | OK | OK | |||||||
| celaya2 | OS X 10.11.6 El Capitan / x86_64 | OK | ERROR | skipped | skipped | |||||||
| merida2 | OS X 10.11.6 El Capitan / x86_64 | OK | OK | OK | OK |
| Package: RGMQL |
| Version: 1.3.0 |
| Command: /home/biocbuild/bbs-3.9-bioc/R/bin/R CMD check --install=check:RGMQL.install-out.txt --library=/home/biocbuild/bbs-3.9-bioc/R/library --no-vignettes --timings RGMQL_1.3.0.tar.gz |
| StartedAt: 2019-04-09 03:12:00 -0400 (Tue, 09 Apr 2019) |
| EndedAt: 2019-04-09 03:16:03 -0400 (Tue, 09 Apr 2019) |
| EllapsedTime: 243.0 seconds |
| RetCode: 0 |
| Status: OK |
| CheckDir: RGMQL.Rcheck |
| Warnings: 0 |
##############################################################################
##############################################################################
###
### Running command:
###
### /home/biocbuild/bbs-3.9-bioc/R/bin/R CMD check --install=check:RGMQL.install-out.txt --library=/home/biocbuild/bbs-3.9-bioc/R/library --no-vignettes --timings RGMQL_1.3.0.tar.gz
###
##############################################################################
##############################################################################
* using log directory ‘/home/biocbuild/bbs-3.9-bioc/meat/RGMQL.Rcheck’
* using R Under development (unstable) (2019-03-18 r76245)
* using platform: x86_64-pc-linux-gnu (64-bit)
* using session charset: UTF-8
* using option ‘--no-vignettes’
* checking for file ‘RGMQL/DESCRIPTION’ ... OK
* checking extension type ... Package
* this is package ‘RGMQL’ version ‘1.3.0’
* package encoding: UTF-8
* checking package namespace information ... OK
* checking package dependencies ... OK
* checking if this is a source package ... OK
* checking if there is a namespace ... OK
* checking for hidden files and directories ... OK
* checking for portable file names ... OK
* checking for sufficient/correct file permissions ... OK
* checking whether package ‘RGMQL’ can be installed ... OK
* checking installed package size ... NOTE
installed size is 20.1Mb
sub-directories of 1Mb or more:
example 19.5Mb
* checking package directory ... OK
* checking ‘build’ directory ... OK
* checking DESCRIPTION meta-information ... OK
* checking top-level files ... OK
* checking for left-over files ... OK
* checking index information ... OK
* checking package subdirectories ... OK
* checking R files for non-ASCII characters ... OK
* checking R files for syntax errors ... OK
* checking whether the package can be loaded ... OK
* checking whether the package can be loaded with stated dependencies ... OK
* checking whether the package can be unloaded cleanly ... OK
* checking whether the namespace can be loaded with stated dependencies ... OK
* checking whether the namespace can be unloaded cleanly ... OK
* checking dependencies in R code ... OK
* checking S3 generic/method consistency ... OK
* checking replacement functions ... OK
* checking foreign function calls ... OK
* checking R code for possible problems ... NOTE
File ‘RGMQL/R/onLoad.R’:
.onLoad calls:
packageStartupMessage("Check if GMQL credentials are expired... \n")
See section ‘Good practice’ in '?.onAttach'.
* checking Rd files ... OK
* checking Rd metadata ... OK
* checking Rd cross-references ... OK
* checking for missing documentation entries ... OK
* checking for code/documentation mismatches ... OK
* checking Rd \usage sections ... OK
* checking Rd contents ... OK
* checking for unstated dependencies in examples ... OK
* checking files in ‘vignettes’ ... OK
* checking examples ... OK
Examples with CPU or elapsed time > 5s
user system elapsed
aggr-class 9.428 0.457 15.309
take 5.711 0.211 7.089
show_dataset 0.075 0.013 11.236
* checking for unstated dependencies in vignettes ... OK
* checking package vignettes in ‘inst/doc’ ... OK
* checking running R code from vignettes ... SKIPPED
* checking re-building of vignette outputs ... SKIPPED
* checking PDF version of manual ... OK
* DONE
Status: 2 NOTEs
See
‘/home/biocbuild/bbs-3.9-bioc/meat/RGMQL.Rcheck/00check.log’
for details.
RGMQL.Rcheck/00install.out
############################################################################## ############################################################################## ### ### Running command: ### ### /home/biocbuild/bbs-3.9-bioc/R/bin/R CMD INSTALL RGMQL ### ############################################################################## ############################################################################## * installing to library ‘/home/biocbuild/bbs-3.9-bioc/R/library’ * installing *source* package ‘RGMQL’ ... ** using staged installation ** R ** inst ** byte-compile and prepare package for lazy loading ** help *** installing help indices ** building package indices ** installing vignettes ** testing if installed package can be loaded from temporary location ** testing if installed package can be loaded from final location ** testing if installed package keeps a record of temporary installation path * DONE (RGMQL)
RGMQL.Rcheck/RGMQL-Ex.timings
| name | user | system | elapsed | |
| aggr-class | 9.428 | 0.457 | 15.309 | |
| aggregate | 0.039 | 0.004 | 0.033 | |
| arrange | 0.061 | 0.000 | 0.041 | |
| collect | 0.058 | 0.000 | 0.046 | |
| compile_query | 0.260 | 0.004 | 1.651 | |
| cover-param-class | 0.102 | 0.007 | 0.064 | |
| cover | 0.064 | 0.000 | 0.048 | |
| delete_dataset | 0.001 | 0.000 | 0.000 | |
| distal-class | 0.092 | 0.000 | 0.219 | |
| download_dataset | 0 | 0 | 0 | |
| execute | 0.045 | 0.003 | 0.030 | |
| export_gmql | 0.579 | 0.084 | 0.944 | |
| extend | 0.048 | 0.004 | 0.040 | |
| filter | 0.128 | 0.015 | 0.101 | |
| filter_and_extract | 0.535 | 0.040 | 1.234 | |
| group_by | 0.126 | 0.011 | 0.074 | |
| import_gmql | 0.182 | 0.020 | 0.099 | |
| init_gmql | 0.033 | 0.000 | 0.199 | |
| log_job | 0.030 | 0.000 | 0.319 | |
| login_gmql | 0.018 | 0.000 | 0.189 | |
| map | 0.068 | 0.005 | 0.061 | |
| merge | 0.074 | 0.004 | 0.052 | |
| operator-class | 0.183 | 0.012 | 0.184 | |
| ordering-class | 0.047 | 0.000 | 0.043 | |
| read-function | 0.098 | 0.004 | 0.369 | |
| register_gmql | 0.001 | 0.000 | 0.000 | |
| remote_processing | 0.016 | 0.000 | 0.008 | |
| run_query | 0.001 | 0.000 | 0.000 | |
| sample_metadata | 0.040 | 0.000 | 0.464 | |
| sample_region | 0.001 | 0.000 | 0.000 | |
| save_query | 0.060 | 0.000 | 0.805 | |
| select | 0.068 | 0.004 | 0.072 | |
| semijoin | 0.070 | 0.000 | 0.052 | |
| setdiff | 0.056 | 0.003 | 0.053 | |
| show_dataset | 0.075 | 0.013 | 11.236 | |
| show_jobs_list | 0.030 | 0.000 | 0.366 | |
| show_queries_list | 0.030 | 0.000 | 0.322 | |
| show_samples_list | 0.026 | 0.000 | 0.331 | |
| show_schema | 0.028 | 0.000 | 0.329 | |
| stop_gmql | 0.133 | 0.032 | 0.383 | |
| stop_job | 0 | 0 | 0 | |
| take | 5.711 | 0.211 | 7.089 | |
| union | 0.054 | 0.012 | 0.047 | |
| upload_dataset | 0.000 | 0.000 | 0.001 | |