| Back to Multiple platform build/check report for BioC 3.9 | 
 | 
This page was generated on 2019-04-09 11:40:04 -0400 (Tue, 09 Apr 2019).
| Package 1136/1703 | Hostname | OS / Arch | INSTALL | BUILD | CHECK | BUILD BIN | ||||||
| PAA 1.17.0 Michael Turewicz 
 | malbec2 | Linux (Ubuntu 18.04.2 LTS) / x86_64 | OK | [ OK ] | OK |  | ||||||
| tokay2 | Windows Server 2012 R2 Standard / x64 | OK | OK | OK | OK |  | ||||||
| celaya2 | OS X 10.11.6 El Capitan / x86_64 | OK | OK | OK | OK |  | ||||||
| merida2 | OS X 10.11.6 El Capitan / x86_64 | OK | OK | OK | OK | 
| Package: PAA | 
| Version: 1.17.0 | 
| Command: /home/biocbuild/bbs-3.9-bioc/R/bin/R CMD build --keep-empty-dirs --no-resave-data PAA | 
| StartedAt: 2019-04-08 20:26:33 -0400 (Mon, 08 Apr 2019) | 
| EndedAt: 2019-04-08 20:29:20 -0400 (Mon, 08 Apr 2019) | 
| EllapsedTime: 166.2 seconds | 
| RetCode: 0 | 
| Status: OK | 
| PackageFile: PAA_1.17.0.tar.gz | 
| PackageFileSize: 3.887 MiB | 
##############################################################################
##############################################################################
###
### Running command:
###
###   /home/biocbuild/bbs-3.9-bioc/R/bin/R CMD build --keep-empty-dirs --no-resave-data PAA
###
##############################################################################
##############################################################################
* checking for file ‘PAA/DESCRIPTION’ ... OK
* preparing ‘PAA’:
* checking DESCRIPTION meta-information ... OK
* cleaning src
* installing the package to build vignettes
* creating vignettes ... OK
Warning: ‘inst/doc’ file
    ‘PAA_vignette.pdf’
  ignored as vignettes have been rebuilt.
  Run R CMD build with --no-build-vignettes to prevent rebuilding.
* cleaning src
* checking for LF line-endings in source and make files and shell scripts
* checking for empty or unneeded directories
* building ‘PAA_1.17.0.tar.gz’