| Back to Multiple platform build/check report for BioC 3.9 |
|
This page was generated on 2019-04-09 11:51:49 -0400 (Tue, 09 Apr 2019).
| Package 1693/1703 | Hostname | OS / Arch | INSTALL | BUILD | CHECK | BUILD BIN | ||||||
| XINA 1.1.1 Lang Ho Lee
| malbec2 | Linux (Ubuntu 18.04.2 LTS) / x86_64 | OK | OK | [ OK ] | |||||||
| tokay2 | Windows Server 2012 R2 Standard / x64 | OK | OK | OK | OK | |||||||
| celaya2 | OS X 10.11.6 El Capitan / x86_64 | OK | OK | OK | OK | |||||||
| merida2 | OS X 10.11.6 El Capitan / x86_64 | OK | OK | OK | OK |
| Package: XINA |
| Version: 1.1.1 |
| Command: /home/biocbuild/bbs-3.9-bioc/R/bin/R CMD check --install=check:XINA.install-out.txt --library=/home/biocbuild/bbs-3.9-bioc/R/library --no-vignettes --timings XINA_1.1.1.tar.gz |
| StartedAt: 2019-04-09 04:21:07 -0400 (Tue, 09 Apr 2019) |
| EndedAt: 2019-04-09 04:23:45 -0400 (Tue, 09 Apr 2019) |
| EllapsedTime: 157.9 seconds |
| RetCode: 0 |
| Status: OK |
| CheckDir: XINA.Rcheck |
| Warnings: 0 |
##############################################################################
##############################################################################
###
### Running command:
###
### /home/biocbuild/bbs-3.9-bioc/R/bin/R CMD check --install=check:XINA.install-out.txt --library=/home/biocbuild/bbs-3.9-bioc/R/library --no-vignettes --timings XINA_1.1.1.tar.gz
###
##############################################################################
##############################################################################
* using log directory ‘/home/biocbuild/bbs-3.9-bioc/meat/XINA.Rcheck’
* using R Under development (unstable) (2019-03-18 r76245)
* using platform: x86_64-pc-linux-gnu (64-bit)
* using session charset: UTF-8
* using option ‘--no-vignettes’
* checking for file ‘XINA/DESCRIPTION’ ... OK
* checking extension type ... Package
* this is package ‘XINA’ version ‘1.1.1’
* package encoding: UTF-8
* checking package namespace information ... OK
* checking package dependencies ... OK
* checking if this is a source package ... OK
* checking if there is a namespace ... OK
* checking for hidden files and directories ... OK
* checking for portable file names ... OK
* checking for sufficient/correct file permissions ... OK
* checking whether package ‘XINA’ can be installed ... OK
* checking installed package size ... OK
* checking package directory ... OK
* checking ‘build’ directory ... OK
* checking DESCRIPTION meta-information ... OK
* checking top-level files ... OK
* checking for left-over files ... OK
* checking index information ... OK
* checking package subdirectories ... OK
* checking R files for non-ASCII characters ... OK
* checking R files for syntax errors ... OK
* checking whether the package can be loaded ... OK
* checking whether the package can be loaded with stated dependencies ... OK
* checking whether the package can be unloaded cleanly ... OK
* checking whether the namespace can be loaded with stated dependencies ... OK
* checking whether the namespace can be unloaded cleanly ... OK
* checking dependencies in R code ... NOTE
Package in Depends field not imported from: ‘Biobase’
These packages need to be imported from (in the NAMESPACE file)
for when this namespace is loaded but not attached.
* checking S3 generic/method consistency ... OK
* checking replacement functions ... OK
* checking foreign function calls ... OK
* checking R code for possible problems ... OK
* checking Rd files ... OK
* checking Rd metadata ... OK
* checking Rd cross-references ... OK
* checking for missing documentation entries ... OK
* checking for code/documentation mismatches ... OK
* checking Rd \usage sections ... OK
* checking Rd contents ... OK
* checking for unstated dependencies in examples ... OK
* checking contents of ‘data’ directory ... OK
* checking data for non-ASCII characters ... OK
* checking data for ASCII and uncompressed saves ... OK
* checking files in ‘vignettes’ ... OK
* checking examples ... OK
Examples with CPU or elapsed time > 5s
user system elapsed
xina_clustering 41.623 0.035 41.667
plot_condition_compositions 21.611 0.008 21.628
mutate_colors 10.585 0.008 10.593
plot_clusters 10.302 0.012 10.328
get_condition_biased_comigrations 7.770 0.028 7.798
* checking for unstated dependencies in vignettes ... OK
* checking package vignettes in ‘inst/doc’ ... OK
* checking running R code from vignettes ... SKIPPED
* checking re-building of vignette outputs ... SKIPPED
* checking PDF version of manual ... OK
* DONE
Status: 1 NOTE
See
‘/home/biocbuild/bbs-3.9-bioc/meat/XINA.Rcheck/00check.log’
for details.
XINA.Rcheck/00install.out
############################################################################## ############################################################################## ### ### Running command: ### ### /home/biocbuild/bbs-3.9-bioc/R/bin/R CMD INSTALL XINA ### ############################################################################## ############################################################################## * installing to library ‘/home/biocbuild/bbs-3.9-bioc/R/library’ * installing *source* package ‘XINA’ ... ** using staged installation ** R ** data ** byte-compile and prepare package for lazy loading ** help *** installing help indices ** building package indices ** installing vignettes ** testing if installed package can be loaded from temporary location ** testing if installed package can be loaded from final location ** testing if installed package keeps a record of temporary installation path * DONE (XINA)
XINA.Rcheck/XINA-Ex.timings
| name | user | system | elapsed | |
| alluvial_enriched | 2.622 | 0.016 | 2.639 | |
| draw_alluvial_plot | 0.053 | 0.000 | 0.053 | |
| get_comigrations_by_name | 0.034 | 0.000 | 0.035 | |
| get_condition_biased_comigrations | 7.770 | 0.028 | 7.798 | |
| get_unknown_ppi_nodes | 0.086 | 0.000 | 0.085 | |
| load_previous_results | 1.015 | 0.008 | 1.022 | |
| make_random_xina_data | 0.173 | 0.008 | 0.180 | |
| mutate_colors | 10.585 | 0.008 | 10.593 | |
| plot_clusters | 10.302 | 0.012 | 10.328 | |
| plot_clusters_all | 1.150 | 0.008 | 1.159 | |
| plot_condition_compositions | 21.611 | 0.008 | 21.628 | |
| plot_enrichment_results | 0 | 0 | 0 | |
| xina_analysis | 0.001 | 0.000 | 0.001 | |
| xina_clustering | 41.623 | 0.035 | 41.667 | |
| xina_enrichment | 0.001 | 0.000 | 0.000 | |
| xina_plot_all | 4.155 | 0.060 | 4.215 | |
| xina_plot_bycluster | 0.173 | 0.008 | 0.181 | |
| xina_plot_single | 0.141 | 0.000 | 0.141 | |