| Back to Multiple platform build/check report for BioC 3.9 | 
 | 
This page was generated on 2019-04-09 11:49:51 -0400 (Tue, 09 Apr 2019).
| Package 1442/1703 | Hostname | OS / Arch | INSTALL | BUILD | CHECK | BUILD BIN | ||||||
| scmeth 1.3.3 Divy Kangeyan 
 | malbec2 | Linux (Ubuntu 18.04.2 LTS) / x86_64 | OK | OK | [ OK ] |  | ||||||
| tokay2 | Windows Server 2012 R2 Standard / x64 | OK | OK | OK | OK |  | ||||||
| celaya2 | OS X 10.11.6 El Capitan / x86_64 | OK | OK | OK | OK |  | ||||||
| merida2 | OS X 10.11.6 El Capitan / x86_64 | OK | OK | OK | OK | 
| Package: scmeth | 
| Version: 1.3.3 | 
| Command: /home/biocbuild/bbs-3.9-bioc/R/bin/R CMD check --install=check:scmeth.install-out.txt --library=/home/biocbuild/bbs-3.9-bioc/R/library --no-vignettes --timings scmeth_1.3.3.tar.gz | 
| StartedAt: 2019-04-09 03:30:24 -0400 (Tue, 09 Apr 2019) | 
| EndedAt: 2019-04-09 03:36:35 -0400 (Tue, 09 Apr 2019) | 
| EllapsedTime: 371.1 seconds | 
| RetCode: 0 | 
| Status: OK | 
| CheckDir: scmeth.Rcheck | 
| Warnings: 0 | 
##############################################################################
##############################################################################
###
### Running command:
###
###   /home/biocbuild/bbs-3.9-bioc/R/bin/R CMD check --install=check:scmeth.install-out.txt --library=/home/biocbuild/bbs-3.9-bioc/R/library --no-vignettes --timings scmeth_1.3.3.tar.gz
###
##############################################################################
##############################################################################
* using log directory ‘/home/biocbuild/bbs-3.9-bioc/meat/scmeth.Rcheck’
* using R Under development (unstable) (2019-03-18 r76245)
* using platform: x86_64-pc-linux-gnu (64-bit)
* using session charset: UTF-8
* using option ‘--no-vignettes’
* checking for file ‘scmeth/DESCRIPTION’ ... OK
* checking extension type ... Package
* this is package ‘scmeth’ version ‘1.3.3’
* checking package namespace information ... OK
* checking package dependencies ... OK
* checking if this is a source package ... OK
* checking if there is a namespace ... OK
* checking for hidden files and directories ... OK
* checking for portable file names ... OK
* checking for sufficient/correct file permissions ... OK
* checking whether package ‘scmeth’ can be installed ... OK
* checking installed package size ... OK
* checking package directory ... OK
* checking ‘build’ directory ... OK
* checking DESCRIPTION meta-information ... OK
* checking top-level files ... OK
* checking for left-over files ... OK
* checking index information ... OK
* checking package subdirectories ... OK
* checking R files for non-ASCII characters ... OK
* checking R files for syntax errors ... OK
* checking whether the package can be loaded ... OK
* checking whether the package can be loaded with stated dependencies ... OK
* checking whether the package can be unloaded cleanly ... OK
* checking whether the namespace can be loaded with stated dependencies ... OK
* checking whether the namespace can be unloaded cleanly ... OK
* checking dependencies in R code ... NOTE
Namespace in Imports field not imported from: ‘reshape2’
  All declared Imports should be used.
* checking S3 generic/method consistency ... OK
* checking replacement functions ... OK
* checking foreign function calls ... OK
* checking R code for possible problems ... OK
* checking Rd files ... OK
* checking Rd metadata ... OK
* checking Rd cross-references ... OK
* checking for missing documentation entries ... OK
* checking for code/documentation mismatches ... OK
* checking Rd \usage sections ... OK
* checking Rd contents ... OK
* checking for unstated dependencies in examples ... OK
* checking files in ‘vignettes’ ... OK
* checking examples ... OK
Examples with CPU or elapsed time > 5s
                  user system elapsed
report          55.554  1.506  60.185
repMask         14.430  0.630  20.299
cpgDensity       3.635  0.208   5.198
featureCoverage  2.491  0.048   5.140
* checking for unstated dependencies in vignettes ... OK
* checking package vignettes in ‘inst/doc’ ... OK
* checking running R code from vignettes ... SKIPPED
* checking re-building of vignette outputs ... SKIPPED
* checking PDF version of manual ... OK
* DONE
Status: 1 NOTE
See
  ‘/home/biocbuild/bbs-3.9-bioc/meat/scmeth.Rcheck/00check.log’
for details.
scmeth.Rcheck/00install.out
############################################################################## ############################################################################## ### ### Running command: ### ### /home/biocbuild/bbs-3.9-bioc/R/bin/R CMD INSTALL scmeth ### ############################################################################## ############################################################################## * installing to library ‘/home/biocbuild/bbs-3.9-bioc/R/library’ * installing *source* package ‘scmeth’ ... ** using staged installation ** R ** inst ** byte-compile and prepare package for lazy loading ** help *** installing help indices ** building package indices ** installing vignettes ** testing if installed package can be loaded from temporary location ** testing if installed package can be loaded from final location ** testing if installed package keeps a record of temporary installation path * DONE (scmeth)
scmeth.Rcheck/scmeth-Ex.timings
| name | user | system | elapsed | |
| bsConversionPlot | 0.258 | 0.000 | 0.272 | |
| chromosomeCoverage | 0.567 | 0.019 | 0.676 | |
| coverage | 0.135 | 0.008 | 0.142 | |
| cpgDensity | 3.635 | 0.208 | 5.198 | |
| cpgDiscretization | 0.287 | 0.012 | 0.299 | |
| downsample | 0.514 | 0.000 | 0.514 | |
| featureCoverage | 2.491 | 0.048 | 5.140 | |
| mbiasplot | 0.008 | 0.000 | 0.102 | |
| methylationDist | 0.161 | 0.004 | 0.165 | |
| readmetrics | 0.075 | 0.000 | 0.075 | |
| repMask | 14.430 | 0.630 | 20.299 | |
| report | 55.554 | 1.506 | 60.185 | |