| Back to Multiple platform build/check report for BioC 3.9 |
|
This page was generated on 2019-04-09 11:33:04 -0400 (Tue, 09 Apr 2019).
| Package 1683/1703 | Hostname | OS / Arch | INSTALL | BUILD | CHECK | BUILD BIN | ||||||
| waveTiling 1.25.0 Kristof De Beuf
| malbec2 | Linux (Ubuntu 18.04.2 LTS) / x86_64 | [ OK ] | OK | OK | |||||||
| tokay2 | Windows Server 2012 R2 Standard / x64 | OK | OK | OK | OK | |||||||
| celaya2 | OS X 10.11.6 El Capitan / x86_64 | OK | OK | OK | OK | |||||||
| merida2 | OS X 10.11.6 El Capitan / x86_64 | OK | OK | OK | OK |
| Package: waveTiling |
| Version: 1.25.0 |
| Command: /home/biocbuild/bbs-3.9-bioc/R/bin/R CMD INSTALL waveTiling |
| StartedAt: 2019-04-08 18:27:28 -0400 (Mon, 08 Apr 2019) |
| EndedAt: 2019-04-08 18:28:14 -0400 (Mon, 08 Apr 2019) |
| EllapsedTime: 45.2 seconds |
| RetCode: 0 |
| Status: OK |
##############################################################################
##############################################################################
###
### Running command:
###
### /home/biocbuild/bbs-3.9-bioc/R/bin/R CMD INSTALL waveTiling
###
##############################################################################
##############################################################################
* installing to library ‘/home/biocbuild/bbs-3.9-bioc/R/library’
* installing *source* package ‘waveTiling’ ...
** using staged installation
** libs
gcc -I"/home/biocbuild/bbs-3.9-bioc/R/include" -DNDEBUG -I/usr/local/include -fpic -g -O2 -Wall -c waveTiling.c -o waveTiling.o
waveTiling.c: In function ‘MAPMARG’:
waveTiling.c:10:11: warning: unused variable ‘n’ [-Wunused-variable]
int i,j,m,n,Jcount=0;
^
waveTiling.c: In function ‘MAPMARGEQSMOOTH’:
waveTiling.c:43:11: warning: unused variable ‘n’ [-Wunused-variable]
int i,j,m,n,Jcount=0;
^
waveTiling.c: In function ‘MAPMARGIMP’:
waveTiling.c:81:11: warning: unused variable ‘n’ [-Wunused-variable]
int i,j,m,n,Jcount=0;
^
waveTiling.c: In function ‘MAPMARGIMPEQSMOOTH’:
waveTiling.c:114:11: warning: unused variable ‘n’ [-Wunused-variable]
int i,j,m,n,Jcount=0;
^
gcc -shared -L/home/biocbuild/bbs-3.9-bioc/R/lib -L/usr/local/lib -o waveTiling.so waveTiling.o -L/home/biocbuild/bbs-3.9-bioc/R/lib -lR
installing to /home/biocbuild/bbs-3.9-bioc/R/library/00LOCK-waveTiling/00new/waveTiling/libs
** R
** inst
** byte-compile and prepare package for lazy loading
** help
*** installing help indices
** building package indices
** installing vignettes
** testing if installed package can be loaded from temporary location
** checking absolute paths in shared objects and dynamic libraries
** testing if installed package can be loaded from final location
** testing if installed package keeps a record of temporary installation path
* DONE (waveTiling)