| Back to Multiple platform build/check report for BioC 3.9 |
|
This page was generated on 2019-04-09 11:35:40 -0400 (Tue, 09 Apr 2019).
| Package 1410/1703 | Hostname | OS / Arch | INSTALL | BUILD | CHECK | BUILD BIN | ||||||
| rTRM 1.21.0 Diego Diez
| malbec2 | Linux (Ubuntu 18.04.2 LTS) / x86_64 | [ OK ] | OK | OK | |||||||
| tokay2 | Windows Server 2012 R2 Standard / x64 | OK | OK | OK | OK | |||||||
| celaya2 | OS X 10.11.6 El Capitan / x86_64 | OK | OK | OK | OK | |||||||
| merida2 | OS X 10.11.6 El Capitan / x86_64 | OK | OK | OK | OK |
| Package: rTRM |
| Version: 1.21.0 |
| Command: /home/biocbuild/bbs-3.9-bioc/R/bin/R CMD INSTALL rTRM |
| StartedAt: 2019-04-08 18:02:50 -0400 (Mon, 08 Apr 2019) |
| EndedAt: 2019-04-08 18:03:07 -0400 (Mon, 08 Apr 2019) |
| EllapsedTime: 16.6 seconds |
| RetCode: 0 |
| Status: OK |
##############################################################################
##############################################################################
###
### Running command:
###
### /home/biocbuild/bbs-3.9-bioc/R/bin/R CMD INSTALL rTRM
###
##############################################################################
##############################################################################
* installing to library ‘/home/biocbuild/bbs-3.9-bioc/R/library’
* installing *source* package ‘rTRM’ ...
** using staged installation
** R
** data
** inst
** byte-compile and prepare package for lazy loading
** help
Loading required package: igraph
Attaching package: ‘igraph’
The following objects are masked from ‘package:stats’:
decompose, spectrum
The following object is masked from ‘package:base’:
union
*** installing help indices
** building package indices
** installing vignettes
** testing if installed package can be loaded from temporary location
** testing if installed package can be loaded from final location
** testing if installed package keeps a record of temporary installation path
* DONE (rTRM)