| Back to Multiple platform build/check report for BioC 3.9 | 
 | 
This page was generated on 2019-04-09 11:25:26 -0400 (Tue, 09 Apr 2019).
| Package 199/1703 | Hostname | OS / Arch | INSTALL | BUILD | CHECK | BUILD BIN | ||||||
| CALIB 1.49.0 Hui Zhao 
 | malbec2 | Linux (Ubuntu 18.04.2 LTS) / x86_64 | [ OK ] | OK | WARNINGS |  | ||||||
| tokay2 | Windows Server 2012 R2 Standard / x64 | OK | OK | OK | OK |  | ||||||
| celaya2 | OS X 10.11.6 El Capitan / x86_64 | OK | OK | WARNINGS | OK |  | ||||||
| merida2 | OS X 10.11.6 El Capitan / x86_64 | OK | OK | WARNINGS | OK | 
| Package: CALIB | 
| Version: 1.49.0 | 
| Command: /home/biocbuild/bbs-3.9-bioc/R/bin/R CMD INSTALL CALIB | 
| StartedAt: 2019-04-08 17:59:57 -0400 (Mon, 08 Apr 2019) | 
| EndedAt: 2019-04-08 18:00:20 -0400 (Mon, 08 Apr 2019) | 
| EllapsedTime: 23.9 seconds | 
| RetCode: 0 | 
| Status: OK | 
##############################################################################
##############################################################################
###
### Running command:
###
###   /home/biocbuild/bbs-3.9-bioc/R/bin/R CMD INSTALL CALIB
###
##############################################################################
##############################################################################
* installing to library ‘/home/biocbuild/bbs-3.9-bioc/R/library’
* installing *source* package ‘CALIB’ ...
** using staged installation
** libs
g++ -std=gnu++11 -I"/home/biocbuild/bbs-3.9-bioc/R/include" -DNDEBUG   -I/usr/local/include  -fpic  -g -O2  -Wall -c Design.cpp -o Design.o
g++ -std=gnu++11 -I"/home/biocbuild/bbs-3.9-bioc/R/include" -DNDEBUG   -I/usr/local/include  -fpic  -g -O2  -Wall -c Estimation.cpp -o Estimation.o
Estimation.cpp: In function ‘SEXPREC* estimation(SEXP, SEXP, SEXP, SEXP, SEXP, SEXP, SEXP, SEXP)’:
Estimation.cpp:147:78: warning: ISO C++ forbids converting a string constant to ‘char*’ [-Wwrite-strings]
  char *name[8] = {"MuS","Ka","P1","P2","SigmaA","SigmaM","SigmaS","SpotError"};
                                                                              ^
Estimation.cpp:147:78: warning: ISO C++ forbids converting a string constant to ‘char*’ [-Wwrite-strings]
Estimation.cpp:147:78: warning: ISO C++ forbids converting a string constant to ‘char*’ [-Wwrite-strings]
Estimation.cpp:147:78: warning: ISO C++ forbids converting a string constant to ‘char*’ [-Wwrite-strings]
Estimation.cpp:147:78: warning: ISO C++ forbids converting a string constant to ‘char*’ [-Wwrite-strings]
Estimation.cpp:147:78: warning: ISO C++ forbids converting a string constant to ‘char*’ [-Wwrite-strings]
Estimation.cpp:147:78: warning: ISO C++ forbids converting a string constant to ‘char*’ [-Wwrite-strings]
Estimation.cpp:147:78: warning: ISO C++ forbids converting a string constant to ‘char*’ [-Wwrite-strings]
g++ -std=gnu++11 -I"/home/biocbuild/bbs-3.9-bioc/R/include" -DNDEBUG   -I/usr/local/include  -fpic  -g -O2  -Wall -c NormalizedData.cpp -o NormalizedData.o
g++ -std=gnu++11 -I"/home/biocbuild/bbs-3.9-bioc/R/include" -DNDEBUG   -I/usr/local/include  -fpic  -g -O2  -Wall -c ParameterofOneArray.cpp -o ParameterofOneArray.o
g++ -std=gnu++11 -I"/home/biocbuild/bbs-3.9-bioc/R/include" -DNDEBUG   -I/usr/local/include  -fpic  -g -O2  -Wall -c RawDataofOneArray.cpp -o RawDataofOneArray.o
g++ -std=gnu++11 -I"/home/biocbuild/bbs-3.9-bioc/R/include" -DNDEBUG   -I/usr/local/include  -fpic  -g -O2  -Wall -c SpikeofOneArray.cpp -o SpikeofOneArray.o
g++ -std=gnu++11 -shared -L/home/biocbuild/bbs-3.9-bioc/R/lib -L/usr/local/lib -o CALIB.so Design.o Estimation.o NormalizedData.o ParameterofOneArray.o RawDataofOneArray.o SpikeofOneArray.o -L/home/biocbuild/bbs-3.9-bioc/R/lib -lR
installing to /home/biocbuild/bbs-3.9-bioc/R/library/00LOCK-CALIB/00new/CALIB/libs
** R
** data
** inst
** byte-compile and prepare package for lazy loading
** help
*** installing help indices
** building package indices
** installing vignettes
** testing if installed package can be loaded from temporary location
** checking absolute paths in shared objects and dynamic libraries
** testing if installed package can be loaded from final location
** testing if installed package keeps a record of temporary installation path
* DONE (CALIB)