| Back to Multiple platform build/check report for BioC 3.9 | 
 | 
This page was generated on 2019-04-09 11:41:04 -0400 (Tue, 09 Apr 2019).
| Package 898/1703 | Hostname | OS / Arch | INSTALL | BUILD | CHECK | BUILD BIN | ||||||
| mAPKL 1.13.0 Argiris Sakellariou 
 | malbec2 | Linux (Ubuntu 18.04.2 LTS) / x86_64 | OK | [ OK ] | ERROR | |||||||
| tokay2 | Windows Server 2012 R2 Standard / x64 | OK | OK | ERROR | OK | |||||||
| celaya2 | OS X 10.11.6 El Capitan / x86_64 | OK | OK | ERROR | OK | |||||||
| merida2 | OS X 10.11.6 El Capitan / x86_64 | OK | OK | WARNINGS | OK | 
| Package: mAPKL | 
| Version: 1.13.0 | 
| Command: /home/biocbuild/bbs-3.9-bioc/R/bin/R CMD build --keep-empty-dirs --no-resave-data mAPKL | 
| StartedAt: 2019-04-08 20:31:58 -0400 (Mon, 08 Apr 2019) | 
| EndedAt: 2019-04-08 20:35:25 -0400 (Mon, 08 Apr 2019) | 
| EllapsedTime: 206.9 seconds | 
| RetCode: 0 | 
| Status: OK | 
| PackageFile: mAPKL_1.13.0.tar.gz | 
| PackageFileSize: 1.941 MiB | 
############################################################################## ############################################################################## ### ### Running command: ### ### /home/biocbuild/bbs-3.9-bioc/R/bin/R CMD build --keep-empty-dirs --no-resave-data mAPKL ### ############################################################################## ############################################################################## * checking for file ‘mAPKL/DESCRIPTION’ ... OK * preparing ‘mAPKL’: * checking DESCRIPTION meta-information ... OK * installing the package to build vignettes * creating vignettes ... OK * checking for LF line-endings in source and make files and shell scripts * checking for empty or unneeded directories * building ‘mAPKL_1.13.0.tar.gz’