| Back to Multiple platform build/check report for BioC 3.9 |
|
This page was generated on 2019-04-09 11:49:30 -0400 (Tue, 09 Apr 2019).
| Package 269/1703 | Hostname | OS / Arch | INSTALL | BUILD | CHECK | BUILD BIN | ||||||
| chromswitch 1.5.1 Selin Jessa
| malbec2 | Linux (Ubuntu 18.04.2 LTS) / x86_64 | OK | OK | [ OK ] | |||||||
| tokay2 | Windows Server 2012 R2 Standard / x64 | OK | OK | OK | OK | |||||||
| celaya2 | OS X 10.11.6 El Capitan / x86_64 | OK | OK | OK | OK | |||||||
| merida2 | OS X 10.11.6 El Capitan / x86_64 | OK | OK | OK | OK |
| Package: chromswitch |
| Version: 1.5.1 |
| Command: /home/biocbuild/bbs-3.9-bioc/R/bin/R CMD check --install=check:chromswitch.install-out.txt --library=/home/biocbuild/bbs-3.9-bioc/R/library --no-vignettes --timings chromswitch_1.5.1.tar.gz |
| StartedAt: 2019-04-08 23:27:10 -0400 (Mon, 08 Apr 2019) |
| EndedAt: 2019-04-08 23:31:15 -0400 (Mon, 08 Apr 2019) |
| EllapsedTime: 245.1 seconds |
| RetCode: 0 |
| Status: OK |
| CheckDir: chromswitch.Rcheck |
| Warnings: 0 |
############################################################################## ############################################################################## ### ### Running command: ### ### /home/biocbuild/bbs-3.9-bioc/R/bin/R CMD check --install=check:chromswitch.install-out.txt --library=/home/biocbuild/bbs-3.9-bioc/R/library --no-vignettes --timings chromswitch_1.5.1.tar.gz ### ############################################################################## ############################################################################## * using log directory ‘/home/biocbuild/bbs-3.9-bioc/meat/chromswitch.Rcheck’ * using R Under development (unstable) (2019-03-18 r76245) * using platform: x86_64-pc-linux-gnu (64-bit) * using session charset: UTF-8 * using option ‘--no-vignettes’ * checking for file ‘chromswitch/DESCRIPTION’ ... OK * this is package ‘chromswitch’ version ‘1.5.1’ * package encoding: UTF-8 * checking package namespace information ... OK * checking package dependencies ... OK * checking if this is a source package ... OK * checking if there is a namespace ... OK * checking for hidden files and directories ... OK * checking for portable file names ... OK * checking for sufficient/correct file permissions ... OK * checking whether package ‘chromswitch’ can be installed ... OK * checking installed package size ... OK * checking package directory ... OK * checking ‘build’ directory ... OK * checking DESCRIPTION meta-information ... OK * checking top-level files ... OK * checking for left-over files ... OK * checking index information ... OK * checking package subdirectories ... OK * checking R files for non-ASCII characters ... OK * checking R files for syntax errors ... OK * checking whether the package can be loaded ... OK * checking whether the package can be loaded with stated dependencies ... OK * checking whether the package can be unloaded cleanly ... OK * checking whether the namespace can be loaded with stated dependencies ... OK * checking whether the namespace can be unloaded cleanly ... OK * checking dependencies in R code ... OK * checking S3 generic/method consistency ... OK * checking replacement functions ... OK * checking foreign function calls ... OK * checking R code for possible problems ... OK * checking Rd files ... OK * checking Rd metadata ... OK * checking Rd cross-references ... OK * checking for missing documentation entries ... OK * checking for code/documentation mismatches ... OK * checking Rd \usage sections ... OK * checking Rd contents ... OK * checking for unstated dependencies in examples ... OK * checking contents of ‘data’ directory ... OK * checking data for non-ASCII characters ... OK * checking data for ASCII and uncompressed saves ... OK * checking files in ‘vignettes’ ... OK * checking examples ... OK * checking for unstated dependencies in ‘tests’ ... OK * checking tests ... Running ‘testthat.R’ OK * checking for unstated dependencies in vignettes ... OK * checking package vignettes in ‘inst/doc’ ... OK * checking running R code from vignettes ... SKIPPED * checking re-building of vignette outputs ... SKIPPED * checking PDF version of manual ... OK * DONE Status: OK
chromswitch.Rcheck/00install.out
############################################################################## ############################################################################## ### ### Running command: ### ### /home/biocbuild/bbs-3.9-bioc/R/bin/R CMD INSTALL chromswitch ### ############################################################################## ############################################################################## * installing to library ‘/home/biocbuild/bbs-3.9-bioc/R/library’ * installing *source* package ‘chromswitch’ ... ** using staged installation ** R ** data *** moving datasets to lazyload DB ** inst ** byte-compile and prepare package for lazy loading ** help *** installing help indices ** building package indices ** installing vignettes ** testing if installed package can be loaded from temporary location ** testing if installed package can be loaded from final location ** testing if installed package keeps a record of temporary installation path * DONE (chromswitch)
chromswitch.Rcheck/tests/testthat.Rout
R Under development (unstable) (2019-03-18 r76245) -- "Unsuffered Consequences"
Copyright (C) 2019 The R Foundation for Statistical Computing
Platform: x86_64-pc-linux-gnu (64-bit)
R is free software and comes with ABSOLUTELY NO WARRANTY.
You are welcome to redistribute it under certain conditions.
Type 'license()' or 'licence()' for distribution details.
R is a collaborative project with many contributors.
Type 'contributors()' for more information and
'citation()' on how to cite R or R packages in publications.
Type 'demo()' for some demos, 'help()' for on-line help, or
'help.start()' for an HTML browser interface to help.
Type 'q()' to quit R.
> library(testthat)
> library(chromswitch)
Loading required package: GenomicRanges
Loading required package: stats4
Loading required package: BiocGenerics
Loading required package: parallel
Attaching package: 'BiocGenerics'
The following objects are masked from 'package:parallel':
clusterApply, clusterApplyLB, clusterCall, clusterEvalQ,
clusterExport, clusterMap, parApply, parCapply, parLapply,
parLapplyLB, parRapply, parSapply, parSapplyLB
The following objects are masked from 'package:stats':
IQR, mad, sd, var, xtabs
The following objects are masked from 'package:base':
Filter, Find, Map, Position, Reduce, anyDuplicated, append,
as.data.frame, basename, cbind, colMeans, colSums, colnames,
dirname, do.call, duplicated, eval, evalq, get, grep, grepl,
intersect, is.unsorted, lapply, mapply, match, mget, order, paste,
pmax, pmax.int, pmin, pmin.int, rank, rbind, rowMeans, rowSums,
rownames, sapply, setdiff, sort, table, tapply, union, unique,
unsplit, which, which.max, which.min
Loading required package: S4Vectors
Attaching package: 'S4Vectors'
The following object is masked from 'package:base':
expand.grid
Loading required package: IRanges
Loading required package: GenomeInfoDb
>
> test_check("chromswitch")
══ testthat results ═══════════════════════════════════════════════════════════
OK: 93 SKIPPED: 0 FAILED: 0
>
> proc.time()
user system elapsed
31.727 6.820 30.900
chromswitch.Rcheck/chromswitch-Ex.timings
| name | user | system | elapsed | |
| GRangesToCoord | 0.032 | 0.004 | 0.036 | |
| LocalPeaks-class | 0.879 | 0.012 | 0.891 | |
| NMI | 0.003 | 0.000 | 0.003 | |
| binarizePeaks | 1.501 | 0.116 | 1.617 | |
| callBinary | 3.932 | 0.052 | 3.993 | |
| callSummary | 1.222 | 0.012 | 1.240 | |
| classEntropy | 0.002 | 0.000 | 0.002 | |
| cluster | 0.498 | 0.000 | 0.505 | |
| clusterEntropy | 0.002 | 0.000 | 0.002 | |
| completeness | 0.002 | 0.000 | 0.001 | |
| conditionalClassEntropy | 0.001 | 0.000 | 0.001 | |
| conditionalClusterEntropy | 0.002 | 0.000 | 0.002 | |
| coordToGRanges | 0.016 | 0.000 | 0.017 | |
| filterPeaks | 0.241 | 0.004 | 0.245 | |
| homogeneity | 0.001 | 0.000 | 0.001 | |
| makeBrowserCoord | 0.001 | 0.000 | 0.000 | |
| normalizePeaks | 0.235 | 0.000 | 0.237 | |
| pReciprocalOverlap | 0.047 | 0.000 | 0.047 | |
| purity | 0.001 | 0.000 | 0.001 | |
| readNarrowPeak | 0.542 | 0.000 | 1.037 | |
| reducePeaks | 0.324 | 0.004 | 0.330 | |
| retrievePeaks | 0.288 | 0.000 | 0.289 | |
| summarizePeaks | 0.462 | 0.000 | 0.462 | |
| vMeasure | 0.002 | 0.000 | 0.002 | |
| winsorNorm | 0.001 | 0.000 | 0.002 | |