| Back to Multiple platform build/check report for BioC 3.9 |
|
This page was generated on 2019-04-09 11:52:27 -0400 (Tue, 09 Apr 2019).
| Package 1218/1703 | Hostname | OS / Arch | INSTALL | BUILD | CHECK | BUILD BIN | ||||||
| PrecisionTrialDrawer 0.99.17 Giorgio Melloni
| malbec2 | Linux (Ubuntu 18.04.2 LTS) / x86_64 | OK | OK | [ OK ] | |||||||
| tokay2 | Windows Server 2012 R2 Standard / x64 | OK | OK | OK | OK | |||||||
| celaya2 | OS X 10.11.6 El Capitan / x86_64 | OK | OK | OK | OK | |||||||
| merida2 | OS X 10.11.6 El Capitan / x86_64 | OK | OK | OK | OK |
| Package: PrecisionTrialDrawer |
| Version: 0.99.17 |
| Command: /home/biocbuild/bbs-3.9-bioc/R/bin/R CMD check --install=check:PrecisionTrialDrawer.install-out.txt --library=/home/biocbuild/bbs-3.9-bioc/R/library --no-vignettes --timings PrecisionTrialDrawer_0.99.17.tar.gz |
| StartedAt: 2019-04-09 02:48:41 -0400 (Tue, 09 Apr 2019) |
| EndedAt: 2019-04-09 02:51:36 -0400 (Tue, 09 Apr 2019) |
| EllapsedTime: 174.6 seconds |
| RetCode: 0 |
| Status: OK |
| CheckDir: PrecisionTrialDrawer.Rcheck |
| Warnings: 0 |
##############################################################################
##############################################################################
###
### Running command:
###
### /home/biocbuild/bbs-3.9-bioc/R/bin/R CMD check --install=check:PrecisionTrialDrawer.install-out.txt --library=/home/biocbuild/bbs-3.9-bioc/R/library --no-vignettes --timings PrecisionTrialDrawer_0.99.17.tar.gz
###
##############################################################################
##############################################################################
* using log directory ‘/home/biocbuild/bbs-3.9-bioc/meat/PrecisionTrialDrawer.Rcheck’
* using R Under development (unstable) (2019-03-18 r76245)
* using platform: x86_64-pc-linux-gnu (64-bit)
* using session charset: UTF-8
* using option ‘--no-vignettes’
* checking for file ‘PrecisionTrialDrawer/DESCRIPTION’ ... OK
* checking extension type ... Package
* this is package ‘PrecisionTrialDrawer’ version ‘0.99.17’
* checking package namespace information ... OK
* checking package dependencies ... OK
* checking if this is a source package ... OK
* checking if there is a namespace ... OK
* checking for hidden files and directories ... OK
* checking for portable file names ... OK
* checking for sufficient/correct file permissions ... OK
* checking whether package ‘PrecisionTrialDrawer’ can be installed ... OK
* checking installed package size ... OK
* checking package directory ... OK
* checking ‘build’ directory ... OK
* checking DESCRIPTION meta-information ... OK
* checking top-level files ... OK
* checking for left-over files ... OK
* checking index information ... OK
* checking package subdirectories ... OK
* checking R files for non-ASCII characters ... OK
* checking R files for syntax errors ... OK
* checking whether the package can be loaded ... OK
* checking whether the package can be loaded with stated dependencies ... OK
* checking whether the package can be unloaded cleanly ... OK
* checking whether the namespace can be loaded with stated dependencies ... OK
* checking whether the namespace can be unloaded cleanly ... OK
* checking dependencies in R code ... OK
* checking S3 generic/method consistency ... OK
* checking replacement functions ... OK
* checking foreign function calls ... OK
* checking R code for possible problems ... OK
* checking Rd files ... OK
* checking Rd metadata ... OK
* checking Rd cross-references ... OK
* checking for missing documentation entries ... OK
* checking for code/documentation mismatches ... OK
* checking Rd \usage sections ... OK
* checking Rd contents ... OK
* checking for unstated dependencies in examples ... OK
* checking contents of ‘data’ directory ... OK
* checking data for non-ASCII characters ... OK
* checking data for ASCII and uncompressed saves ... OK
* checking files in ‘vignettes’ ... OK
* checking examples ... OK
Examples with CPU or elapsed time > 5s
user system elapsed
newCancerPanel 0.591 0.031 9.464
panelDesigner 0.518 0.008 9.518
* checking for unstated dependencies in vignettes ... OK
* checking package vignettes in ‘inst/doc’ ... OK
* checking running R code from vignettes ... SKIPPED
* checking re-building of vignette outputs ... SKIPPED
* checking PDF version of manual ... OK
* DONE
Status: OK
PrecisionTrialDrawer.Rcheck/00install.out
############################################################################## ############################################################################## ### ### Running command: ### ### /home/biocbuild/bbs-3.9-bioc/R/bin/R CMD INSTALL PrecisionTrialDrawer ### ############################################################################## ############################################################################## * installing to library ‘/home/biocbuild/bbs-3.9-bioc/R/library’ * installing *source* package ‘PrecisionTrialDrawer’ ... ** using staged installation ** R ** data ** inst ** byte-compile and prepare package for lazy loading Creating a generic function for ‘toJSON’ from package ‘jsonlite’ in package ‘googleVis’ ** help *** installing help indices ** building package indices ** installing vignettes ** testing if installed package can be loaded from temporary location Creating a generic function for ‘toJSON’ from package ‘jsonlite’ in package ‘googleVis’ ** testing if installed package can be loaded from final location Creating a generic function for ‘toJSON’ from package ‘jsonlite’ in package ‘googleVis’ ** testing if installed package keeps a record of temporary installation path * DONE (PrecisionTrialDrawer)
PrecisionTrialDrawer.Rcheck/PrecisionTrialDrawer-Ex.timings
| name | user | system | elapsed | |
| CancerPanel-class | 0.001 | 0.000 | 0.001 | |
| PrecisionTrialDrawer-package | 0.183 | 0.000 | 0.183 | |
| appendRepo | 0.836 | 0.004 | 0.840 | |
| coocMutexPlot | 2.041 | 0.024 | 2.066 | |
| coveragePlot | 0.305 | 0.000 | 0.305 | |
| coverageStackPlot | 0.333 | 0.004 | 0.337 | |
| cpArguments | 0.022 | 0.000 | 0.023 | |
| cpData | 0.024 | 0.004 | 0.028 | |
| cpDataSubset | 0.014 | 0.000 | 0.015 | |
| cpDesign | 0.032 | 0.000 | 0.032 | |
| cpFreq | 0.198 | 0.008 | 0.212 | |
| cpObj | 0.251 | 0.000 | 0.251 | |
| cpObj2 | 0.068 | 0.000 | 0.067 | |
| dataExtractor | 0.413 | 0.000 | 0.414 | |
| filterFusions | 0.353 | 0.008 | 0.360 | |
| filterMutations | 1.271 | 0.000 | 1.271 | |
| getAlterations | 0.116 | 0.013 | 3.059 | |
| newCancerPanel | 0.591 | 0.031 | 9.464 | |
| panelDesigner | 0.518 | 0.008 | 9.518 | |
| panelOptimizer | 0.001 | 0.000 | 0.001 | |
| panelexample | 0.009 | 0.000 | 0.009 | |
| propPowerSampleSize | 1.088 | 0.008 | 1.096 | |
| saturationPlot | 2.023 | 0.020 | 2.044 | |
| showCancerStudy | 0.005 | 0.004 | 0.246 | |
| showTumorType | 0.030 | 0.004 | 0.267 | |
| subsetAlterations | 0.593 | 0.000 | 0.593 | |
| survPowerSampleSize | 0.657 | 0.000 | 0.658 | |
| survPowerSampleSize1Arm | 0.934 | 0.000 | 0.934 | |