| Back to Multiple platform build/check report for BioC 3.9 | 
 | 
This page was generated on 2019-04-09 11:39:38 -0400 (Tue, 09 Apr 2019).
| Package 1586/1703 | Hostname | OS / Arch | INSTALL | BUILD | CHECK | BUILD BIN | ||||||
| switchBox 1.19.0 Bahman Afsari 
 | malbec2 | Linux (Ubuntu 18.04.2 LTS) / x86_64 | OK | [ OK ] | WARNINGS |  | ||||||
| tokay2 | Windows Server 2012 R2 Standard / x64 | OK | OK | WARNINGS | OK |  | ||||||
| celaya2 | OS X 10.11.6 El Capitan / x86_64 | OK | OK | WARNINGS | OK |  | ||||||
| merida2 | OS X 10.11.6 El Capitan / x86_64 | OK | OK | WARNINGS | OK | 
| Package: switchBox | 
| Version: 1.19.0 | 
| Command: /home/biocbuild/bbs-3.9-bioc/R/bin/R CMD build --keep-empty-dirs --no-resave-data switchBox | 
| StartedAt: 2019-04-08 20:22:48 -0400 (Mon, 08 Apr 2019) | 
| EndedAt: 2019-04-08 20:23:02 -0400 (Mon, 08 Apr 2019) | 
| EllapsedTime: 14.2 seconds | 
| RetCode: 0 | 
| Status: OK | 
| PackageFile: switchBox_1.19.0.tar.gz | 
| PackageFileSize: 462.9 KiB | 
##############################################################################
##############################################################################
###
### Running command:
###
###   /home/biocbuild/bbs-3.9-bioc/R/bin/R CMD build --keep-empty-dirs --no-resave-data switchBox
###
##############################################################################
##############################################################################
* checking for file ‘switchBox/DESCRIPTION’ ... OK
* preparing ‘switchBox’:
* checking DESCRIPTION meta-information ... OK
* cleaning src
* installing the package to build vignettes
* creating vignettes ... OK
Warning: ‘inst/doc’ files
    ‘switchBox.Rnw’, ‘switchBox.pdf’, ‘switchBox.R’
  ignored as vignettes have been rebuilt.
  Run R CMD build with --no-build-vignettes to prevent rebuilding.
* cleaning src
* checking for LF line-endings in source and make files and shell scripts
* checking for empty or unneeded directories
* looking to see if a ‘data/datalist’ file should be added
* building ‘switchBox_1.19.0.tar.gz’