| Back to Multiple platform build/check report for BioC 3.9 |
|
This page was generated on 2019-04-09 11:31:22 -0400 (Tue, 09 Apr 2019).
| Package 424/1703 | Hostname | OS / Arch | INSTALL | BUILD | CHECK | BUILD BIN | ||||||
| DiffBind 2.11.1 Rory Stark
| malbec2 | Linux (Ubuntu 18.04.2 LTS) / x86_64 | [ OK ] | OK | OK | |||||||
| tokay2 | Windows Server 2012 R2 Standard / x64 | OK | OK | OK | OK | |||||||
| celaya2 | OS X 10.11.6 El Capitan / x86_64 | OK | OK | OK | OK | |||||||
| merida2 | OS X 10.11.6 El Capitan / x86_64 | OK | OK | OK | OK |
| Package: DiffBind |
| Version: 2.11.1 |
| Command: /home/biocbuild/bbs-3.9-bioc/R/bin/R CMD INSTALL DiffBind |
| StartedAt: 2019-04-08 18:36:59 -0400 (Mon, 08 Apr 2019) |
| EndedAt: 2019-04-08 18:38:48 -0400 (Mon, 08 Apr 2019) |
| EllapsedTime: 108.7 seconds |
| RetCode: 0 |
| Status: OK |
##############################################################################
##############################################################################
###
### Running command:
###
### /home/biocbuild/bbs-3.9-bioc/R/bin/R CMD INSTALL DiffBind
###
##############################################################################
##############################################################################
* installing to library ‘/home/biocbuild/bbs-3.9-bioc/R/library’
* installing *source* package ‘DiffBind’ ...
** using staged installation
** libs
g++ -std=gnu++11 -I"/home/biocbuild/bbs-3.9-bioc/R/include" -DNDEBUG `echo 'Rhtslib::pkgconfig("PKG_CPPFLAGS")'| "/home/biocbuild/bbs-3.9-bioc/R/bin/R" --vanilla --slave` -I"/home/biocbuild/bbs-3.9-bioc/R/library/Rhtslib/include" -I"/home/biocbuild/bbs-3.9-bioc/R/library/Rcpp/include" -I/usr/local/include -fpic -g -O2 -Wall -c RcppExports.cpp -o RcppExports.o
g++ -std=gnu++11 -I"/home/biocbuild/bbs-3.9-bioc/R/include" -DNDEBUG `echo 'Rhtslib::pkgconfig("PKG_CPPFLAGS")'| "/home/biocbuild/bbs-3.9-bioc/R/bin/R" --vanilla --slave` -I"/home/biocbuild/bbs-3.9-bioc/R/library/Rhtslib/include" -I"/home/biocbuild/bbs-3.9-bioc/R/library/Rcpp/include" -I/usr/local/include -fpic -g -O2 -Wall -c bamReader.cpp -o bamReader.o
gcc -I"/home/biocbuild/bbs-3.9-bioc/R/include" -DNDEBUG `echo 'Rhtslib::pkgconfig("PKG_CPPFLAGS")'| "/home/biocbuild/bbs-3.9-bioc/R/bin/R" --vanilla --slave` -I"/home/biocbuild/bbs-3.9-bioc/R/library/Rhtslib/include" -I"/home/biocbuild/bbs-3.9-bioc/R/library/Rcpp/include" -I/usr/local/include -fpic -g -O2 -Wall -c bam_plbuf.c -o bam_plbuf.o
g++ -std=gnu++11 -I"/home/biocbuild/bbs-3.9-bioc/R/include" -DNDEBUG `echo 'Rhtslib::pkgconfig("PKG_CPPFLAGS")'| "/home/biocbuild/bbs-3.9-bioc/R/bin/R" --vanilla --slave` -I"/home/biocbuild/bbs-3.9-bioc/R/library/Rhtslib/include" -I"/home/biocbuild/bbs-3.9-bioc/R/library/Rcpp/include" -I/usr/local/include -fpic -g -O2 -Wall -c bedReader.cpp -o bedReader.o
g++ -std=gnu++11 -I"/home/biocbuild/bbs-3.9-bioc/R/include" -DNDEBUG `echo 'Rhtslib::pkgconfig("PKG_CPPFLAGS")'| "/home/biocbuild/bbs-3.9-bioc/R/bin/R" --vanilla --slave` -I"/home/biocbuild/bbs-3.9-bioc/R/library/Rhtslib/include" -I"/home/biocbuild/bbs-3.9-bioc/R/library/Rcpp/include" -I/usr/local/include -fpic -g -O2 -Wall -c bitBucket.cpp -o bitBucket.o
g++ -std=gnu++11 -I"/home/biocbuild/bbs-3.9-bioc/R/include" -DNDEBUG `echo 'Rhtslib::pkgconfig("PKG_CPPFLAGS")'| "/home/biocbuild/bbs-3.9-bioc/R/bin/R" --vanilla --slave` -I"/home/biocbuild/bbs-3.9-bioc/R/library/Rhtslib/include" -I"/home/biocbuild/bbs-3.9-bioc/R/library/Rcpp/include" -I/usr/local/include -fpic -g -O2 -Wall -c croi_func.cpp -o croi_func.o
g++ -std=gnu++11 -I"/home/biocbuild/bbs-3.9-bioc/R/include" -DNDEBUG `echo 'Rhtslib::pkgconfig("PKG_CPPFLAGS")'| "/home/biocbuild/bbs-3.9-bioc/R/bin/R" --vanilla --slave` -I"/home/biocbuild/bbs-3.9-bioc/R/library/Rhtslib/include" -I"/home/biocbuild/bbs-3.9-bioc/R/library/Rcpp/include" -I/usr/local/include -fpic -g -O2 -Wall -c croi_main.cpp -o croi_main.o
g++ -std=gnu++11 -I"/home/biocbuild/bbs-3.9-bioc/R/include" -DNDEBUG `echo 'Rhtslib::pkgconfig("PKG_CPPFLAGS")'| "/home/biocbuild/bbs-3.9-bioc/R/bin/R" --vanilla --slave` -I"/home/biocbuild/bbs-3.9-bioc/R/library/Rhtslib/include" -I"/home/biocbuild/bbs-3.9-bioc/R/library/Rcpp/include" -I/usr/local/include -fpic -g -O2 -Wall -c densitySet.cpp -o densitySet.o
g++ -std=gnu++11 -I"/home/biocbuild/bbs-3.9-bioc/R/include" -DNDEBUG `echo 'Rhtslib::pkgconfig("PKG_CPPFLAGS")'| "/home/biocbuild/bbs-3.9-bioc/R/bin/R" --vanilla --slave` -I"/home/biocbuild/bbs-3.9-bioc/R/library/Rhtslib/include" -I"/home/biocbuild/bbs-3.9-bioc/R/library/Rcpp/include" -I/usr/local/include -fpic -g -O2 -Wall -c iBucket.cpp -o iBucket.o
g++ -std=gnu++11 -I"/home/biocbuild/bbs-3.9-bioc/R/include" -DNDEBUG `echo 'Rhtslib::pkgconfig("PKG_CPPFLAGS")'| "/home/biocbuild/bbs-3.9-bioc/R/bin/R" --vanilla --slave` -I"/home/biocbuild/bbs-3.9-bioc/R/library/Rhtslib/include" -I"/home/biocbuild/bbs-3.9-bioc/R/library/Rcpp/include" -I/usr/local/include -fpic -g -O2 -Wall -c interval.cpp -o interval.o
g++ -std=gnu++11 -I"/home/biocbuild/bbs-3.9-bioc/R/include" -DNDEBUG `echo 'Rhtslib::pkgconfig("PKG_CPPFLAGS")'| "/home/biocbuild/bbs-3.9-bioc/R/bin/R" --vanilla --slave` -I"/home/biocbuild/bbs-3.9-bioc/R/library/Rhtslib/include" -I"/home/biocbuild/bbs-3.9-bioc/R/library/Rcpp/include" -I/usr/local/include -fpic -g -O2 -Wall -c intervalDensity.cpp -o intervalDensity.o
g++ -std=gnu++11 -I"/home/biocbuild/bbs-3.9-bioc/R/include" -DNDEBUG `echo 'Rhtslib::pkgconfig("PKG_CPPFLAGS")'| "/home/biocbuild/bbs-3.9-bioc/R/bin/R" --vanilla --slave` -I"/home/biocbuild/bbs-3.9-bioc/R/library/Rhtslib/include" -I"/home/biocbuild/bbs-3.9-bioc/R/library/Rcpp/include" -I/usr/local/include -fpic -g -O2 -Wall -c intervalNode.cpp -o intervalNode.o
g++ -std=gnu++11 -I"/home/biocbuild/bbs-3.9-bioc/R/include" -DNDEBUG `echo 'Rhtslib::pkgconfig("PKG_CPPFLAGS")'| "/home/biocbuild/bbs-3.9-bioc/R/bin/R" --vanilla --slave` -I"/home/biocbuild/bbs-3.9-bioc/R/library/Rhtslib/include" -I"/home/biocbuild/bbs-3.9-bioc/R/library/Rcpp/include" -I/usr/local/include -fpic -g -O2 -Wall -c intervalSet.cpp -o intervalSet.o
g++ -std=gnu++11 -I"/home/biocbuild/bbs-3.9-bioc/R/include" -DNDEBUG `echo 'Rhtslib::pkgconfig("PKG_CPPFLAGS")'| "/home/biocbuild/bbs-3.9-bioc/R/bin/R" --vanilla --slave` -I"/home/biocbuild/bbs-3.9-bioc/R/library/Rhtslib/include" -I"/home/biocbuild/bbs-3.9-bioc/R/library/Rcpp/include" -I/usr/local/include -fpic -g -O2 -Wall -c intervalTree.cpp -o intervalTree.o
g++ -std=gnu++11 -I"/home/biocbuild/bbs-3.9-bioc/R/include" -DNDEBUG `echo 'Rhtslib::pkgconfig("PKG_CPPFLAGS")'| "/home/biocbuild/bbs-3.9-bioc/R/bin/R" --vanilla --slave` -I"/home/biocbuild/bbs-3.9-bioc/R/library/Rhtslib/include" -I"/home/biocbuild/bbs-3.9-bioc/R/library/Rcpp/include" -I/usr/local/include -fpic -g -O2 -Wall -c merge.cpp -o merge.o
gcc -I"/home/biocbuild/bbs-3.9-bioc/R/include" -DNDEBUG `echo 'Rhtslib::pkgconfig("PKG_CPPFLAGS")'| "/home/biocbuild/bbs-3.9-bioc/R/bin/R" --vanilla --slave` -I"/home/biocbuild/bbs-3.9-bioc/R/library/Rhtslib/include" -I"/home/biocbuild/bbs-3.9-bioc/R/library/Rcpp/include" -I/usr/local/include -fpic -g -O2 -Wall -c mergeOne.c -o mergeOne.o
g++ -std=gnu++11 -I"/home/biocbuild/bbs-3.9-bioc/R/include" -DNDEBUG `echo 'Rhtslib::pkgconfig("PKG_CPPFLAGS")'| "/home/biocbuild/bbs-3.9-bioc/R/bin/R" --vanilla --slave` -I"/home/biocbuild/bbs-3.9-bioc/R/library/Rhtslib/include" -I"/home/biocbuild/bbs-3.9-bioc/R/library/Rcpp/include" -I/usr/local/include -fpic -g -O2 -Wall -c nodeGroup.cpp -o nodeGroup.o
g++ -std=gnu++11 -I"/home/biocbuild/bbs-3.9-bioc/R/include" -DNDEBUG `echo 'Rhtslib::pkgconfig("PKG_CPPFLAGS")'| "/home/biocbuild/bbs-3.9-bioc/R/bin/R" --vanilla --slave` -I"/home/biocbuild/bbs-3.9-bioc/R/library/Rhtslib/include" -I"/home/biocbuild/bbs-3.9-bioc/R/library/Rcpp/include" -I/usr/local/include -fpic -g -O2 -Wall -c peakOrder.cpp -o peakOrder.o
g++ -std=gnu++11 -I"/home/biocbuild/bbs-3.9-bioc/R/include" -DNDEBUG `echo 'Rhtslib::pkgconfig("PKG_CPPFLAGS")'| "/home/biocbuild/bbs-3.9-bioc/R/bin/R" --vanilla --slave` -I"/home/biocbuild/bbs-3.9-bioc/R/library/Rhtslib/include" -I"/home/biocbuild/bbs-3.9-bioc/R/library/Rcpp/include" -I/usr/local/include -fpic -g -O2 -Wall -c reader.cpp -o reader.o
gcc -I"/home/biocbuild/bbs-3.9-bioc/R/include" -DNDEBUG `echo 'Rhtslib::pkgconfig("PKG_CPPFLAGS")'| "/home/biocbuild/bbs-3.9-bioc/R/bin/R" --vanilla --slave` -I"/home/biocbuild/bbs-3.9-bioc/R/library/Rhtslib/include" -I"/home/biocbuild/bbs-3.9-bioc/R/library/Rcpp/include" -I/usr/local/include -fpic -g -O2 -Wall -c sam.c -o sam.o
g++ -std=gnu++11 -I"/home/biocbuild/bbs-3.9-bioc/R/include" -DNDEBUG `echo 'Rhtslib::pkgconfig("PKG_CPPFLAGS")'| "/home/biocbuild/bbs-3.9-bioc/R/bin/R" --vanilla --slave` -I"/home/biocbuild/bbs-3.9-bioc/R/library/Rhtslib/include" -I"/home/biocbuild/bbs-3.9-bioc/R/library/Rcpp/include" -I/usr/local/include -fpic -g -O2 -Wall -c sequence.cpp -o sequence.o
g++ -std=gnu++11 -I"/home/biocbuild/bbs-3.9-bioc/R/include" -DNDEBUG `echo 'Rhtslib::pkgconfig("PKG_CPPFLAGS")'| "/home/biocbuild/bbs-3.9-bioc/R/bin/R" --vanilla --slave` -I"/home/biocbuild/bbs-3.9-bioc/R/library/Rhtslib/include" -I"/home/biocbuild/bbs-3.9-bioc/R/library/Rcpp/include" -I/usr/local/include -fpic -g -O2 -Wall -c util.cpp -o util.o
g++ -std=gnu++11 -shared -L/home/biocbuild/bbs-3.9-bioc/R/lib -L/usr/local/lib -o DiffBind.so RcppExports.o bamReader.o bam_plbuf.o bedReader.o bitBucket.o croi_func.o croi_main.o densitySet.o iBucket.o interval.o intervalDensity.o intervalNode.o intervalSet.o intervalTree.o merge.o mergeOne.o nodeGroup.o peakOrder.o reader.o sam.o sequence.o util.o -L/home/biocbuild/bbs-3.9-bioc/R/library/Rhtslib/usrlib -Wl,-rpath,/home/biocbuild/bbs-3.9-bioc/R/library/Rhtslib/usrlib -lhts -lz -lm -lbz2 -llzma -lpthread -L/home/biocbuild/bbs-3.9-bioc/R/lib -lR
installing to /home/biocbuild/bbs-3.9-bioc/R/library/00LOCK-DiffBind/00new/DiffBind/libs
** R
** data
** inst
** byte-compile and prepare package for lazy loading
** help
*** installing help indices
** building package indices
** installing vignettes
** testing if installed package can be loaded from temporary location
** checking absolute paths in shared objects and dynamic libraries
** testing if installed package can be loaded from final location
** testing if installed package keeps a record of temporary installation path
* DONE (DiffBind)