| Back to Multiple platform build/check report for BioC 3.9 | 
 | 
This page was generated on 2019-04-09 11:29:34 -0400 (Tue, 09 Apr 2019).
| Package 400/1703 | Hostname | OS / Arch | INSTALL | BUILD | CHECK | BUILD BIN | ||||||
| DEGraph 1.35.0 Laurent Jacob 
 | malbec2 | Linux (Ubuntu 18.04.2 LTS) / x86_64 | [ OK ] | OK | OK |  | ||||||
| tokay2 | Windows Server 2012 R2 Standard / x64 | ...NOT SUPPORTED... | ||||||||||
| celaya2 | OS X 10.11.6 El Capitan / x86_64 | ...NOT SUPPORTED... | ||||||||||
| merida2 | OS X 10.11.6 El Capitan / x86_64 | ...NOT SUPPORTED... | ||||||||||
| Package: DEGraph | 
| Version: 1.35.0 | 
| Command: /home/biocbuild/bbs-3.9-bioc/R/bin/R CMD INSTALL DEGraph | 
| StartedAt: 2019-04-08 18:22:01 -0400 (Mon, 08 Apr 2019) | 
| EndedAt: 2019-04-08 18:22:11 -0400 (Mon, 08 Apr 2019) | 
| EllapsedTime: 10.2 seconds | 
| RetCode: 0 | 
| Status: OK | 
############################################################################## ############################################################################## ### ### Running command: ### ### /home/biocbuild/bbs-3.9-bioc/R/bin/R CMD INSTALL DEGraph ### ############################################################################## ############################################################################## * installing to library ‘/home/biocbuild/bbs-3.9-bioc/R/library’ * installing *source* package ‘DEGraph’ ... ** using staged installation ** R ** data ** demo ** inst ** byte-compile and prepare package for lazy loading No methods found in package ‘RCy3’ for request: ‘getWindowList’ when loading ‘NCIgraph’ ** help *** installing help indices ** building package indices ** installing vignettes ** testing if installed package can be loaded from temporary location No methods found in package ‘RCy3’ for request: ‘getWindowList’ when loading ‘NCIgraph’ ** testing if installed package can be loaded from final location No methods found in package ‘RCy3’ for request: ‘getWindowList’ when loading ‘NCIgraph’ ** testing if installed package keeps a record of temporary installation path * DONE (DEGraph)