| Back to Multiple platform build/check report for BioC 3.9 | 
 | 
This page was generated on 2019-04-09 11:41:23 -0400 (Tue, 09 Apr 2019).
| Package 1491/1703 | Hostname | OS / Arch | INSTALL | BUILD | CHECK | BUILD BIN | ||||||
| sigsquared 1.15.0 UnJin Lee 
 | malbec2 | Linux (Ubuntu 18.04.2 LTS) / x86_64 | OK | [ OK ] | OK |  | ||||||
| tokay2 | Windows Server 2012 R2 Standard / x64 | OK | OK | OK | OK |  | ||||||
| celaya2 | OS X 10.11.6 El Capitan / x86_64 | OK | OK | OK | OK |  | ||||||
| merida2 | OS X 10.11.6 El Capitan / x86_64 | OK | OK | OK | OK | 
| Package: sigsquared | 
| Version: 1.15.0 | 
| Command: /home/biocbuild/bbs-3.9-bioc/R/bin/R CMD build --keep-empty-dirs --no-resave-data sigsquared | 
| StartedAt: 2019-04-08 20:34:37 -0400 (Mon, 08 Apr 2019) | 
| EndedAt: 2019-04-08 20:35:12 -0400 (Mon, 08 Apr 2019) | 
| EllapsedTime: 34.8 seconds | 
| RetCode: 0 | 
| Status: OK | 
| PackageFile: sigsquared_1.15.0.tar.gz | 
| PackageFileSize: 361.9 KiB | 
############################################################################## ############################################################################## ### ### Running command: ### ### /home/biocbuild/bbs-3.9-bioc/R/bin/R CMD build --keep-empty-dirs --no-resave-data sigsquared ### ############################################################################## ############################################################################## * checking for file ‘sigsquared/DESCRIPTION’ ... OK * preparing ‘sigsquared’: * checking DESCRIPTION meta-information ... OK * installing the package to build vignettes * creating vignettes ... OK * checking for LF line-endings in source and make files and shell scripts * checking for empty or unneeded directories * looking to see if a ‘data/datalist’ file should be added * building ‘sigsquared_1.15.0.tar.gz’