| Back to Multiple platform build/check report for BioC 3.9 | 
 | 
This page was generated on 2019-04-09 11:48:00 -0400 (Tue, 09 Apr 2019).
| Package 1212/1703 | Hostname | OS / Arch | INSTALL | BUILD | CHECK | BUILD BIN | ||||||
| PPInfer 1.9.1 Dongmin Jung 
 | malbec2 | Linux (Ubuntu 18.04.2 LTS) / x86_64 | OK | [ OK ] | OK |  | ||||||
| tokay2 | Windows Server 2012 R2 Standard / x64 | OK | OK | OK | OK |  | ||||||
| celaya2 | OS X 10.11.6 El Capitan / x86_64 | OK | OK | OK | OK |  | ||||||
| merida2 | OS X 10.11.6 El Capitan / x86_64 | OK | OK | OK | OK | 
| Package: PPInfer | 
| Version: 1.9.1 | 
| Command: /home/biocbuild/bbs-3.9-bioc/R/bin/R CMD build --keep-empty-dirs --no-resave-data PPInfer | 
| StartedAt: 2019-04-08 21:39:41 -0400 (Mon, 08 Apr 2019) | 
| EndedAt: 2019-04-08 21:40:38 -0400 (Mon, 08 Apr 2019) | 
| EllapsedTime: 56.4 seconds | 
| RetCode: 0 | 
| Status: OK | 
| PackageFile: PPInfer_1.9.1.tar.gz | 
| PackageFileSize: 243.7 KiB | 
##############################################################################
##############################################################################
###
### Running command:
###
###   /home/biocbuild/bbs-3.9-bioc/R/bin/R CMD build --keep-empty-dirs --no-resave-data PPInfer
###
##############################################################################
##############################################################################
* checking for file ‘PPInfer/DESCRIPTION’ ... OK
* preparing ‘PPInfer’:
* checking DESCRIPTION meta-information ... OK
* installing the package to process help pages
* saving partial Rd database
* creating vignettes ... OK
Warning: ‘inst/doc’ file
    ‘PPInfer.pdf’
  ignored as vignettes have been rebuilt.
  Run R CMD build with --no-build-vignettes to prevent rebuilding.
* checking for LF line-endings in source and make files and shell scripts
* checking for empty or unneeded directories
* building ‘PPInfer_1.9.1.tar.gz’