| Back to Multiple platform build/check report for BioC 3.9 | 
 | 
This page was generated on 2019-04-09 11:50:59 -0400 (Tue, 09 Apr 2019).
| Package 918/1703 | Hostname | OS / Arch | INSTALL | BUILD | CHECK | BUILD BIN | ||||||
| MBttest 1.11.0 Yuan-De Tan 
 | malbec2 | Linux (Ubuntu 18.04.2 LTS) / x86_64 | OK | [ OK ] | OK |  | ||||||
| tokay2 | Windows Server 2012 R2 Standard / x64 | OK | OK | OK | OK |  | ||||||
| celaya2 | OS X 10.11.6 El Capitan / x86_64 | OK | OK | OK | OK |  | ||||||
| merida2 | OS X 10.11.6 El Capitan / x86_64 | OK | OK | OK | OK | 
| Package: MBttest | 
| Version: 1.11.0 | 
| Command: /home/biocbuild/bbs-3.9-bioc/R/bin/R CMD build --keep-empty-dirs --no-resave-data MBttest | 
| StartedAt: 2019-04-08 22:07:03 -0400 (Mon, 08 Apr 2019) | 
| EndedAt: 2019-04-08 22:07:31 -0400 (Mon, 08 Apr 2019) | 
| EllapsedTime: 28.0 seconds | 
| RetCode: 0 | 
| Status: OK | 
| PackageFile: MBttest_1.11.0.tar.gz | 
| PackageFileSize: 3.445 MiB | 
##############################################################################
##############################################################################
###
### Running command:
###
###   /home/biocbuild/bbs-3.9-bioc/R/bin/R CMD build --keep-empty-dirs --no-resave-data MBttest
###
##############################################################################
##############################################################################
* checking for file ‘MBttest/DESCRIPTION’ ... OK
* preparing ‘MBttest’:
* checking DESCRIPTION meta-information ... OK
* installing the package to build vignettes
* creating vignettes ... OK
Warning: ‘inst/doc’ files
    ‘MBttest.pdf’, ‘MBttest.R’
  ignored as vignettes have been rebuilt.
  Run R CMD build with --no-build-vignettes to prevent rebuilding.
* checking for LF line-endings in source and make files and shell scripts
* checking for empty or unneeded directories
* looking to see if a ‘data/datalist’ file should be added
* building ‘MBttest_1.11.0.tar.gz’