| Back to Multiple platform build/check report for BioC 3.9 |
|
This page was generated on 2019-04-09 11:52:15 -0400 (Tue, 09 Apr 2019).
| Package 1613/1703 | Hostname | OS / Arch | INSTALL | BUILD | CHECK | BUILD BIN | ||||||
| TimeSeriesExperiment 1.1.4 Lan Huong Nguyen
| malbec2 | Linux (Ubuntu 18.04.2 LTS) / x86_64 | OK | OK | [ OK ] | |||||||
| tokay2 | Windows Server 2012 R2 Standard / x64 | OK | OK | OK | OK | |||||||
| celaya2 | OS X 10.11.6 El Capitan / x86_64 | OK | OK | OK | OK | |||||||
| merida2 | OS X 10.11.6 El Capitan / x86_64 | OK | OK | OK | OK |
| Package: TimeSeriesExperiment |
| Version: 1.1.4 |
| Command: /home/biocbuild/bbs-3.9-bioc/R/bin/R CMD check --install=check:TimeSeriesExperiment.install-out.txt --library=/home/biocbuild/bbs-3.9-bioc/R/library --no-vignettes --timings TimeSeriesExperiment_1.1.4.tar.gz |
| StartedAt: 2019-04-09 04:02:46 -0400 (Tue, 09 Apr 2019) |
| EndedAt: 2019-04-09 04:06:42 -0400 (Tue, 09 Apr 2019) |
| EllapsedTime: 235.5 seconds |
| RetCode: 0 |
| Status: OK |
| CheckDir: TimeSeriesExperiment.Rcheck |
| Warnings: 0 |
##############################################################################
##############################################################################
###
### Running command:
###
### /home/biocbuild/bbs-3.9-bioc/R/bin/R CMD check --install=check:TimeSeriesExperiment.install-out.txt --library=/home/biocbuild/bbs-3.9-bioc/R/library --no-vignettes --timings TimeSeriesExperiment_1.1.4.tar.gz
###
##############################################################################
##############################################################################
* using log directory ‘/home/biocbuild/bbs-3.9-bioc/meat/TimeSeriesExperiment.Rcheck’
* using R Under development (unstable) (2019-03-18 r76245)
* using platform: x86_64-pc-linux-gnu (64-bit)
* using session charset: UTF-8
* using option ‘--no-vignettes’
* checking for file ‘TimeSeriesExperiment/DESCRIPTION’ ... OK
* checking extension type ... Package
* this is package ‘TimeSeriesExperiment’ version ‘1.1.4’
* package encoding: UTF-8
* checking package namespace information ... OK
* checking package dependencies ... OK
* checking if this is a source package ... OK
* checking if there is a namespace ... OK
* checking for hidden files and directories ... OK
* checking for portable file names ... OK
* checking for sufficient/correct file permissions ... OK
* checking whether package ‘TimeSeriesExperiment’ can be installed ... OK
* checking installed package size ... OK
* checking package directory ... OK
* checking ‘build’ directory ... OK
* checking DESCRIPTION meta-information ... OK
* checking top-level files ... OK
* checking for left-over files ... OK
* checking index information ... OK
* checking package subdirectories ... OK
* checking R files for non-ASCII characters ... OK
* checking R files for syntax errors ... OK
* checking whether the package can be loaded ... OK
* checking whether the package can be loaded with stated dependencies ... OK
* checking whether the package can be unloaded cleanly ... OK
* checking whether the namespace can be loaded with stated dependencies ... OK
* checking whether the namespace can be unloaded cleanly ... OK
* checking dependencies in R code ... NOTE
Unexported object imported by a ':::' call: ‘S4Vectors:::selectSome’
See the note in ?`:::` about the use of this operator.
* checking S3 generic/method consistency ... OK
* checking replacement functions ... OK
* checking foreign function calls ... OK
* checking R code for possible problems ... NOTE
clusterTimeSeries: no visible binding for global variable ‘freq’
clusterTimeSeries: no visible binding for global variable ‘.’
Undefined global functions or variables:
. freq
* checking Rd files ... OK
* checking Rd metadata ... OK
* checking Rd cross-references ... OK
* checking for missing documentation entries ... OK
* checking for code/documentation mismatches ... OK
* checking Rd \usage sections ... OK
* checking Rd contents ... OK
* checking for unstated dependencies in examples ... OK
* checking contents of ‘data’ directory ... OK
* checking data for non-ASCII characters ... OK
* checking data for ASCII and uncompressed saves ... OK
* checking files in ‘vignettes’ ... OK
* checking examples ... OK
Examples with CPU or elapsed time > 5s
user system elapsed
differentialExpression 11.291 0.008 11.3
* checking for unstated dependencies in vignettes ... OK
* checking package vignettes in ‘inst/doc’ ... OK
* checking running R code from vignettes ... SKIPPED
* checking re-building of vignette outputs ... SKIPPED
* checking PDF version of manual ... OK
* DONE
Status: 2 NOTEs
See
‘/home/biocbuild/bbs-3.9-bioc/meat/TimeSeriesExperiment.Rcheck/00check.log’
for details.
TimeSeriesExperiment.Rcheck/00install.out
############################################################################## ############################################################################## ### ### Running command: ### ### /home/biocbuild/bbs-3.9-bioc/R/bin/R CMD INSTALL TimeSeriesExperiment ### ############################################################################## ############################################################################## * installing to library ‘/home/biocbuild/bbs-3.9-bioc/R/library’ * installing *source* package ‘TimeSeriesExperiment’ ... ** using staged installation ** R ** data ** inst ** byte-compile and prepare package for lazy loading ** help *** installing help indices ** building package indices ** installing vignettes ** testing if installed package can be loaded from temporary location ** testing if installed package can be loaded from final location ** testing if installed package keeps a record of temporary installation path * DONE (TimeSeriesExperiment)
TimeSeriesExperiment.Rcheck/TimeSeriesExperiment-Ex.timings
| name | user | system | elapsed | |
| TimeSeriesExperiment | 0.186 | 0.000 | 0.186 | |
| addLags | 0.265 | 0.000 | 0.265 | |
| clusterAssignment | 0.266 | 0.004 | 0.270 | |
| clusterData | 0.057 | 0.000 | 0.057 | |
| clusterTimeSeries | 0.386 | 0.000 | 0.386 | |
| colData | 0.038 | 0.000 | 0.038 | |
| collapseReplicates | 0.084 | 0.000 | 0.084 | |
| collapsed-data | 0.186 | 0.004 | 0.190 | |
| dataToTimeSeries | 0.015 | 0.000 | 0.016 | |
| differentialExpression | 11.291 | 0.008 | 11.300 | |
| dimensionReduction | 0.036 | 0.000 | 0.036 | |
| filterFeatures | 0.024 | 0.004 | 0.028 | |
| groups | 0.012 | 0.000 | 0.012 | |
| makeTimeSeries | 0.091 | 0.000 | 0.091 | |
| makeTimeSeriesExperimentFromExpressionSet | 0.002 | 0.000 | 0.001 | |
| makeTimeSeriesExperimentFromSummarizedExperiment | 0.104 | 0.000 | 0.104 | |
| meltMatrix | 0.005 | 0.000 | 0.005 | |
| normalizeData | 0.027 | 0.000 | 0.027 | |
| pathwayEnrichment | 1.411 | 0.044 | 2.312 | |
| pipe | 0.000 | 0.000 | 0.001 | |
| plotEnrichment | 1.130 | 0.028 | 1.158 | |
| plotHeatmap | 0.035 | 0.000 | 0.035 | |
| plotSamplePCA | 0.447 | 0.000 | 0.447 | |
| plotTimeSeries | 1.638 | 0.004 | 1.642 | |
| plotTimeSeriesClusters | 1.535 | 0.000 | 1.535 | |
| plotTimeSeriesPCA | 2.161 | 0.052 | 2.216 | |
| replicates | 0.019 | 0.000 | 0.019 | |
| rowData | 0.04 | 0.00 | 0.04 | |
| row_and_colnames | 0.016 | 0.000 | 0.016 | |
| runPCA | 0.066 | 0.000 | 0.066 | |
| timeSeries | 0.552 | 0.112 | 0.664 | |
| timepointDE | 0.129 | 0.000 | 0.129 | |
| timepoints | 0.038 | 0.000 | 0.038 | |
| trajectoryDE | 0.156 | 0.000 | 0.156 | |
| varianceStabilization | 0.005 | 0.000 | 0.005 | |