| Back to Multiple platform build/check report for BioC 3.9 |
|
This page was generated on 2019-04-09 11:29:16 -0400 (Tue, 09 Apr 2019).
| Package 1045/1703 | Hostname | OS / Arch | INSTALL | BUILD | CHECK | BUILD BIN | ||||||
| Mulcom 1.33.0 Claudio Isella
| malbec2 | Linux (Ubuntu 18.04.2 LTS) / x86_64 | [ ERROR ] | ERROR | skipped | |||||||
| tokay2 | Windows Server 2012 R2 Standard / x64 | ERROR | ERROR | skipped | skipped | |||||||
| celaya2 | OS X 10.11.6 El Capitan / x86_64 | ERROR | ERROR | skipped | skipped | |||||||
| merida2 | OS X 10.11.6 El Capitan / x86_64 | OK | OK | OK | OK |
| Package: Mulcom |
| Version: 1.33.0 |
| Command: /home/biocbuild/bbs-3.9-bioc/R/bin/R CMD INSTALL Mulcom |
| StartedAt: 2019-04-08 17:59:25 -0400 (Mon, 08 Apr 2019) |
| EndedAt: 2019-04-08 17:59:30 -0400 (Mon, 08 Apr 2019) |
| EllapsedTime: 5.0 seconds |
| RetCode: 1 |
| Status: ERROR |
##############################################################################
##############################################################################
###
### Running command:
###
### /home/biocbuild/bbs-3.9-bioc/R/bin/R CMD INSTALL Mulcom
###
##############################################################################
##############################################################################
* installing to library ‘/home/biocbuild/bbs-3.9-bioc/R/library’
* installing *source* package ‘Mulcom’ ...
** using staged installation
** libs
g++ -std=gnu++11 -I"/home/biocbuild/bbs-3.9-bioc/R/include" -DNDEBUG -I/usr/local/include -fpic -g -O2 -Wall -c mulLibs.cc -o mulLibs.o
mulLibs.cc: In function ‘void Single_SimulationC(double*, double*, double*, double*, double*, double*, int*, int*, int*, int*, int*)’:
mulLibs.cc:708:33: warning: statement has no effect [-Wunused-value]
current_cluster ;
^
mulLibs.cc: In function ‘void Complete_SimulationC(double*, int*, double*, double*, int*, int*, int*, int*, int*)’:
mulLibs.cc:1022:38: warning: comparison between signed and unsigned integer expressions [-Wsign-compare]
for ( int i = 0 ; i < sss2.size() ; i++ ) {
˜˜^˜˜˜˜˜˜˜˜˜˜˜˜
mulLibs.cc:1023:46: warning: comparison between signed and unsigned integer expressions [-Wsign-compare]
for ( int j = 0 ; j < harmonic_means.size() ; j++ ) {
˜˜^˜˜˜˜˜˜˜˜˜˜˜˜˜˜˜˜˜˜˜˜˜˜
g++ -std=gnu++11 -shared -L/home/biocbuild/bbs-3.9-bioc/R/lib -L/usr/local/lib -o Mulcom.so mulLibs.o -L/home/biocbuild/bbs-3.9-bioc/R/lib -lR
installing to /home/biocbuild/bbs-3.9-bioc/R/library/00LOCK-Mulcom/00new/Mulcom/libs
** R
** data
** inst
** byte-compile and prepare package for lazy loading
Error in reconcilePropertiesAndPrototype(name, slots, prototype, superClasses, :
The prototype for class “MULCOM” has undefined slot(s): 'MSE_Correceted'
Error: unable to load R code in package ‘Mulcom’
Execution halted
ERROR: lazy loading failed for package ‘Mulcom’
* removing ‘/home/biocbuild/bbs-3.9-bioc/R/library/Mulcom’