| Back to Multiple platform build/check report for BioC 3.9 |
|
This page was generated on 2019-04-09 11:34:49 -0400 (Tue, 09 Apr 2019).
| Package 499/1703 | Hostname | OS / Arch | INSTALL | BUILD | CHECK | BUILD BIN | ||||||
| epigenomix 1.23.0 Hans-Ulrich Klein
| malbec2 | Linux (Ubuntu 18.04.2 LTS) / x86_64 | OK | OK | [ OK ] | |||||||
| tokay2 | Windows Server 2012 R2 Standard / x64 | OK | OK | OK | OK | |||||||
| celaya2 | OS X 10.11.6 El Capitan / x86_64 | OK | OK | OK | OK | |||||||
| merida2 | OS X 10.11.6 El Capitan / x86_64 | OK | OK | OK | OK |
| Package: epigenomix |
| Version: 1.23.0 |
| Command: /home/biocbuild/bbs-3.9-bioc/R/bin/R CMD check --install=check:epigenomix.install-out.txt --library=/home/biocbuild/bbs-3.9-bioc/R/library --no-vignettes --timings epigenomix_1.23.0.tar.gz |
| StartedAt: 2019-04-09 00:20:26 -0400 (Tue, 09 Apr 2019) |
| EndedAt: 2019-04-09 00:24:59 -0400 (Tue, 09 Apr 2019) |
| EllapsedTime: 273.4 seconds |
| RetCode: 0 |
| Status: OK |
| CheckDir: epigenomix.Rcheck |
| Warnings: 0 |
##############################################################################
##############################################################################
###
### Running command:
###
### /home/biocbuild/bbs-3.9-bioc/R/bin/R CMD check --install=check:epigenomix.install-out.txt --library=/home/biocbuild/bbs-3.9-bioc/R/library --no-vignettes --timings epigenomix_1.23.0.tar.gz
###
##############################################################################
##############################################################################
* using log directory ‘/home/biocbuild/bbs-3.9-bioc/meat/epigenomix.Rcheck’
* using R Under development (unstable) (2019-03-18 r76245)
* using platform: x86_64-pc-linux-gnu (64-bit)
* using session charset: UTF-8
* using option ‘--no-vignettes’
* checking for file ‘epigenomix/DESCRIPTION’ ... OK
* checking extension type ... Package
* this is package ‘epigenomix’ version ‘1.23.0’
* checking package namespace information ... OK
* checking package dependencies ... OK
* checking if this is a source package ... OK
* checking if there is a namespace ... OK
* checking for hidden files and directories ... OK
* checking for portable file names ... OK
* checking for sufficient/correct file permissions ... OK
* checking whether package ‘epigenomix’ can be installed ... OK
* checking installed package size ... OK
* checking package directory ... OK
* checking ‘build’ directory ... OK
* checking DESCRIPTION meta-information ... OK
* checking top-level files ... OK
* checking for left-over files ... OK
* checking index information ... OK
* checking package subdirectories ... OK
* checking R files for non-ASCII characters ... OK
* checking R files for syntax errors ... OK
* checking whether the package can be loaded ... OK
* checking whether the package can be loaded with stated dependencies ... OK
* checking whether the package can be unloaded cleanly ... OK
* checking whether the namespace can be loaded with stated dependencies ... OK
* checking whether the namespace can be unloaded cleanly ... OK
* checking dependencies in R code ... OK
* checking S3 generic/method consistency ... OK
* checking replacement functions ... OK
* checking foreign function calls ... OK
* checking R code for possible problems ... OK
* checking Rd files ... OK
* checking Rd metadata ... OK
* checking Rd cross-references ... OK
* checking for missing documentation entries ... OK
* checking for code/documentation mismatches ... OK
* checking Rd \usage sections ... OK
* checking Rd contents ... OK
* checking for unstated dependencies in examples ... OK
* checking contents of ‘data’ directory ... OK
* checking data for non-ASCII characters ... OK
* checking data for ASCII and uncompressed saves ... OK
* checking files in ‘vignettes’ ... OK
* checking examples ... OK
Examples with CPU or elapsed time > 5s
user system elapsed
plotChains 26.991 0.047 27.056
bayesMixModel 22.881 0.048 22.935
mlMixModel 10.515 0.035 10.551
* checking for unstated dependencies in vignettes ... OK
* checking package vignettes in ‘inst/doc’ ... OK
* checking running R code from vignettes ... SKIPPED
* checking re-building of vignette outputs ... SKIPPED
* checking PDF version of manual ... OK
* DONE
Status: OK
epigenomix.Rcheck/00install.out
############################################################################## ############################################################################## ### ### Running command: ### ### /home/biocbuild/bbs-3.9-bioc/R/bin/R CMD INSTALL epigenomix ### ############################################################################## ############################################################################## * installing to library ‘/home/biocbuild/bbs-3.9-bioc/R/library’ * installing *source* package ‘epigenomix’ ... ** using staged installation ** R ** data ** inst ** byte-compile and prepare package for lazy loading ** help *** installing help indices ** building package indices ** installing vignettes ** testing if installed package can be loaded from temporary location ** testing if installed package can be loaded from final location ** testing if installed package keeps a record of temporary installation path * DONE (epigenomix)
epigenomix.Rcheck/epigenomix-Ex.timings
| name | user | system | elapsed | |
| ChIPseqSet-class | 0.002 | 0.000 | 0.001 | |
| MixModel-class | 0.001 | 0.000 | 0.000 | |
| MixModelBayes-class | 0 | 0 | 0 | |
| MixModelML-class | 0.000 | 0.000 | 0.001 | |
| MixtureComponent-class | 0.000 | 0.000 | 0.001 | |
| bayesMixModel | 22.881 | 0.048 | 22.935 | |
| calculateCrossCorrelation | 0.933 | 0.004 | 0.937 | |
| eSet | 0.016 | 0.003 | 0.021 | |
| fpkm | 0.045 | 0.005 | 0.048 | |
| getAlignmentQuality | 0 | 0 | 0 | |
| integrateData | 0.231 | 0.000 | 0.231 | |
| mappedReads | 0.04 | 0.00 | 0.04 | |
| matchProbeToPromoter | 0.408 | 0.000 | 0.408 | |
| mlMixModel | 10.515 | 0.035 | 10.551 | |
| normalize | 0.232 | 0.000 | 0.232 | |
| normalizeChIP | 0.077 | 0.000 | 0.077 | |
| plotChains | 26.991 | 0.047 | 27.056 | |
| plotClassification | 0.041 | 0.003 | 0.044 | |
| plotComponents | 0.071 | 0.000 | 0.072 | |
| summarizeReads | 0.390 | 0.000 | 0.389 | |
| transToTSS | 0.002 | 0.003 | 0.005 | |