| Back to Multiple platform build/check report for BioC 3.9 | 
 | 
This page was generated on 2019-04-09 11:35:31 -0400 (Tue, 09 Apr 2019).
| Package 370/1703 | Hostname | OS / Arch | INSTALL | BUILD | CHECK | BUILD BIN | ||||||
| customProDB 1.23.1 Xiaojing Wang 
 | malbec2 | Linux (Ubuntu 18.04.2 LTS) / x86_64 | OK | OK | [ OK ] |  | ||||||
| tokay2 | Windows Server 2012 R2 Standard / x64 | OK | ERROR | skipped | skipped | |||||||
| celaya2 | OS X 10.11.6 El Capitan / x86_64 | OK | OK | OK | OK |  | ||||||
| merida2 | OS X 10.11.6 El Capitan / x86_64 | OK | OK | OK | OK | 
| Package: customProDB | 
| Version: 1.23.1 | 
| Command: /home/biocbuild/bbs-3.9-bioc/R/bin/R CMD check --install=check:customProDB.install-out.txt --library=/home/biocbuild/bbs-3.9-bioc/R/library --no-vignettes --timings customProDB_1.23.1.tar.gz | 
| StartedAt: 2019-04-08 23:48:44 -0400 (Mon, 08 Apr 2019) | 
| EndedAt: 2019-04-08 23:53:28 -0400 (Mon, 08 Apr 2019) | 
| EllapsedTime: 284.2 seconds | 
| RetCode: 0 | 
| Status: OK | 
| CheckDir: customProDB.Rcheck | 
| Warnings: 0 | 
##############################################################################
##############################################################################
###
### Running command:
###
###   /home/biocbuild/bbs-3.9-bioc/R/bin/R CMD check --install=check:customProDB.install-out.txt --library=/home/biocbuild/bbs-3.9-bioc/R/library --no-vignettes --timings customProDB_1.23.1.tar.gz
###
##############################################################################
##############################################################################
* using log directory ‘/home/biocbuild/bbs-3.9-bioc/meat/customProDB.Rcheck’
* using R Under development (unstable) (2019-03-18 r76245)
* using platform: x86_64-pc-linux-gnu (64-bit)
* using session charset: UTF-8
* using option ‘--no-vignettes’
* checking for file ‘customProDB/DESCRIPTION’ ... OK
* checking extension type ... Package
* this is package ‘customProDB’ version ‘1.23.1’
* checking package namespace information ... OK
* checking package dependencies ... OK
* checking if this is a source package ... OK
* checking if there is a namespace ... OK
* checking for hidden files and directories ... OK
* checking for portable file names ... OK
* checking for sufficient/correct file permissions ... OK
* checking whether package ‘customProDB’ can be installed ... OK
* checking installed package size ... OK
* checking package directory ... OK
* checking ‘build’ directory ... OK
* checking DESCRIPTION meta-information ... OK
* checking top-level files ... OK
* checking for left-over files ... OK
* checking index information ... OK
* checking package subdirectories ... OK
* checking R files for non-ASCII characters ... OK
* checking R files for syntax errors ... OK
* checking whether the package can be loaded ... OK
* checking whether the package can be loaded with stated dependencies ... OK
* checking whether the package can be unloaded cleanly ... OK
* checking whether the namespace can be loaded with stated dependencies ... OK
* checking whether the namespace can be unloaded cleanly ... OK
* checking dependencies in R code ... NOTE
Unexported objects imported by ':::' calls:
  ‘biomaRt:::martBM’ ‘biomaRt:::martDataset’ ‘biomaRt:::martHost’
  See the note in ?`:::` about the use of this operator.
* checking S3 generic/method consistency ... OK
* checking replacement functions ... OK
* checking foreign function calls ... OK
* checking R code for possible problems ... NOTE
Bed2Range: no visible binding for global variable ‘V5’
OutputNovelJun: no visible binding for global variable ‘jun_type’
OutputVarproseq: no visible binding for global variable ‘genename’
OutputVarproseq: no visible binding for global variable ‘txname’
OutputVarproseq: no visible binding for global variable ‘proname’
OutputVarproseq: no visible binding for global variable ‘aaref’
OutputVarproseq: no visible binding for global variable ‘aapos’
OutputVarproseq: no visible binding for global variable ‘aavar’
OutputVarproseq: no visible binding for global variable ‘rsid’
OutputVarproseq_single: no visible binding for global variable
  ‘genename’
OutputVarproseq_single: no visible binding for global variable ‘txname’
OutputVarproseq_single: no visible binding for global variable
  ‘proname’
OutputVarproseq_single: no visible binding for global variable ‘aaref’
OutputVarproseq_single: no visible binding for global variable ‘aapos’
OutputVarproseq_single: no visible binding for global variable ‘aavar’
OutputVarproseq_single: no visible binding for global variable ‘rsid’
Outputaberrant: no visible binding for global variable ‘pro_name’
Positionincoding: no visible binding for global variable ‘cds_start’
Positionincoding: no visible binding for global variable ‘cds_end’
PrepareAnnotationEnsembl: no visible binding for global variable
  ‘ensembl_gene_id’
PrepareAnnotationEnsembl: no visible binding for global variable
  ‘pro_name’
PrepareAnnotationEnsembl: no visible binding for global variable
  ‘chrom’
PrepareAnnotationEnsembl: no visible binding for global variable ‘name’
PrepareAnnotationEnsembl: no visible binding for global variable
  ‘alleleCount’
PrepareAnnotationEnsembl: no visible binding for global variable
  ‘alleles’
PrepareAnnotationRefseq: no visible binding for global variable ‘name’
PrepareAnnotationRefseq: no visible binding for global variable
  ‘mrnaAcc’
PrepareAnnotationRefseq: no visible binding for global variable
  ‘protAcc’
PrepareAnnotationRefseq: no visible binding for global variable
  ‘transcript’
PrepareAnnotationRefseq: no visible binding for global variable ‘chrom’
PrepareAnnotationRefseq: no visible binding for global variable
  ‘alleleCount’
PrepareAnnotationRefseq: no visible binding for global variable
  ‘alleles’
PrepareAnnotationRefseq: no visible binding for global variable
  ‘COSMIC’
Varlocation: no visible binding for global variable ‘pro_name’
Undefined global functions or variables:
  COSMIC V5 aapos aaref aavar alleleCount alleles cds_end cds_start
  chrom ensembl_gene_id genename jun_type mrnaAcc name pro_name proname
  protAcc rsid transcript txname
* checking Rd files ... OK
* checking Rd metadata ... OK
* checking Rd cross-references ... OK
* checking for missing documentation entries ... OK
* checking for code/documentation mismatches ... OK
* checking Rd \usage sections ... OK
* checking Rd contents ... OK
* checking for unstated dependencies in examples ... OK
* checking files in ‘vignettes’ ... OK
* checking examples ... OK
Examples with CPU or elapsed time > 5s
                          user system elapsed
PrepareAnnotationEnsembl 4.715  0.051  25.116
* checking for unstated dependencies in vignettes ... OK
* checking package vignettes in ‘inst/doc’ ... OK
* checking running R code from vignettes ... SKIPPED
* checking re-building of vignette outputs ... SKIPPED
* checking PDF version of manual ... OK
* DONE
Status: 2 NOTEs
See
  ‘/home/biocbuild/bbs-3.9-bioc/meat/customProDB.Rcheck/00check.log’
for details.
customProDB.Rcheck/00install.out
############################################################################## ############################################################################## ### ### Running command: ### ### /home/biocbuild/bbs-3.9-bioc/R/bin/R CMD INSTALL customProDB ### ############################################################################## ############################################################################## * installing to library ‘/home/biocbuild/bbs-3.9-bioc/R/library’ * installing *source* package ‘customProDB’ ... ** using staged installation ** R ** inst ** byte-compile and prepare package for lazy loading ** help *** installing help indices ** building package indices ** installing vignettes ** testing if installed package can be loaded from temporary location ** testing if installed package can be loaded from final location ** testing if installed package keeps a record of temporary installation path * DONE (customProDB)
customProDB.Rcheck/customProDB-Ex.timings
| name | user | system | elapsed | |
| Bed2Range | 0.104 | 0.000 | 0.115 | |
| InputVcf | 0.732 | 0.088 | 0.830 | |
| JunctionType | 0.919 | 0.043 | 0.974 | |
| Multiple_VCF | 0.900 | 0.028 | 0.929 | |
| OutputNovelJun | 1.761 | 0.004 | 1.765 | |
| OutputVarprocodingseq | 0.459 | 0.008 | 0.484 | |
| OutputVarproseq | 0.476 | 0.000 | 0.476 | |
| OutputVarproseq_single | 0.453 | 0.000 | 0.452 | |
| Outputaberrant | 0.290 | 0.004 | 0.294 | |
| Outputproseq | 0.817 | 0.000 | 0.830 | |
| OutputsharedPro | 2.005 | 0.005 | 3.554 | |
| Positionincoding | 0.362 | 0.000 | 0.362 | |
| PrepareAnnotationEnsembl | 4.715 | 0.051 | 25.116 | |
| PrepareAnnotationRefseq | 0.000 | 0.000 | 0.001 | |
| SharedJunc | 0.599 | 0.000 | 0.616 | |
| Varlocation | 0 | 0 | 0 | |
| aaVariation | 0.686 | 0.008 | 0.699 | |
| calculateRPKM | 0.713 | 0.004 | 0.720 | |
| easyRun | 1.506 | 0.000 | 1.531 | |
| easyRun_mul | 3.028 | 0.004 | 3.033 | |