| Back to Multiple platform build/check report for BioC 3.9 | 
 | 
This page was generated on 2019-04-09 11:49:00 -0400 (Tue, 09 Apr 2019).
| Package 809/1703 | Hostname | OS / Arch | INSTALL | BUILD | CHECK | BUILD BIN | ||||||
| InterMineR 1.5.2 InterMine Team 
 | malbec2 | Linux (Ubuntu 18.04.2 LTS) / x86_64 | OK | OK | [ OK ] |  | ||||||
| tokay2 | Windows Server 2012 R2 Standard / x64 | OK | OK | WARNINGS | OK |  | ||||||
| celaya2 | OS X 10.11.6 El Capitan / x86_64 | OK | OK | OK | OK |  | ||||||
| merida2 | OS X 10.11.6 El Capitan / x86_64 | OK | OK | OK | OK | 
| Package: InterMineR | 
| Version: 1.5.2 | 
| Command: /home/biocbuild/bbs-3.9-bioc/R/bin/R CMD check --install=check:InterMineR.install-out.txt --library=/home/biocbuild/bbs-3.9-bioc/R/library --no-vignettes --timings InterMineR_1.5.2.tar.gz | 
| StartedAt: 2019-04-09 01:24:08 -0400 (Tue, 09 Apr 2019) | 
| EndedAt: 2019-04-09 01:29:35 -0400 (Tue, 09 Apr 2019) | 
| EllapsedTime: 326.6 seconds | 
| RetCode: 0 | 
| Status: OK | 
| CheckDir: InterMineR.Rcheck | 
| Warnings: 0 | 
##############################################################################
##############################################################################
###
### Running command:
###
###   /home/biocbuild/bbs-3.9-bioc/R/bin/R CMD check --install=check:InterMineR.install-out.txt --library=/home/biocbuild/bbs-3.9-bioc/R/library --no-vignettes --timings InterMineR_1.5.2.tar.gz
###
##############################################################################
##############################################################################
* using log directory ‘/home/biocbuild/bbs-3.9-bioc/meat/InterMineR.Rcheck’
* using R Under development (unstable) (2019-03-18 r76245)
* using platform: x86_64-pc-linux-gnu (64-bit)
* using session charset: UTF-8
* using option ‘--no-vignettes’
* checking for file ‘InterMineR/DESCRIPTION’ ... OK
* this is package ‘InterMineR’ version ‘1.5.2’
* checking package namespace information ... OK
* checking package dependencies ... OK
* checking if this is a source package ... OK
* checking if there is a namespace ... OK
* checking for hidden files and directories ... NOTE
Found the following hidden files and directories:
  .travis.yml
These were most likely included in error. See section ‘Package
structure’ in the ‘Writing R Extensions’ manual.
* checking for portable file names ... OK
* checking for sufficient/correct file permissions ... OK
* checking whether package ‘InterMineR’ can be installed ... OK
* checking installed package size ... OK
* checking package directory ... OK
* checking ‘build’ directory ... OK
* checking DESCRIPTION meta-information ... OK
* checking top-level files ... NOTE
File
  LICENSE
is not mentioned in the DESCRIPTION file.
* checking for left-over files ... OK
* checking index information ... OK
* checking package subdirectories ... OK
* checking R files for non-ASCII characters ... OK
* checking R files for syntax errors ... OK
* checking whether the package can be loaded ... OK
* checking whether the package can be loaded with stated dependencies ... OK
* checking whether the package can be unloaded cleanly ... OK
* checking whether the namespace can be loaded with stated dependencies ... OK
* checking whether the namespace can be unloaded cleanly ... OK
* checking dependencies in R code ... OK
* checking S3 generic/method consistency ... OK
* checking replacement functions ... OK
* checking foreign function calls ... OK
* checking R code for possible problems ... NOTE
convertToGeneAnswers: no visible binding for global variable
  ‘geneExpProfile’
convertToRangedSummarizedExperiment: no visible global function
  definition for ‘reshape’
doEnrichment: no visible global function definition for ‘URLencode’
listDatasets: no visible binding for global variable ‘child_name’
runQuery,ANY-InterMineR: no visible global function definition for
  ‘URLencode’
runQuery,ANY-list: no visible global function definition for
  ‘URLencode’
Undefined global functions or variables:
  URLencode child_name geneExpProfile reshape
Consider adding
  importFrom("stats", "reshape")
  importFrom("utils", "URLencode")
to your NAMESPACE file.
* checking Rd files ... OK
* checking Rd metadata ... OK
* checking Rd cross-references ... OK
* checking for missing documentation entries ... OK
* checking for code/documentation mismatches ... OK
* checking Rd \usage sections ... OK
* checking Rd contents ... OK
* checking for unstated dependencies in examples ... OK
* checking contents of ‘data’ directory ... OK
* checking data for non-ASCII characters ... OK
* checking data for ASCII and uncompressed saves ... OK
* checking files in ‘vignettes’ ... OK
* checking examples ... OK
Examples with CPU or elapsed time > 5s
                                      user system elapsed
convertToGeneAnswers                17.634  0.167  27.265
simplifyResult                       9.621  0.410  10.994
doEnrichment                         7.271  0.045  90.238
runQuery                             4.192  0.193   5.481
listDatasets                         3.752  0.449   5.573
convertToRangedSummarizedExperiment  4.113  0.008   8.027
* checking for unstated dependencies in vignettes ... OK
* checking package vignettes in ‘inst/doc’ ... OK
* checking running R code from vignettes ... SKIPPED
* checking re-building of vignette outputs ... SKIPPED
* checking PDF version of manual ... OK
* DONE
Status: 3 NOTEs
See
  ‘/home/biocbuild/bbs-3.9-bioc/meat/InterMineR.Rcheck/00check.log’
for details.
InterMineR.Rcheck/00install.out
############################################################################## ############################################################################## ### ### Running command: ### ### /home/biocbuild/bbs-3.9-bioc/R/bin/R CMD INSTALL InterMineR ### ############################################################################## ############################################################################## * installing to library ‘/home/biocbuild/bbs-3.9-bioc/R/library’ * installing *source* package ‘InterMineR’ ... ** using staged installation ** R ** data *** moving datasets to lazyload DB ** inst ** byte-compile and prepare package for lazy loading ** help *** installing help indices ** building package indices ** installing vignettes ** testing if installed package can be loaded from temporary location ** testing if installed package can be loaded from final location ** testing if installed package keeps a record of temporary installation path * DONE (InterMineR)
InterMineR.Rcheck/InterMineR-Ex.timings
| name | user | system | elapsed | |
| InterMineR-methods | 0.231 | 0.001 | 0.662 | |
| PL_DiabetesGenes | 0.002 | 0.002 | 0.003 | |
| PL_FlyTF_site_specific_TFs | 0.001 | 0.000 | 0.002 | |
| convertToGRanges | 0.731 | 0.012 | 1.159 | |
| convertToGeneAnswers | 17.634 | 0.167 | 27.265 | |
| convertToRangedSummarizedExperiment | 4.113 | 0.008 | 8.027 | |
| doEnrichment | 7.271 | 0.045 | 90.238 | |
| getDatasets | 0.134 | 0.000 | 0.909 | |
| getGeneIds | 0.558 | 0.000 | 3.093 | |
| getModel | 1.539 | 0.011 | 2.331 | |
| getRelease | 0.033 | 0.000 | 0.343 | |
| getTemplateQuery | 0.029 | 0.004 | 0.332 | |
| getTemplates | 0.041 | 0.000 | 0.368 | |
| getVersion | 0.031 | 0.000 | 0.331 | |
| getWidgets | 0.071 | 0.000 | 0.681 | |
| initInterMine | 0.013 | 0.003 | 0.231 | |
| listDatasets | 3.752 | 0.449 | 5.573 | |
| listMines | 0.019 | 0.000 | 0.215 | |
| newQuery | 0.001 | 0.000 | 0.000 | |
| runQuery | 4.192 | 0.193 | 5.481 | |
| setConstraints | 0.045 | 0.004 | 0.577 | |
| setQuery | 0.050 | 0.004 | 0.574 | |
| simplifyResult | 9.621 | 0.410 | 10.994 | |
| summary | 0.040 | 0.000 | 0.375 | |