Back to Multiple platform build/check report for BioC 3.9 |
|
This page was generated on 2019-04-09 11:36:44 -0400 (Tue, 09 Apr 2019).
Package 1605/1703 | Hostname | OS / Arch | INSTALL | BUILD | CHECK | BUILD BIN | ||||||
TFBSTools 1.21.2 Ge Tan
| malbec2 | Linux (Ubuntu 18.04.2 LTS) / x86_64 | OK | OK | [ OK ] | ![]() | ||||||
tokay2 | Windows Server 2012 R2 Standard / x64 | OK | OK | OK | OK | ![]() | ||||||
celaya2 | OS X 10.11.6 El Capitan / x86_64 | OK | OK | OK | OK | ![]() | ||||||
merida2 | OS X 10.11.6 El Capitan / x86_64 | OK | OK | OK | OK |
Package: TFBSTools |
Version: 1.21.2 |
Command: /home/biocbuild/bbs-3.9-bioc/R/bin/R CMD check --install=check:TFBSTools.install-out.txt --library=/home/biocbuild/bbs-3.9-bioc/R/library --no-vignettes --timings TFBSTools_1.21.2.tar.gz |
StartedAt: 2019-04-09 04:00:33 -0400 (Tue, 09 Apr 2019) |
EndedAt: 2019-04-09 04:07:00 -0400 (Tue, 09 Apr 2019) |
EllapsedTime: 387.4 seconds |
RetCode: 0 |
Status: OK |
CheckDir: TFBSTools.Rcheck |
Warnings: 0 |
############################################################################## ############################################################################## ### ### Running command: ### ### /home/biocbuild/bbs-3.9-bioc/R/bin/R CMD check --install=check:TFBSTools.install-out.txt --library=/home/biocbuild/bbs-3.9-bioc/R/library --no-vignettes --timings TFBSTools_1.21.2.tar.gz ### ############################################################################## ############################################################################## * using log directory ‘/home/biocbuild/bbs-3.9-bioc/meat/TFBSTools.Rcheck’ * using R Under development (unstable) (2019-03-18 r76245) * using platform: x86_64-pc-linux-gnu (64-bit) * using session charset: UTF-8 * using option ‘--no-vignettes’ * checking for file ‘TFBSTools/DESCRIPTION’ ... OK * checking extension type ... Package * this is package ‘TFBSTools’ version ‘1.21.2’ * checking package namespace information ... OK * checking package dependencies ... OK * checking if this is a source package ... OK * checking if there is a namespace ... OK * checking for hidden files and directories ... OK * checking for portable file names ... OK * checking for sufficient/correct file permissions ... OK * checking whether package ‘TFBSTools’ can be installed ... OK * checking installed package size ... OK * checking package directory ... OK * checking ‘build’ directory ... OK * checking DESCRIPTION meta-information ... OK * checking top-level files ... OK * checking for left-over files ... OK * checking index information ... OK * checking package subdirectories ... OK * checking R files for non-ASCII characters ... OK * checking R files for syntax errors ... OK * checking whether the package can be loaded ... OK * checking whether the package can be loaded with stated dependencies ... OK * checking whether the package can be unloaded cleanly ... OK * checking whether the namespace can be loaded with stated dependencies ... OK * checking whether the namespace can be unloaded cleanly ... OK * checking dependencies in R code ... NOTE Unexported objects imported by ':::' calls: ‘S4Vectors:::new_SimpleList_from_list’ ‘seqLogo:::pwm2ic’ See the note in ?`:::` about the use of this operator. * checking S3 generic/method consistency ... OK * checking replacement functions ... OK * checking foreign function calls ... OK * checking R code for possible problems ... OK * checking Rd files ... OK * checking Rd metadata ... OK * checking Rd cross-references ... OK * checking for missing documentation entries ... OK * checking for code/documentation mismatches ... OK * checking Rd \usage sections ... OK * checking Rd contents ... OK * checking for unstated dependencies in examples ... OK * checking contents of ‘data’ directory ... OK * checking data for non-ASCII characters ... OK * checking data for ASCII and uncompressed saves ... OK * checking line endings in C/C++/Fortran sources/headers ... OK * checking line endings in Makefiles ... OK * checking compilation flags in Makevars ... OK * checking for GNU extensions in Makefiles ... OK * checking for portable use of $(BLAS_LIBS) and $(LAPACK_LIBS) ... OK * checking compiled code ... NOTE Note: information on .o files is not available * checking files in ‘vignettes’ ... OK * checking examples ... OK Examples with CPU or elapsed time > 5s user system elapsed SiteSetList-class 64.816 0.044 64.901 SiteSet-class 7.609 0.020 7.628 searchAln-methods 7.397 0.004 7.464 toGRangesList-methods 6.110 0.000 6.112 * checking for unstated dependencies in ‘tests’ ... OK * checking tests ... Running ‘testthat.R’ OK * checking for unstated dependencies in vignettes ... OK * checking package vignettes in ‘inst/doc’ ... OK * checking running R code from vignettes ... SKIPPED * checking re-building of vignette outputs ... SKIPPED * checking PDF version of manual ... OK * DONE Status: 2 NOTEs See ‘/home/biocbuild/bbs-3.9-bioc/meat/TFBSTools.Rcheck/00check.log’ for details.
TFBSTools.Rcheck/00install.out
############################################################################## ############################################################################## ### ### Running command: ### ### /home/biocbuild/bbs-3.9-bioc/R/bin/R CMD INSTALL TFBSTools ### ############################################################################## ############################################################################## * installing to library ‘/home/biocbuild/bbs-3.9-bioc/R/library’ * installing *source* package ‘TFBSTools’ ... ** using staged installation ** libs gcc -I"/home/biocbuild/bbs-3.9-bioc/R/include" -DNDEBUG -I/usr/local/include -fpic -g -O2 -Wall -c matrixAlignerDynamic.c -o matrixAlignerDynamic.o matrixAlignerDynamic.c: In function ‘score’: matrixAlignerDynamic.c:235:22: warning: ‘best_pntr’ may be used uninitialized in this function [-Wmaybe-uninitialized] while (current_pntr->father != NULL){ // while the father of the current pointer exists, walk through the best posible alignment ˜˜˜˜˜˜˜˜˜˜˜˜^˜˜˜˜˜˜˜ gcc -I"/home/biocbuild/bbs-3.9-bioc/R/include" -DNDEBUG -I/usr/local/include -fpic -g -O2 -Wall -c R_init_TFBSTools.c -o R_init_TFBSTools.o gcc -shared -L/home/biocbuild/bbs-3.9-bioc/R/lib -L/usr/local/lib -o TFBSTools.so matrixAlignerDynamic.o R_init_TFBSTools.o -L/home/biocbuild/bbs-3.9-bioc/R/lib -lR installing to /home/biocbuild/bbs-3.9-bioc/R/library/00LOCK-TFBSTools/00new/TFBSTools/libs ** R ** data *** moving datasets to lazyload DB ** inst ** byte-compile and prepare package for lazy loading Creating a new generic function for ‘seqLogo’ in package ‘TFBSTools’ ** help *** installing help indices ** building package indices ** installing vignettes ** testing if installed package can be loaded from temporary location ** checking absolute paths in shared objects and dynamic libraries ** testing if installed package can be loaded from final location ** testing if installed package keeps a record of temporary installation path * DONE (TFBSTools)
TFBSTools.Rcheck/tests/testthat.Rout
R Under development (unstable) (2019-03-18 r76245) -- "Unsuffered Consequences" Copyright (C) 2019 The R Foundation for Statistical Computing Platform: x86_64-pc-linux-gnu (64-bit) R is free software and comes with ABSOLUTELY NO WARRANTY. You are welcome to redistribute it under certain conditions. Type 'license()' or 'licence()' for distribution details. R is a collaborative project with many contributors. Type 'contributors()' for more information and 'citation()' on how to cite R or R packages in publications. Type 'demo()' for some demos, 'help()' for on-line help, or 'help.start()' for an HTML browser interface to help. Type 'q()' to quit R. > library(testthat) > library(TFBSTools) > > test_check("TFBSTools") ══ testthat results ═══════════════════════════════════════════════════════════ OK: 34 SKIPPED: 0 FAILED: 0 > > proc.time() user system elapsed 14.875 0.554 15.417
TFBSTools.Rcheck/TFBSTools-Ex.timings
name | user | system | elapsed | |
IUPAC2Matrix | 0.000 | 0.000 | 0.001 | |
MA0004.1 | 0.005 | 0.001 | 0.006 | |
MotifSet-class | 0.000 | 0.000 | 0.001 | |
PFMSimilarity-methods | 0.330 | 0.036 | 0.526 | |
PWMSimilarity-methods | 0.01 | 0.00 | 0.01 | |
SiteSet-class | 7.609 | 0.020 | 7.628 | |
SiteSetList-class | 64.816 | 0.044 | 64.901 | |
TFFM-class | 0.038 | 0.000 | 0.078 | |
XMatrix-class | 0.015 | 0.000 | 0.016 | |
XMatrixList-class | 0.004 | 0.000 | 0.004 | |
deleteMatrixHavingID-methods | 0.085 | 0.008 | 0.094 | |
dmmEM-methods | 0 | 0 | 0 | |
getEmissionProb | 0.280 | 0.004 | 0.284 | |
getMatrixByID-methods | 0.291 | 0.000 | 0.977 | |
getMatrixSet-methods | 0 | 0 | 0 | |
getPosProb | 0.309 | 0.008 | 0.317 | |
makeFlatFileDir | 0 | 0 | 0 | |
parseMEMEOutput | 0.177 | 0.000 | 0.271 | |
permuteMatrix-methods | 0.064 | 0.004 | 0.069 | |
rPWMDmm-methods | 0.000 | 0.000 | 0.001 | |
readJASPARMatrix | 0.015 | 0.000 | 0.046 | |
readXMLTFFM | 0.031 | 0.000 | 0.031 | |
runMEME-methods | 0 | 0 | 0 | |
sampleRanges | 0.322 | 0.000 | 0.321 | |
searchAln-methods | 7.397 | 0.004 | 7.464 | |
searchPairBSgenome-methods | 0.001 | 0.000 | 0.001 | |
searchSeq-methods | 1.177 | 0.008 | 1.186 | |
seqLogo | 1.678 | 0.024 | 1.702 | |
shannon.entropy | 0.001 | 0.000 | 0.000 | |
toGRangesList-methods | 6.110 | 0.000 | 6.112 | |
toICM-methods | 0.009 | 0.000 | 0.009 | |
toPWM-methods | 0.006 | 0.000 | 0.006 | |