| Back to Multiple platform build/check report for BioC 3.9 | 
 | 
This page was generated on 2019-04-09 11:49:18 -0400 (Tue, 09 Apr 2019).
| Package 1157/1703 | Hostname | OS / Arch | INSTALL | BUILD | CHECK | BUILD BIN | ||||||
| PathwaySplice 1.7.1 Aimin Yan 
 | malbec2 | Linux (Ubuntu 18.04.2 LTS) / x86_64 | OK | OK | [ OK ] |  | ||||||
| tokay2 | Windows Server 2012 R2 Standard / x64 | OK | OK | OK | OK |  | ||||||
| celaya2 | OS X 10.11.6 El Capitan / x86_64 | OK | OK | OK | OK |  | ||||||
| merida2 | OS X 10.11.6 El Capitan / x86_64 | OK | OK | OK | OK | 
| Package: PathwaySplice | 
| Version: 1.7.1 | 
| Command: /home/biocbuild/bbs-3.9-bioc/R/bin/R CMD check --install=check:PathwaySplice.install-out.txt --library=/home/biocbuild/bbs-3.9-bioc/R/library --no-vignettes --timings PathwaySplice_1.7.1.tar.gz | 
| StartedAt: 2019-04-09 02:35:34 -0400 (Tue, 09 Apr 2019) | 
| EndedAt: 2019-04-09 02:48:02 -0400 (Tue, 09 Apr 2019) | 
| EllapsedTime: 748.2 seconds | 
| RetCode: 0 | 
| Status: OK | 
| CheckDir: PathwaySplice.Rcheck | 
| Warnings: 0 | 
##############################################################################
##############################################################################
###
### Running command:
###
###   /home/biocbuild/bbs-3.9-bioc/R/bin/R CMD check --install=check:PathwaySplice.install-out.txt --library=/home/biocbuild/bbs-3.9-bioc/R/library --no-vignettes --timings PathwaySplice_1.7.1.tar.gz
###
##############################################################################
##############################################################################
* using log directory ‘/home/biocbuild/bbs-3.9-bioc/meat/PathwaySplice.Rcheck’
* using R Under development (unstable) (2019-03-18 r76245)
* using platform: x86_64-pc-linux-gnu (64-bit)
* using session charset: UTF-8
* using option ‘--no-vignettes’
* checking for file ‘PathwaySplice/DESCRIPTION’ ... OK
* checking extension type ... Package
* this is package ‘PathwaySplice’ version ‘1.7.1’
* checking package namespace information ... OK
* checking package dependencies ... OK
* checking if this is a source package ... OK
* checking if there is a namespace ... OK
* checking for hidden files and directories ... OK
* checking for portable file names ... OK
* checking for sufficient/correct file permissions ... OK
* checking whether package ‘PathwaySplice’ can be installed ... OK
* checking installed package size ... OK
* checking package directory ... OK
* checking ‘build’ directory ... OK
* checking DESCRIPTION meta-information ... NOTE
Malformed Description field: should contain one or more complete sentences.
* checking top-level files ... OK
* checking for left-over files ... OK
* checking index information ... OK
* checking package subdirectories ... OK
* checking R files for non-ASCII characters ... OK
* checking R files for syntax errors ... OK
* checking whether the package can be loaded ... OK
* checking whether the package can be loaded with stated dependencies ... OK
* checking whether the package can be unloaded cleanly ... OK
* checking whether the namespace can be loaded with stated dependencies ... OK
* checking whether the namespace can be unloaded cleanly ... OK
* checking dependencies in R code ... OK
* checking S3 generic/method consistency ... OK
* checking replacement functions ... OK
* checking foreign function calls ... OK
* checking R code for possible problems ... NOTE
compareResults2: no visible global function definition for 'ggplot'
compareResults2: no visible global function definition for 'aes'
compareResults2: no visible binding for global variable
  'random_sampling_200k'
compareResults2: no visible binding for global variable 'PValue'
compareResults2: no visible binding for global variable 'PathwaySplice'
compareResults2: no visible global function definition for 'geom_point'
compareResults2: no visible global function definition for
  'geom_smooth'
compareResults2: no visible global function definition for 'labs'
compareResults2: no visible global function definition for
  'scale_colour_manual'
compareResults2: no visible global function definition for
  'scale_shape_manual'
netplot: no visible global function definition for 'get.col.scale'
Undefined global functions or variables:
  PValue PathwaySplice aes geom_point geom_smooth get.col.scale ggplot
  labs random_sampling_200k scale_colour_manual scale_shape_manual
* checking Rd files ... OK
* checking Rd metadata ... OK
* checking Rd cross-references ... OK
* checking for missing documentation entries ... OK
* checking for code/documentation mismatches ... OK
* checking Rd \usage sections ... OK
* checking Rd contents ... OK
* checking for unstated dependencies in examples ... OK
* checking contents of ‘data’ directory ... OK
* checking data for non-ASCII characters ... OK
* checking data for ASCII and uncompressed saves ... OK
* checking files in ‘vignettes’ ... OK
* checking examples ... OK
Examples with CPU or elapsed time > 5s
                   user system elapsed
enrichmentMap    59.407  0.560  60.176
runPathwaySplice 52.679  0.216  53.126
compareResults   38.954  0.837  40.491
makeGeneTable    16.185  0.012  16.210
lrTestBias       14.927  0.000  14.928
gmtGene2Cat      12.470  0.068  12.689
* checking for unstated dependencies in ‘tests’ ... OK
* checking tests ...
  Running ‘testthat.R’
 OK
* checking for unstated dependencies in vignettes ... OK
* checking package vignettes in ‘inst/doc’ ... OK
* checking running R code from vignettes ... SKIPPED
* checking re-building of vignette outputs ... SKIPPED
* checking PDF version of manual ... OK
* DONE
Status: 2 NOTEs
See
  ‘/home/biocbuild/bbs-3.9-bioc/meat/PathwaySplice.Rcheck/00check.log’
for details.
PathwaySplice.Rcheck/00install.out
############################################################################## ############################################################################## ### ### Running command: ### ### /home/biocbuild/bbs-3.9-bioc/R/bin/R CMD INSTALL PathwaySplice ### ############################################################################## ############################################################################## * installing to library ‘/home/biocbuild/bbs-3.9-bioc/R/library’ * installing *source* package ‘PathwaySplice’ ... ** using staged installation ** R ** data *** moving datasets to lazyload DB ** inst ** byte-compile and prepare package for lazy loading ** help *** installing help indices ** building package indices ** installing vignettes ** testing if installed package can be loaded from temporary location ** testing if installed package can be loaded from final location ** testing if installed package keeps a record of temporary installation path * DONE (PathwaySplice)
PathwaySplice.Rcheck/tests/testthat.Rout
R Under development (unstable) (2019-03-18 r76245) -- "Unsuffered Consequences"
Copyright (C) 2019 The R Foundation for Statistical Computing
Platform: x86_64-pc-linux-gnu (64-bit)
R is free software and comes with ABSOLUTELY NO WARRANTY.
You are welcome to redistribute it under certain conditions.
Type 'license()' or 'licence()' for distribution details.
R is a collaborative project with many contributors.
Type 'contributors()' for more information and
'citation()' on how to cite R or R packages in publications.
Type 'demo()' for some demos, 'help()' for on-line help, or
'help.start()' for an HTML browser interface to help.
Type 'q()' to quit R.
> library(testthat)
> test_check("PathwaySplice")
Loading required package: PathwaySplice
[1] "P-value from logistic regression is 3.98e-205"
══ testthat results  ═══════════════════════════════════════════════════════════
OK: 12 SKIPPED: 1 FAILED: 0
> 
> proc.time()
   user  system elapsed 
240.832   2.912 245.037 
PathwaySplice.Rcheck/PathwaySplice-Ex.timings
| name | user | system | elapsed | |
| compareResults | 38.954 | 0.837 | 40.491 | |
| enrichmentMap | 59.407 | 0.560 | 60.176 | |
| gmtGene2Cat | 12.470 | 0.068 | 12.689 | |
| lrTestBias | 14.927 | 0.000 | 14.928 | |
| makeGeneTable | 16.185 | 0.012 | 16.210 | |
| outKegg2Gmt | 0.000 | 0.000 | 0.001 | |
| runPathwaySplice | 52.679 | 0.216 | 53.126 | |