| Back to Multiple platform build/check report for BioC 3.9 |
|
This page was generated on 2019-04-09 11:52:15 -0400 (Tue, 09 Apr 2019).
| Package 1665/1703 | Hostname | OS / Arch | INSTALL | BUILD | CHECK | BUILD BIN | ||||||
| universalmotif 1.1.66 Benjamin Jean-Marie Tremblay
| malbec2 | Linux (Ubuntu 18.04.2 LTS) / x86_64 | OK | [ OK ] | OK | |||||||
| tokay2 | Windows Server 2012 R2 Standard / x64 | OK | OK | ERROR | OK | |||||||
| celaya2 | OS X 10.11.6 El Capitan / x86_64 | OK | OK | OK | OK | |||||||
| merida2 | OS X 10.11.6 El Capitan / x86_64 | OK | OK | OK | OK |
| Package: universalmotif |
| Version: 1.1.66 |
| Command: /home/biocbuild/bbs-3.9-bioc/R/bin/R CMD build --keep-empty-dirs --no-resave-data universalmotif |
| StartedAt: 2019-04-08 22:21:22 -0400 (Mon, 08 Apr 2019) |
| EndedAt: 2019-04-08 22:26:04 -0400 (Mon, 08 Apr 2019) |
| EllapsedTime: 282.4 seconds |
| RetCode: 0 |
| Status: OK |
| PackageFile: universalmotif_1.1.66.tar.gz |
| PackageFileSize: 1.538 MiB |
##############################################################################
##############################################################################
###
### Running command:
###
### /home/biocbuild/bbs-3.9-bioc/R/bin/R CMD build --keep-empty-dirs --no-resave-data universalmotif
###
##############################################################################
##############################################################################
* checking for file ‘universalmotif/DESCRIPTION’ ... OK
* preparing ‘universalmotif’:
* checking DESCRIPTION meta-information ... OK
* cleaning src
* installing the package to process help pages
Loading required namespace: universalmotif
Registered S3 methods overwritten by 'ggplot2':
method from
[.quosures rlang
c.quosures rlang
print.quosures rlang
Registered S3 method overwritten by 'treeio':
method from
root.phylo ape
* saving partial Rd database
* creating vignettes ... OK
Warning: ‘inst/doc’ file
‘IntroductionToSequenceMotifs.R’
ignored as vignettes have been rebuilt.
Run R CMD build with --no-build-vignettes to prevent rebuilding.
* cleaning src
* checking for LF line-endings in source and make files and shell scripts
* checking for empty or unneeded directories
* looking to see if a ‘data/datalist’ file should be added
* building ‘universalmotif_1.1.66.tar.gz’