| Back to Multiple platform build/check report for BioC 3.9 |
|
This page was generated on 2019-04-09 11:26:06 -0400 (Tue, 09 Apr 2019).
| Package 1695/1703 | Hostname | OS / Arch | INSTALL | BUILD | CHECK | BUILD BIN | ||||||
| xps 1.43.0 Christian Stratowa
| malbec2 | Linux (Ubuntu 18.04.2 LTS) / x86_64 | OK | [ OK ] | OK | |||||||
| tokay2 | Windows Server 2012 R2 Standard / x64 | ...NOT SUPPORTED... | ||||||||||
| celaya2 | OS X 10.11.6 El Capitan / x86_64 | OK | OK | OK | OK | |||||||
| merida2 | OS X 10.11.6 El Capitan / x86_64 | OK | OK | OK | OK | |||||||
| Package: xps |
| Version: 1.43.0 |
| Command: /home/biocbuild/bbs-3.9-bioc/R/bin/R CMD build --keep-empty-dirs --no-resave-data xps |
| StartedAt: 2019-04-08 19:12:47 -0400 (Mon, 08 Apr 2019) |
| EndedAt: 2019-04-08 19:18:21 -0400 (Mon, 08 Apr 2019) |
| EllapsedTime: 334.3 seconds |
| RetCode: 0 |
| Status: OK |
| PackageFile: xps_1.43.0.tar.gz |
| PackageFileSize: 6.258 MiB |
##############################################################################
##############################################################################
###
### Running command:
###
### /home/biocbuild/bbs-3.9-bioc/R/bin/R CMD build --keep-empty-dirs --no-resave-data xps
###
##############################################################################
##############################################################################
* checking for file ‘xps/DESCRIPTION’ ... OK
* preparing ‘xps’:
* checking DESCRIPTION meta-information ... OK
* cleaning src
* installing the package to build vignettes
* creating vignettes ... OK
Warning: ‘inst/doc’ files
‘xpsClasses.R’, ‘xpsPreprocess.R’
ignored as vignettes have been rebuilt.
Run R CMD build with --no-build-vignettes to prevent rebuilding.
* cleaning src
* checking for LF line-endings in source and make files and shell scripts
* checking for empty or unneeded directories
* building ‘xps_1.43.0.tar.gz’