| Back to Multiple platform build/check report for BioC 3.9 |
|
This page was generated on 2019-04-09 11:32:44 -0400 (Tue, 09 Apr 2019).
| Package 1588/1703 | Hostname | OS / Arch | INSTALL | BUILD | CHECK | BUILD BIN | ||||||
| synapter 2.7.1 Laurent Gatto
| malbec2 | Linux (Ubuntu 18.04.2 LTS) / x86_64 | OK | [ OK ] | OK | |||||||
| tokay2 | Windows Server 2012 R2 Standard / x64 | OK | OK | OK | OK | |||||||
| celaya2 | OS X 10.11.6 El Capitan / x86_64 | OK | OK | OK | OK | |||||||
| merida2 | OS X 10.11.6 El Capitan / x86_64 | OK | OK | OK | OK |
| Package: synapter |
| Version: 2.7.1 |
| Command: /home/biocbuild/bbs-3.9-bioc/R/bin/R CMD build --keep-empty-dirs --no-resave-data synapter |
| StartedAt: 2019-04-08 19:49:32 -0400 (Mon, 08 Apr 2019) |
| EndedAt: 2019-04-08 19:58:46 -0400 (Mon, 08 Apr 2019) |
| EllapsedTime: 553.5 seconds |
| RetCode: 0 |
| Status: OK |
| PackageFile: synapter_2.7.1.tar.gz |
| PackageFileSize: 4.141 MiB |
##############################################################################
##############################################################################
###
### Running command:
###
### /home/biocbuild/bbs-3.9-bioc/R/bin/R CMD build --keep-empty-dirs --no-resave-data synapter
###
##############################################################################
##############################################################################
* checking for file ‘synapter/DESCRIPTION’ ... OK
* preparing ‘synapter’:
* checking DESCRIPTION meta-information ... OK
* installing the package to build vignettes
* creating vignettes ... OK
Warning: ‘inst/doc’ file
‘synapter2.R’
ignored as vignettes have been rebuilt.
Run R CMD build with --no-build-vignettes to prevent rebuilding.
* checking for LF line-endings in source and make files and shell scripts
* checking for empty or unneeded directories
* looking to see if a ‘data/datalist’ file should be added
* building ‘synapter_2.7.1.tar.gz’