| Back to Multiple platform build/check report for BioC 3.9 | 
 | 
This page was generated on 2019-04-09 11:49:32 -0400 (Tue, 09 Apr 2019).
| Package 1629/1703 | Hostname | OS / Arch | INSTALL | BUILD | CHECK | BUILD BIN | ||||||
| transcriptogramer 1.5.6 Diego Morais 
 | malbec2 | Linux (Ubuntu 18.04.2 LTS) / x86_64 | OK | OK | [ OK ] |  | ||||||
| tokay2 | Windows Server 2012 R2 Standard / x64 | OK | OK | OK | OK |  | ||||||
| celaya2 | OS X 10.11.6 El Capitan / x86_64 | OK | OK | OK | OK |  | ||||||
| merida2 | OS X 10.11.6 El Capitan / x86_64 | OK | OK | OK | OK | 
| Package: transcriptogramer | 
| Version: 1.5.6 | 
| Command: /home/biocbuild/bbs-3.9-bioc/R/bin/R CMD check --install=check:transcriptogramer.install-out.txt --library=/home/biocbuild/bbs-3.9-bioc/R/library --no-vignettes --timings transcriptogramer_1.5.6.tar.gz | 
| StartedAt: 2019-04-09 04:06:42 -0400 (Tue, 09 Apr 2019) | 
| EndedAt: 2019-04-09 04:09:59 -0400 (Tue, 09 Apr 2019) | 
| EllapsedTime: 196.5 seconds | 
| RetCode: 0 | 
| Status: OK | 
| CheckDir: transcriptogramer.Rcheck | 
| Warnings: 0 | 
##############################################################################
##############################################################################
###
### Running command:
###
###   /home/biocbuild/bbs-3.9-bioc/R/bin/R CMD check --install=check:transcriptogramer.install-out.txt --library=/home/biocbuild/bbs-3.9-bioc/R/library --no-vignettes --timings transcriptogramer_1.5.6.tar.gz
###
##############################################################################
##############################################################################
* using log directory ‘/home/biocbuild/bbs-3.9-bioc/meat/transcriptogramer.Rcheck’
* using R Under development (unstable) (2019-03-18 r76245)
* using platform: x86_64-pc-linux-gnu (64-bit)
* using session charset: UTF-8
* using option ‘--no-vignettes’
* checking for file ‘transcriptogramer/DESCRIPTION’ ... OK
* checking extension type ... Package
* this is package ‘transcriptogramer’ version ‘1.5.6’
* package encoding: UTF-8
* checking package namespace information ... OK
* checking package dependencies ... OK
* checking if this is a source package ... OK
* checking if there is a namespace ... OK
* checking for hidden files and directories ... OK
* checking for portable file names ... OK
* checking for sufficient/correct file permissions ... OK
* checking whether package ‘transcriptogramer’ can be installed ... OK
* checking installed package size ... NOTE
  installed size is  5.6Mb
  sub-directories of 1Mb or more:
    data   5.0Mb
* checking package directory ... OK
* checking ‘build’ directory ... OK
* checking DESCRIPTION meta-information ... OK
* checking top-level files ... OK
* checking for left-over files ... OK
* checking index information ... OK
* checking package subdirectories ... OK
* checking R files for non-ASCII characters ... OK
* checking R files for syntax errors ... OK
* checking whether the package can be loaded ... OK
* checking whether the package can be loaded with stated dependencies ... OK
* checking whether the package can be unloaded cleanly ... OK
* checking whether the namespace can be loaded with stated dependencies ... OK
* checking whether the namespace can be unloaded cleanly ... OK
* checking dependencies in R code ... OK
* checking S3 generic/method consistency ... OK
* checking replacement functions ... OK
* checking foreign function calls ... OK
* checking R code for possible problems ... OK
* checking Rd files ... OK
* checking Rd metadata ... OK
* checking Rd cross-references ... OK
* checking for missing documentation entries ... OK
* checking for code/documentation mismatches ... OK
* checking Rd \usage sections ... OK
* checking Rd contents ... OK
* checking for unstated dependencies in examples ... OK
* checking contents of ‘data’ directory ... OK
* checking data for non-ASCII characters ... OK
* checking data for ASCII and uncompressed saves ... OK
* checking files in ‘vignettes’ ... OK
* checking examples ... OK
* checking for unstated dependencies in ‘tests’ ... OK
* checking tests ...
  Running ‘runTests.R’
 OK
* checking for unstated dependencies in vignettes ... OK
* checking package vignettes in ‘inst/doc’ ... OK
* checking running R code from vignettes ... SKIPPED
* checking re-building of vignette outputs ... SKIPPED
* checking PDF version of manual ... OK
* DONE
Status: 1 NOTE
See
  ‘/home/biocbuild/bbs-3.9-bioc/meat/transcriptogramer.Rcheck/00check.log’
for details.
transcriptogramer.Rcheck/00install.out
############################################################################## ############################################################################## ### ### Running command: ### ### /home/biocbuild/bbs-3.9-bioc/R/bin/R CMD INSTALL transcriptogramer ### ############################################################################## ############################################################################## * installing to library ‘/home/biocbuild/bbs-3.9-bioc/R/library’ * installing *source* package ‘transcriptogramer’ ... ** using staged installation ** R ** data *** moving datasets to lazyload DB ** inst ** byte-compile and prepare package for lazy loading ** help *** installing help indices ** building package indices ** installing vignettes ** testing if installed package can be loaded from temporary location ** testing if installed package can be loaded from final location ** testing if installed package keeps a record of temporary installation path * DONE (transcriptogramer)
transcriptogramer.Rcheck/tests/runTests.Rout
R Under development (unstable) (2019-03-18 r76245) -- "Unsuffered Consequences"
Copyright (C) 2019 The R Foundation for Statistical Computing
Platform: x86_64-pc-linux-gnu (64-bit)
R is free software and comes with ABSOLUTELY NO WARRANTY.
You are welcome to redistribute it under certain conditions.
Type 'license()' or 'licence()' for distribution details.
R is a collaborative project with many contributors.
Type 'contributors()' for more information and
'citation()' on how to cite R or R packages in publications.
Type 'demo()' for some demos, 'help()' for on-line help, or
'help.start()' for an HTML browser interface to help.
Type 'q()' to quit R.
> BiocGenerics:::testPackage("transcriptogramer")
preprocessing input data... step 1 of 1
calculating node properties... step 1 of 2
** this may take some time...
applying sliding window and mounting resulting data... step 2 of 2
** this may take some time...
done!
mapping identifiers to ENSEMBL Peptide ID... step 1 of 2
averaging over all identifiers related to the same protein... step 2 of 2
done!
applying sliding window and mounting resulting data... step 1 of 1
done!
RUNIT TEST PROTOCOL -- Tue Apr  9 04:09:55 2019 
*********************************************** 
Number of test functions: 3 
Number of errors: 0 
Number of failures: 0 
 
1 Test Suite : 
transcriptogramer RUnit Tests - 3 test functions, 0 errors, 0 failures
Number of test functions: 3 
Number of errors: 0 
Number of failures: 0 
> 
> proc.time()
   user  system elapsed 
  9.073   2.096  66.033 
transcriptogramer.Rcheck/transcriptogramer-Ex.timings
| name | user | system | elapsed | |
| DE-method | 1.187 | 0.040 | 1.232 | |
| DEsymbols | 0.164 | 0.052 | 0.216 | |
| GPL570 | 0.661 | 0.132 | 0.793 | |
| GSE9988 | 0.539 | 0.164 | 0.703 | |
| Hs700 | 0.103 | 0.032 | 0.135 | |
| Hs800 | 0.066 | 0.048 | 0.114 | |
| Hs900 | 0.068 | 0.020 | 0.088 | |
| HsBPTerms | 0.771 | 0.148 | 0.919 | |
| Mm700 | 0.093 | 0.052 | 0.145 | |
| Mm800 | 0.090 | 0.028 | 0.118 | |
| Mm900 | 0.066 | 0.032 | 0.098 | |
| Rn700 | 0.124 | 0.028 | 0.151 | |
| Rn800 | 0.109 | 0.016 | 0.125 | |
| Rn900 | 0.070 | 0.028 | 0.097 | |
| Sc700 | 0.019 | 0.016 | 0.035 | |
| Sc800 | 0.017 | 0.016 | 0.033 | |
| Sc900 | 0.025 | 0.004 | 0.030 | |
| Terms-method | 0.07 | 0.00 | 0.07 | |
| association | 0.947 | 0.196 | 1.143 | |
| clusterEnrichment-method | 0.026 | 0.008 | 0.034 | |
| clusterVisualization-method | 0.053 | 0.000 | 0.052 | |
| connectivityProperties-method | 0.025 | 0.008 | 0.034 | |
| differentiallyExpressed-method | 0.047 | 0.000 | 0.048 | |
| enrichmentPlot-method | 0.025 | 0.008 | 0.034 | |
| orderingProperties-method | 0.042 | 0.004 | 0.046 | |
| radius-method | 0.030 | 0.004 | 0.034 | |
| transcriptogramPreprocess | 0.048 | 0.000 | 0.048 | |
| transcriptogramStep1-method | 0.030 | 0.004 | 0.034 | |
| transcriptogramStep2-method | 0.048 | 0.000 | 0.047 | |