| Back to Multiple platform build/check report for BioC 3.9 | 
 | 
This page was generated on 2019-04-09 11:50:11 -0400 (Tue, 09 Apr 2019).
| Package 415/1703 | Hostname | OS / Arch | INSTALL | BUILD | CHECK | BUILD BIN | ||||||
| DEScan2 1.3.2 Dario Righelli 
 | malbec2 | Linux (Ubuntu 18.04.2 LTS) / x86_64 | OK | [ OK ] | OK |  | ||||||
| tokay2 | Windows Server 2012 R2 Standard / x64 | OK | OK | WARNINGS | OK |  | ||||||
| celaya2 | OS X 10.11.6 El Capitan / x86_64 | OK | OK | OK | OK |  | ||||||
| merida2 | OS X 10.11.6 El Capitan / x86_64 | OK | OK | OK | OK | 
| Package: DEScan2 | 
| Version: 1.3.2 | 
| Command: /home/biocbuild/bbs-3.9-bioc/R/bin/R CMD build --keep-empty-dirs --no-resave-data DEScan2 | 
| StartedAt: 2019-04-08 22:00:15 -0400 (Mon, 08 Apr 2019) | 
| EndedAt: 2019-04-08 22:02:21 -0400 (Mon, 08 Apr 2019) | 
| EllapsedTime: 125.4 seconds | 
| RetCode: 0 | 
| Status: OK | 
| PackageFile: DEScan2_1.3.2.tar.gz | 
| PackageFileSize: 2.479 MiB | 
############################################################################## ############################################################################## ### ### Running command: ### ### /home/biocbuild/bbs-3.9-bioc/R/bin/R CMD build --keep-empty-dirs --no-resave-data DEScan2 ### ############################################################################## ############################################################################## * checking for file ‘DEScan2/DESCRIPTION’ ... OK * preparing ‘DEScan2’: * checking DESCRIPTION meta-information ... OK * cleaning src * installing the package to build vignettes * creating vignettes ... OK * cleaning src * checking for LF line-endings in source and make files and shell scripts * checking for empty or unneeded directories * building ‘DEScan2_1.3.2.tar.gz’