| Back to Multiple platform build/check report for BioC 3.9 | 
 | 
This page was generated on 2019-04-09 11:48:46 -0400 (Tue, 09 Apr 2019).
| Package 979/1703 | Hostname | OS / Arch | INSTALL | BUILD | CHECK | BUILD BIN | ||||||
| microbiome 1.5.31 Leo Lahti 
 | malbec2 | Linux (Ubuntu 18.04.2 LTS) / x86_64 | OK | [ OK ] | WARNINGS |  | ||||||
| tokay2 | Windows Server 2012 R2 Standard / x64 | OK | OK | WARNINGS | OK |  | ||||||
| celaya2 | OS X 10.11.6 El Capitan / x86_64 | OK | OK | WARNINGS | OK |  | ||||||
| merida2 | OS X 10.11.6 El Capitan / x86_64 | OK | OK | WARNINGS | OK | 
| Package: microbiome | 
| Version: 1.5.31 | 
| Command: /home/biocbuild/bbs-3.9-bioc/R/bin/R CMD build --keep-empty-dirs --no-resave-data microbiome | 
| StartedAt: 2019-04-08 21:46:06 -0400 (Mon, 08 Apr 2019) | 
| EndedAt: 2019-04-08 21:46:45 -0400 (Mon, 08 Apr 2019) | 
| EllapsedTime: 39.3 seconds | 
| RetCode: 0 | 
| Status: OK | 
| PackageFile: microbiome_1.5.31.tar.gz | 
| PackageFileSize: 904.7 KiB | 
############################################################################## ############################################################################## ### ### Running command: ### ### /home/biocbuild/bbs-3.9-bioc/R/bin/R CMD build --keep-empty-dirs --no-resave-data microbiome ### ############################################################################## ############################################################################## * checking for file ‘microbiome/DESCRIPTION’ ... OK * preparing ‘microbiome’: * checking DESCRIPTION meta-information ... OK * installing the package to build vignettes * creating vignettes ... OK * checking for LF line-endings in source and make files and shell scripts * checking for empty or unneeded directories * looking to see if a ‘data/datalist’ file should be added * building ‘microbiome_1.5.31.tar.gz’