| Back to Multiple platform build/check report for BioC 3.9 | 
 | 
This page was generated on 2019-04-09 11:42:32 -0400 (Tue, 09 Apr 2019).
| Package 1140/1703 | Hostname | OS / Arch | INSTALL | BUILD | CHECK | BUILD BIN | ||||||
| pandaR 1.15.0 Joseph N. Paulson 
 | malbec2 | Linux (Ubuntu 18.04.2 LTS) / x86_64 | OK | OK | [ OK ] |  | ||||||
| tokay2 | Windows Server 2012 R2 Standard / x64 | OK | OK | OK | OK |  | ||||||
| celaya2 | OS X 10.11.6 El Capitan / x86_64 | OK | OK | OK | OK |  | ||||||
| merida2 | OS X 10.11.6 El Capitan / x86_64 | OK | OK | OK | OK | 
| Package: pandaR | 
| Version: 1.15.0 | 
| Command: /home/biocbuild/bbs-3.9-bioc/R/bin/R CMD check --install=check:pandaR.install-out.txt --library=/home/biocbuild/bbs-3.9-bioc/R/library --no-vignettes --timings pandaR_1.15.0.tar.gz | 
| StartedAt: 2019-04-09 02:32:58 -0400 (Tue, 09 Apr 2019) | 
| EndedAt: 2019-04-09 02:34:10 -0400 (Tue, 09 Apr 2019) | 
| EllapsedTime: 71.8 seconds | 
| RetCode: 0 | 
| Status: OK | 
| CheckDir: pandaR.Rcheck | 
| Warnings: 0 | 
##############################################################################
##############################################################################
###
### Running command:
###
###   /home/biocbuild/bbs-3.9-bioc/R/bin/R CMD check --install=check:pandaR.install-out.txt --library=/home/biocbuild/bbs-3.9-bioc/R/library --no-vignettes --timings pandaR_1.15.0.tar.gz
###
##############################################################################
##############################################################################
* using log directory ‘/home/biocbuild/bbs-3.9-bioc/meat/pandaR.Rcheck’
* using R Under development (unstable) (2019-03-18 r76245)
* using platform: x86_64-pc-linux-gnu (64-bit)
* using session charset: UTF-8
* using option ‘--no-vignettes’
* checking for file ‘pandaR/DESCRIPTION’ ... OK
* this is package ‘pandaR’ version ‘1.15.0’
* checking package namespace information ... OK
* checking package dependencies ... OK
* checking if this is a source package ... OK
* checking if there is a namespace ... OK
* checking for hidden files and directories ... OK
* checking for portable file names ... OK
* checking for sufficient/correct file permissions ... OK
* checking whether package ‘pandaR’ can be installed ... OK
* checking installed package size ... NOTE
  installed size is  9.3Mb
  sub-directories of 1Mb or more:
    data   9.0Mb
* checking package directory ... OK
* checking ‘build’ directory ... OK
* checking DESCRIPTION meta-information ... OK
* checking top-level files ... OK
* checking for left-over files ... OK
* checking index information ... OK
* checking package subdirectories ... OK
* checking R files for non-ASCII characters ... OK
* checking R files for syntax errors ... OK
* checking whether the package can be loaded ... OK
* checking whether the package can be loaded with stated dependencies ... OK
* checking whether the package can be unloaded cleanly ... OK
* checking whether the namespace can be loaded with stated dependencies ... OK
* checking whether the namespace can be unloaded cleanly ... OK
* checking dependencies in R code ... OK
* checking S3 generic/method consistency ... NOTE
Found the following apparent S3 methods exported but not registered:
  plot.panda
See section ‘Registering S3 methods’ in the ‘Writing R Extensions’
manual.
* checking replacement functions ... OK
* checking foreign function calls ... OK
* checking R code for possible problems ... NOTE
dFunction: no visible global function definition for ‘cor’
importPandaMatlab: no visible global function definition for
  ‘read.delim’
panda: no visible global function definition for ‘cor’
panda: no visible global function definition for ‘aggregate’
plot.panda: no visible global function definition for ‘hist’
plotCommunityDetection: no visible global function definition for
  ‘title’
plotZbyTF: no visible global function definition for ‘aggregate’
prepResult: no visible global function definition for ‘pnorm’
Undefined global functions or variables:
  aggregate cor hist pnorm read.delim title
Consider adding
  importFrom("graphics", "hist", "title")
  importFrom("stats", "aggregate", "cor", "pnorm")
  importFrom("utils", "read.delim")
to your NAMESPACE file.
* checking Rd files ... OK
* checking Rd metadata ... OK
* checking Rd cross-references ... OK
* checking for missing documentation entries ... OK
* checking for code/documentation mismatches ... OK
* checking Rd \usage sections ... NOTE
S3 methods shown with full name in documentation object 'plot.panda':
  ‘plot.panda’
The \usage entries for S3 methods should use the \method markup and not
their full name.
See chapter ‘Writing R documentation files’ in the ‘Writing R
Extensions’ manual.
* checking Rd contents ... OK
* checking for unstated dependencies in examples ... OK
* checking contents of ‘data’ directory ... OK
* checking data for non-ASCII characters ... OK
* checking data for ASCII and uncompressed saves ... OK
* checking files in ‘vignettes’ ... OK
* checking examples ... OK
Examples with CPU or elapsed time > 5s
       user system elapsed
panda 8.767  0.068   9.712
* checking for unstated dependencies in vignettes ... OK
* checking package vignettes in ‘inst/doc’ ... OK
* checking running R code from vignettes ... SKIPPED
* checking re-building of vignette outputs ... SKIPPED
* checking PDF version of manual ... OK
* DONE
Status: 4 NOTEs
See
  ‘/home/biocbuild/bbs-3.9-bioc/meat/pandaR.Rcheck/00check.log’
for details.
pandaR.Rcheck/00install.out
############################################################################## ############################################################################## ### ### Running command: ### ### /home/biocbuild/bbs-3.9-bioc/R/bin/R CMD INSTALL pandaR ### ############################################################################## ############################################################################## * installing to library ‘/home/biocbuild/bbs-3.9-bioc/R/library’ * installing *source* package ‘pandaR’ ... ** using staged installation ** R ** data *** moving datasets to lazyload DB ** inst ** byte-compile and prepare package for lazy loading ** help *** installing help indices ** building package indices ** installing vignettes ** testing if installed package can be loaded from temporary location ** testing if installed package can be loaded from final location ** testing if installed package keeps a record of temporary installation path * DONE (pandaR)
pandaR.Rcheck/pandaR-Ex.timings
| name | user | system | elapsed | |
| calcDegree | 0.385 | 0.048 | 0.433 | |
| calcDegreeDifference | 0 | 0 | 0 | |
| importPandaMatlab | 0 | 0 | 0 | |
| panda | 8.767 | 0.068 | 9.712 | |
| plot.panda | 0.1 | 0.0 | 0.2 | |
| plotCommunityDetection | 0.212 | 0.004 | 0.304 | |
| plotGraph | 0.177 | 0.004 | 0.300 | |
| plotZ | 1.447 | 0.012 | 2.803 | |
| plotZbyTF | 2.747 | 0.016 | 3.990 | |
| print.panda | 0.084 | 0.008 | 0.092 | |
| subnetwork | 0.306 | 0.008 | 0.379 | |
| summary.panda | 0.084 | 0.026 | 0.149 | |
| targetedGenes | 0.204 | 0.000 | 0.425 | |
| testMotif | 2.946 | 0.016 | 3.365 | |
| topedges | 0.146 | 0.000 | 0.147 | |