| Back to Multiple platform build/check report for BioC 3.9 |
|
This page was generated on 2019-04-09 11:51:15 -0400 (Tue, 09 Apr 2019).
| Package 1473/1703 | Hostname | OS / Arch | INSTALL | BUILD | CHECK | BUILD BIN | ||||||
| sesame 1.1.15 Wanding Zhou
| malbec2 | Linux (Ubuntu 18.04.2 LTS) / x86_64 | OK | OK | [ OK ] | |||||||
| tokay2 | Windows Server 2012 R2 Standard / x64 | OK | OK | OK | OK | |||||||
| celaya2 | OS X 10.11.6 El Capitan / x86_64 | OK | OK | OK | OK | |||||||
| merida2 | OS X 10.11.6 El Capitan / x86_64 | OK | ERROR | skipped | skipped |
| Package: sesame |
| Version: 1.1.15 |
| Command: /home/biocbuild/bbs-3.9-bioc/R/bin/R CMD check --install=check:sesame.install-out.txt --library=/home/biocbuild/bbs-3.9-bioc/R/library --no-vignettes --timings sesame_1.1.15.tar.gz |
| StartedAt: 2019-04-09 03:36:05 -0400 (Tue, 09 Apr 2019) |
| EndedAt: 2019-04-09 03:49:07 -0400 (Tue, 09 Apr 2019) |
| EllapsedTime: 782.8 seconds |
| RetCode: 0 |
| Status: OK |
| CheckDir: sesame.Rcheck |
| Warnings: 0 |
##############################################################################
##############################################################################
###
### Running command:
###
### /home/biocbuild/bbs-3.9-bioc/R/bin/R CMD check --install=check:sesame.install-out.txt --library=/home/biocbuild/bbs-3.9-bioc/R/library --no-vignettes --timings sesame_1.1.15.tar.gz
###
##############################################################################
##############################################################################
* using log directory ‘/home/biocbuild/bbs-3.9-bioc/meat/sesame.Rcheck’
* using R Under development (unstable) (2019-03-18 r76245)
* using platform: x86_64-pc-linux-gnu (64-bit)
* using session charset: UTF-8
* using option ‘--no-vignettes’
* checking for file ‘sesame/DESCRIPTION’ ... OK
* checking extension type ... Package
* this is package ‘sesame’ version ‘1.1.15’
* package encoding: UTF-8
* checking package namespace information ... OK
* checking package dependencies ... OK
* checking if this is a source package ... OK
* checking if there is a namespace ... OK
* checking for hidden files and directories ... OK
* checking for portable file names ... OK
* checking for sufficient/correct file permissions ... OK
* checking whether package ‘sesame’ can be installed ... OK
* checking installed package size ... OK
* checking package directory ... OK
* checking ‘build’ directory ... OK
* checking DESCRIPTION meta-information ... OK
* checking top-level files ... OK
* checking for left-over files ... OK
* checking index information ... OK
* checking package subdirectories ... OK
* checking R files for non-ASCII characters ... OK
* checking R files for syntax errors ... OK
* checking whether the package can be loaded ... OK
* checking whether the package can be loaded with stated dependencies ... OK
* checking whether the package can be unloaded cleanly ... OK
* checking whether the namespace can be loaded with stated dependencies ... OK
* checking whether the namespace can be unloaded cleanly ... OK
* checking dependencies in R code ... OK
* checking S3 generic/method consistency ... OK
* checking replacement functions ... OK
* checking foreign function calls ... OK
* checking R code for possible problems ... OK
* checking Rd files ... OK
* checking Rd metadata ... OK
* checking Rd cross-references ... OK
* checking for missing documentation entries ... OK
* checking for code/documentation mismatches ... OK
* checking Rd \usage sections ... OK
* checking Rd contents ... OK
* checking for unstated dependencies in examples ... OK
* checking files in ‘vignettes’ ... OK
* checking examples ... OK
Examples with CPU or elapsed time > 5s
user system elapsed
cnSegmentation 60.165 0.221 61.052
RGChannelSetToSigSets 29.554 1.732 34.905
SigSetToRatioSet 18.603 0.163 19.274
as.data.frame.sesameQC 16.379 0.224 17.046
detectionPoobEcdf 16.517 0.004 16.525
dyeBiasCorrMostBalanced 14.421 0.116 16.020
diffRefSet 13.135 0.052 13.267
print.sesameQC 11.727 0.276 12.004
SigSetsToRGChannelSet 11.374 0.080 11.525
sesameQC 10.419 0.048 10.470
SNPcheck 7.861 0.131 9.630
detectionPnegEcdf 6.734 0.000 6.734
openSesame 6.475 0.029 6.556
detectionPnegNormGS 6.287 0.008 6.297
openSesameToFile 6.237 0.028 6.266
noobsb 6.116 0.040 6.160
detectionPfixedNorm 6.098 0.000 6.099
getSexInfo 5.831 0.000 5.832
detectionPnegNorm 5.804 0.000 5.804
getBetas 5.751 0.000 5.773
detectionPnegNormTotal 5.696 0.001 5.703
IG-methods 4.930 0.044 5.187
* checking for unstated dependencies in ‘tests’ ... OK
* checking tests ...
Running ‘testthat.R’
OK
* checking for unstated dependencies in vignettes ... OK
* checking package vignettes in ‘inst/doc’ ... OK
* checking running R code from vignettes ... SKIPPED
* checking re-building of vignette outputs ... SKIPPED
* checking PDF version of manual ... OK
* DONE
Status: OK
sesame.Rcheck/00install.out
############################################################################## ############################################################################## ### ### Running command: ### ### /home/biocbuild/bbs-3.9-bioc/R/bin/R CMD INSTALL sesame ### ############################################################################## ############################################################################## * installing to library ‘/home/biocbuild/bbs-3.9-bioc/R/library’ * installing *source* package ‘sesame’ ... ** using staged installation ** R ** inst ** byte-compile and prepare package for lazy loading ** help *** installing help indices ** building package indices ** installing vignettes ** testing if installed package can be loaded from temporary location ** testing if installed package can be loaded from final location ** testing if installed package keeps a record of temporary installation path * DONE (sesame)
sesame.Rcheck/tests/testthat.Rout
R Under development (unstable) (2019-03-18 r76245) -- "Unsuffered Consequences"
Copyright (C) 2019 The R Foundation for Statistical Computing
Platform: x86_64-pc-linux-gnu (64-bit)
R is free software and comes with ABSOLUTELY NO WARRANTY.
You are welcome to redistribute it under certain conditions.
Type 'license()' or 'licence()' for distribution details.
R is a collaborative project with many contributors.
Type 'contributors()' for more information and
'citation()' on how to cite R or R packages in publications.
Type 'demo()' for some demos, 'help()' for on-line help, or
'help.start()' for an HTML browser interface to help.
Type 'q()' to quit R.
> library(testthat)
> library(sesame)
Loading required package: sesameData
Loading required package: ExperimentHub
Loading required package: BiocGenerics
Loading required package: parallel
Attaching package: 'BiocGenerics'
The following objects are masked from 'package:parallel':
clusterApply, clusterApplyLB, clusterCall, clusterEvalQ,
clusterExport, clusterMap, parApply, parCapply, parLapply,
parLapplyLB, parRapply, parSapply, parSapplyLB
The following objects are masked from 'package:stats':
IQR, mad, sd, var, xtabs
The following objects are masked from 'package:base':
Filter, Find, Map, Position, Reduce, anyDuplicated, append,
as.data.frame, basename, cbind, colMeans, colSums, colnames,
dirname, do.call, duplicated, eval, evalq, get, grep, grepl,
intersect, is.unsorted, lapply, mapply, match, mget, order, paste,
pmax, pmax.int, pmin, pmin.int, rank, rbind, rowMeans, rowSums,
rownames, sapply, setdiff, sort, table, tapply, union, unique,
unsplit, which, which.max, which.min
Loading required package: AnnotationHub
Loading required package: BiocFileCache
Loading required package: dbplyr
Loading sesameData.
>
> test_check("sesame")
══ testthat results ═══════════════════════════════════════════════════════════
OK: 19 SKIPPED: 0 FAILED: 0
>
> proc.time()
user system elapsed
89.805 3.901 89.271
sesame.Rcheck/sesame-Ex.timings
| name | user | system | elapsed | |
| BetaValueToMValue | 0.001 | 0.000 | 0.000 | |
| IG-methods | 4.930 | 0.044 | 5.187 | |
| IG-replace-methods | 0.001 | 0.001 | 0.001 | |
| II-methods | 0.001 | 0.000 | 0.001 | |
| II-replace-methods | 0.007 | 0.000 | 0.008 | |
| IR-methods | 0 | 0 | 0 | |
| IR-replace-methods | 0.003 | 0.000 | 0.002 | |
| MValueToBetaValue | 0 | 0 | 0 | |
| RGChannelSetToSigSets | 29.554 | 1.732 | 34.905 | |
| SNPcheck | 7.861 | 0.131 | 9.630 | |
| SigSet-class | 0.003 | 0.000 | 0.003 | |
| SigSetList-methods | 2.727 | 0.016 | 2.860 | |
| SigSetList | 0.334 | 0.008 | 0.346 | |
| SigSetListFromIDATs | 0.160 | 0.004 | 0.170 | |
| SigSetListFromPath | 0.269 | 0.004 | 0.274 | |
| SigSetToRatioSet | 18.603 | 0.163 | 19.274 | |
| SigSetsToRGChannelSet | 11.374 | 0.080 | 11.525 | |
| SignalSet | 0.004 | 0.000 | 0.005 | |
| as.data.frame.sesameQC | 16.379 | 0.224 | 17.046 | |
| bisConversionControl | 4.449 | 0.003 | 4.452 | |
| buildControlMatrix450k | 3.607 | 0.000 | 3.607 | |
| cnSegmentation | 60.165 | 0.221 | 61.052 | |
| ctl-methods | 0.002 | 0.000 | 0.002 | |
| ctl-replace-methods | 0.001 | 0.000 | 0.001 | |
| detectionPfixedNorm | 6.098 | 0.000 | 6.099 | |
| detectionPnegEcdf | 6.734 | 0.000 | 6.734 | |
| detectionPnegNorm | 5.804 | 0.000 | 5.804 | |
| detectionPnegNormGS | 6.287 | 0.008 | 6.297 | |
| detectionPnegNormTotal | 5.696 | 0.001 | 5.703 | |
| detectionPoobEcdf | 16.517 | 0.004 | 16.525 | |
| detectionZero | 3.807 | 0.004 | 3.811 | |
| diffRefSet | 13.135 | 0.052 | 13.267 | |
| dyeBiasCorr | 0.193 | 0.000 | 0.193 | |
| dyeBiasCorrMostBalanced | 14.421 | 0.116 | 16.020 | |
| dyeBiasCorrTypeINorm | 1.626 | 0.020 | 1.649 | |
| estimateLeukocyte | 4.158 | 0.040 | 4.256 | |
| getAFTypeIbySumAlleles | 0.069 | 0.000 | 0.073 | |
| getBetas | 5.751 | 0.000 | 5.773 | |
| getNormCtls | 0.162 | 0.003 | 0.167 | |
| getProbesByGene | 3.644 | 0.016 | 3.746 | |
| getProbesByRegion | 0.064 | 0.000 | 0.064 | |
| getProbesByTSS | 0.175 | 0.000 | 0.175 | |
| getRefSet | 2.790 | 0.008 | 2.806 | |
| getSexInfo | 5.831 | 0.000 | 5.832 | |
| inferEthnicity | 3.676 | 0.000 | 3.677 | |
| inferSex | 2.010 | 0.016 | 2.027 | |
| inferSexKaryotypes | 1.871 | 0.028 | 1.898 | |
| inferTypeIChannel | 0.079 | 0.000 | 0.079 | |
| initFileSet | 0.039 | 0.000 | 0.039 | |
| makeExampleSeSAMeDataSet | 3.674 | 0.000 | 3.674 | |
| makeExampleTinyEPICDataSet | 0.005 | 0.000 | 0.006 | |
| mapFileSet | 0.043 | 0.000 | 0.043 | |
| meanIntensity | 3.167 | 0.000 | 3.167 | |
| noob | 0.009 | 0.000 | 0.008 | |
| noobsb | 6.116 | 0.040 | 6.160 | |
| oobG-methods | 0.000 | 0.000 | 0.001 | |
| oobG-replace-methods | 0.001 | 0.000 | 0.001 | |
| oobR-methods | 0 | 0 | 0 | |
| oobR-replace-methods | 0.001 | 0.000 | 0.001 | |
| openSesame | 6.475 | 0.029 | 6.556 | |
| openSesameToFile | 6.237 | 0.028 | 6.266 | |
| parseGEOSignalABFile | 0.383 | 0.334 | 0.963 | |
| predictAgeHorvath353 | 0.846 | 0.232 | 0.130 | |
| predictAgePheno | 0.126 | 0.000 | 0.126 | |
| predictAgeSkinBlood | 0.127 | 0.008 | 0.135 | |
| print.fileSet | 0.056 | 0.000 | 0.056 | |
| print.sesameQC | 11.727 | 0.276 | 12.004 | |
| probeNames-methods | 0.028 | 0.000 | 0.028 | |
| pval-methods | 0.000 | 0.000 | 0.001 | |
| pval-replace-methods | 0.002 | 0.000 | 0.002 | |
| readFileSet | 0.112 | 0.012 | 0.124 | |
| readIDATpair | 0.169 | 0.016 | 0.185 | |
| searchIDATprefixes | 0.008 | 0.000 | 0.310 | |
| sesame-package | 1.484 | 0.084 | 1.568 | |
| sesameQC | 10.419 | 0.048 | 10.470 | |
| sesamize | 0 | 0 | 0 | |
| show-methods | 0.001 | 0.000 | 0.001 | |
| signalR6toS4 | 0.003 | 0.000 | 0.002 | |
| sliceFileSet | 0.049 | 0.004 | 0.053 | |
| subsetSignal | 0.139 | 0.000 | 0.139 | |
| totalIntensities | 3.373 | 0.020 | 3.392 | |
| totalIntensityZscore | 1.786 | 0.000 | 1.786 | |
| visualizeGene | 2.761 | 0.040 | 2.888 | |
| visualizeProbes | 1.066 | 0.004 | 1.070 | |
| visualizeRegion | 0.551 | 0.000 | 0.550 | |
| visualizeSegments | 1.328 | 0.024 | 1.353 | |