| Back to Multiple platform build/check report for BioC 3.9 | 
 | 
This page was generated on 2019-04-09 11:27:08 -0400 (Tue, 09 Apr 2019).
| Package 828/1703 | Hostname | OS / Arch | INSTALL | BUILD | CHECK | BUILD BIN | ||||||
| iterativeBMA 1.41.0 Ka Yee Yeung 
 | malbec2 | Linux (Ubuntu 18.04.2 LTS) / x86_64 | OK | OK | [ OK ] |  | ||||||
| tokay2 | Windows Server 2012 R2 Standard / x64 | OK | OK | OK | OK |  | ||||||
| celaya2 | OS X 10.11.6 El Capitan / x86_64 | OK | OK | OK | OK |  | ||||||
| merida2 | OS X 10.11.6 El Capitan / x86_64 | OK | OK | OK | OK | 
| Package: iterativeBMA | 
| Version: 1.41.0 | 
| Command: /home/biocbuild/bbs-3.9-bioc/R/bin/R CMD check --install=check:iterativeBMA.install-out.txt --library=/home/biocbuild/bbs-3.9-bioc/R/library --no-vignettes --timings iterativeBMA_1.41.0.tar.gz | 
| StartedAt: 2019-04-09 01:29:27 -0400 (Tue, 09 Apr 2019) | 
| EndedAt: 2019-04-09 01:30:34 -0400 (Tue, 09 Apr 2019) | 
| EllapsedTime: 67.4 seconds | 
| RetCode: 0 | 
| Status: OK | 
| CheckDir: iterativeBMA.Rcheck | 
| Warnings: 0 | 
##############################################################################
##############################################################################
###
### Running command:
###
###   /home/biocbuild/bbs-3.9-bioc/R/bin/R CMD check --install=check:iterativeBMA.install-out.txt --library=/home/biocbuild/bbs-3.9-bioc/R/library --no-vignettes --timings iterativeBMA_1.41.0.tar.gz
###
##############################################################################
##############################################################################
* using log directory ‘/home/biocbuild/bbs-3.9-bioc/meat/iterativeBMA.Rcheck’
* using R Under development (unstable) (2019-03-18 r76245)
* using platform: x86_64-pc-linux-gnu (64-bit)
* using session charset: UTF-8
* using option ‘--no-vignettes’
* checking for file ‘iterativeBMA/DESCRIPTION’ ... OK
* checking extension type ... Package
* this is package ‘iterativeBMA’ version ‘1.41.0’
* checking package namespace information ... OK
* checking package dependencies ... OK
* checking if this is a source package ... OK
* checking if there is a namespace ... OK
* checking for hidden files and directories ... OK
* checking for portable file names ... OK
* checking for sufficient/correct file permissions ... OK
* checking whether package ‘iterativeBMA’ can be installed ... OK
* checking installed package size ... OK
* checking package directory ... OK
* checking ‘build’ directory ... OK
* checking DESCRIPTION meta-information ... OK
* checking top-level files ... OK
* checking for left-over files ... OK
* checking index information ... OK
* checking package subdirectories ... OK
* checking R files for non-ASCII characters ... OK
* checking R files for syntax errors ... OK
* checking whether the package can be loaded ... OK
* checking whether the package can be loaded with stated dependencies ... OK
* checking whether the package can be unloaded cleanly ... OK
* checking whether the namespace can be loaded with stated dependencies ... OK
* checking whether the namespace can be unloaded cleanly ... OK
* checking dependencies in R code ... NOTE
Packages in Depends field not imported from:
  ‘BMA’ ‘Biobase’ ‘leaps’
  These packages need to be imported from (in the NAMESPACE file)
  for when this namespace is loaded but not attached.
* checking S3 generic/method consistency ... OK
* checking replacement functions ... OK
* checking foreign function calls ... OK
* checking R code for possible problems ... NOTE
convertSingleName: no visible global function definition for ‘exprs’
imageplot.bma.mod: no visible global function definition for ‘par’
imageplot.bma.mod: no visible global function definition for ‘image’
imageplot.bma.mod: no visible global function definition for ‘axis’
iterateBMAglm: no visible global function definition for ‘bic.glm’
iterateBMAglm.train: no visible global function definition for ‘exprs’
iterateBMAglm.train.predict: no visible global function definition for
  ‘exprs’
iterateBMAglm.train.predict.test: no visible global function definition
  for ‘exprs’
iterateBMAglm.wrapper: no visible global function definition for
  ‘bic.glm’
Undefined global functions or variables:
  axis bic.glm exprs image par
Consider adding
  importFrom("graphics", "axis", "image", "par")
to your NAMESPACE file.
* checking Rd files ... NOTE
prepare_Rd: BssWssFast.Rd:39: Dropping empty section \note
prepare_Rd: bma_predict.Rd:36: Dropping empty section \note
prepare_Rd: brier_score.Rd:34: Dropping empty section \note
prepare_Rd: testClass.Rd:13-14: Dropping empty section \details
prepare_Rd: trainClass.Rd:13-14: Dropping empty section \details
* checking Rd metadata ... OK
* checking Rd cross-references ... OK
* checking for missing documentation entries ... OK
* checking for code/documentation mismatches ... OK
* checking Rd \usage sections ... OK
* checking Rd contents ... OK
* checking for unstated dependencies in examples ... OK
* checking contents of ‘data’ directory ... OK
* checking data for non-ASCII characters ... OK
* checking data for ASCII and uncompressed saves ... OK
* checking files in ‘vignettes’ ... OK
* checking examples ... OK
* checking for unstated dependencies in vignettes ... OK
* checking package vignettes in ‘inst/doc’ ... OK
* checking running R code from vignettes ... SKIPPED
* checking re-building of vignette outputs ... SKIPPED
* checking PDF version of manual ... OK
* DONE
Status: 3 NOTEs
See
  ‘/home/biocbuild/bbs-3.9-bioc/meat/iterativeBMA.Rcheck/00check.log’
for details.
iterativeBMA.Rcheck/00install.out
############################################################################## ############################################################################## ### ### Running command: ### ### /home/biocbuild/bbs-3.9-bioc/R/bin/R CMD INSTALL iterativeBMA ### ############################################################################## ############################################################################## * installing to library ‘/home/biocbuild/bbs-3.9-bioc/R/library’ * installing *source* package ‘iterativeBMA’ ... ** using staged installation ** R ** data ** byte-compile and prepare package for lazy loading ** help *** installing help indices ** building package indices ** installing vignettes ** testing if installed package can be loaded from temporary location ** testing if installed package can be loaded from final location ** testing if installed package keeps a record of temporary installation path * DONE (iterativeBMA)
iterativeBMA.Rcheck/iterativeBMA-Ex.timings
| name | user | system | elapsed | |
| BssWssFast | 0.020 | 0.000 | 0.019 | |
| bma_predict | 1.577 | 0.008 | 1.586 | |
| brier_score | 1.765 | 0.000 | 1.773 | |
| imageplot_iterate_bma | 1.925 | 0.008 | 1.933 | |
| iterateBMAglm_train | 1.947 | 0.008 | 1.960 | |
| iterateBMAglm_train_predict | 1.801 | 0.004 | 1.805 | |
| iterateBMAglm_train_predict_test | 1.549 | 0.004 | 1.553 | |
| iterateBMAglm_wrapper | 1.822 | 0.008 | 1.831 | |
| iterativeBMA-package | 1.630 | 0.004 | 1.634 | |