| Back to Multiple platform build/check report for BioC 3.9 |
|
This page was generated on 2019-04-09 11:23:50 -0400 (Tue, 09 Apr 2019).
| Package 156/1703 | Hostname | OS / Arch | INSTALL | BUILD | CHECK | BUILD BIN | ||||||
| biomaRt 2.39.2 Mike Smith
| malbec2 | Linux (Ubuntu 18.04.2 LTS) / x86_64 | OK | OK | [ ERROR ] | |||||||
| tokay2 | Windows Server 2012 R2 Standard / x64 | OK | OK | OK | OK | |||||||
| celaya2 | OS X 10.11.6 El Capitan / x86_64 | OK | OK | OK | OK | |||||||
| merida2 | OS X 10.11.6 El Capitan / x86_64 | OK | OK | ERROR | OK |
| Package: biomaRt |
| Version: 2.39.2 |
| Command: /home/biocbuild/bbs-3.9-bioc/R/bin/R CMD check --install=check:biomaRt.install-out.txt --library=/home/biocbuild/bbs-3.9-bioc/R/library --no-vignettes --timings biomaRt_2.39.2.tar.gz |
| StartedAt: 2019-04-08 23:03:37 -0400 (Mon, 08 Apr 2019) |
| EndedAt: 2019-04-08 23:08:21 -0400 (Mon, 08 Apr 2019) |
| EllapsedTime: 283.5 seconds |
| RetCode: 1 |
| Status: ERROR |
| CheckDir: biomaRt.Rcheck |
| Warnings: NA |
##############################################################################
##############################################################################
###
### Running command:
###
### /home/biocbuild/bbs-3.9-bioc/R/bin/R CMD check --install=check:biomaRt.install-out.txt --library=/home/biocbuild/bbs-3.9-bioc/R/library --no-vignettes --timings biomaRt_2.39.2.tar.gz
###
##############################################################################
##############################################################################
* using log directory ‘/home/biocbuild/bbs-3.9-bioc/meat/biomaRt.Rcheck’
* using R Under development (unstable) (2019-03-18 r76245)
* using platform: x86_64-pc-linux-gnu (64-bit)
* using session charset: UTF-8
* using option ‘--no-vignettes’
* checking for file ‘biomaRt/DESCRIPTION’ ... OK
* this is package ‘biomaRt’ version ‘2.39.2’
* package encoding: UTF-8
* checking package namespace information ... OK
* checking package dependencies ... OK
* checking if this is a source package ... OK
* checking if there is a namespace ... OK
* checking for hidden files and directories ... OK
* checking for portable file names ... OK
* checking for sufficient/correct file permissions ... OK
* checking whether package ‘biomaRt’ can be installed ... OK
* checking installed package size ... OK
* checking package directory ... OK
* checking ‘build’ directory ... OK
* checking DESCRIPTION meta-information ... OK
* checking top-level files ... OK
* checking for left-over files ... OK
* checking index information ... OK
* checking package subdirectories ... OK
* checking R files for non-ASCII characters ... OK
* checking R files for syntax errors ... OK
* checking whether the package can be loaded ... OK
* checking whether the package can be loaded with stated dependencies ... OK
* checking whether the package can be unloaded cleanly ... OK
* checking whether the namespace can be loaded with stated dependencies ... OK
* checking whether the namespace can be unloaded cleanly ... OK
* checking dependencies in R code ... NOTE
Unexported object imported by a ':::' call: ‘AnnotationDbi:::smartKeys’
See the note in ?`:::` about the use of this operator.
* checking S3 generic/method consistency ... OK
* checking replacement functions ... OK
* checking foreign function calls ... OK
* checking R code for possible problems ... OK
* checking Rd files ... OK
* checking Rd metadata ... OK
* checking Rd cross-references ... OK
* checking for missing documentation entries ... OK
* checking for code/documentation mismatches ... OK
* checking Rd \usage sections ... OK
* checking Rd contents ... OK
* checking for unstated dependencies in examples ... OK
* checking files in ‘vignettes’ ... OK
* checking examples ... OK
Examples with CPU or elapsed time > 5s
user system elapsed
getBM 0.580 0.008 27.725
select 0.311 0.060 25.837
* checking for unstated dependencies in ‘tests’ ... OK
* checking tests ...
Running ‘testthat.R’
ERROR
Running the tests in ‘tests/testthat.R’ failed.
Last 13 lines of output:
http://www.ensembl.org:80/biomart/martservice?type=registry&requestid=biomaRt
1: useMart("ensembl") at testthat/test_listAndSearch.R:5
2: listMarts(host = host, path = path, port = port, includeHosts = TRUE, archive = archive,
ssl.verifypeer = ssl.verifypeer)
3: stop("Unexpected format to the list of available marts.\n", "Please check the following URL manually, ",
"and try ?listMarts for advice.\n", request)
══ testthat results ═══════════════════════════════════════════════════════════
OK: 30 SKIPPED: 0 FAILED: 3
1. Error: Fail when no dataset is specified (@test_getBM.R#12)
2. Error: (unknown) (@test_getLDS.R#4)
3. Error: (unknown) (@test_listAndSearch.R#5)
Error: testthat unit tests failed
Execution halted
* checking for unstated dependencies in vignettes ... OK
* checking package vignettes in ‘inst/doc’ ... OK
* checking running R code from vignettes ... SKIPPED
* checking re-building of vignette outputs ... SKIPPED
* checking PDF version of manual ... OK
* DONE
Status: 1 ERROR, 1 NOTE
See
‘/home/biocbuild/bbs-3.9-bioc/meat/biomaRt.Rcheck/00check.log’
for details.
biomaRt.Rcheck/00install.out
############################################################################## ############################################################################## ### ### Running command: ### ### /home/biocbuild/bbs-3.9-bioc/R/bin/R CMD INSTALL biomaRt ### ############################################################################## ############################################################################## * installing to library ‘/home/biocbuild/bbs-3.9-bioc/R/library’ * installing *source* package ‘biomaRt’ ... ** using staged installation ** R ** inst ** byte-compile and prepare package for lazy loading ** help *** installing help indices ** building package indices ** installing vignettes ** testing if installed package can be loaded from temporary location ** testing if installed package can be loaded from final location ** testing if installed package keeps a record of temporary installation path * DONE (biomaRt)
biomaRt.Rcheck/tests/testthat.Rout.fail
R Under development (unstable) (2019-03-18 r76245) -- "Unsuffered Consequences"
Copyright (C) 2019 The R Foundation for Statistical Computing
Platform: x86_64-pc-linux-gnu (64-bit)
R is free software and comes with ABSOLUTELY NO WARRANTY.
You are welcome to redistribute it under certain conditions.
Type 'license()' or 'licence()' for distribution details.
R is a collaborative project with many contributors.
Type 'contributors()' for more information and
'citation()' on how to cite R or R packages in publications.
Type 'demo()' for some demos, 'help()' for on-line help, or
'help.start()' for an HTML browser interface to help.
Type 'q()' to quit R.
> library(testthat)
> library(biomaRt)
>
> test_check("biomaRt", encoding = "UTF-8")
── 1. Error: Fail when no dataset is specified (@test_getBM.R#12) ─────────────
Unexpected format to the list of available marts.
Please check the following URL manually, and try ?listMarts for advice.
http://www.ensembl.org:80/biomart/martservice?type=registry&requestid=biomaRt
1: useMart("ensembl") at testthat/test_getBM.R:12
2: listMarts(host = host, path = path, port = port, includeHosts = TRUE, archive = archive,
ssl.verifypeer = ssl.verifypeer)
3: stop("Unexpected format to the list of available marts.\n", "Please check the following URL manually, ",
"and try ?listMarts for advice.\n", request)
── 2. Error: (unknown) (@test_getLDS.R#4) ─────────────────────────────────────
Unexpected format to the list of available marts.
Please check the following URL manually, and try ?listMarts for advice.
http://www.ensembl.org:80/biomart/martservice?type=registry&requestid=biomaRt
1: useMart("ENSEMBL_MART_ENSEMBL", dataset = "hsapiens_gene_ensembl") at testthat/test_getLDS.R:4
2: listMarts(host = host, path = path, port = port, includeHosts = TRUE, archive = archive,
ssl.verifypeer = ssl.verifypeer)
3: stop("Unexpected format to the list of available marts.\n", "Please check the following URL manually, ",
"and try ?listMarts for advice.\n", request)
── 3. Error: (unknown) (@test_listAndSearch.R#5) ──────────────────────────────
Unexpected format to the list of available marts.
Please check the following URL manually, and try ?listMarts for advice.
http://www.ensembl.org:80/biomart/martservice?type=registry&requestid=biomaRt
1: useMart("ensembl") at testthat/test_listAndSearch.R:5
2: listMarts(host = host, path = path, port = port, includeHosts = TRUE, archive = archive,
ssl.verifypeer = ssl.verifypeer)
3: stop("Unexpected format to the list of available marts.\n", "Please check the following URL manually, ",
"and try ?listMarts for advice.\n", request)
══ testthat results ═══════════════════════════════════════════════════════════
OK: 30 SKIPPED: 0 FAILED: 3
1. Error: Fail when no dataset is specified (@test_getBM.R#12)
2. Error: (unknown) (@test_getLDS.R#4)
3. Error: (unknown) (@test_listAndSearch.R#5)
Error: testthat unit tests failed
Execution halted
biomaRt.Rcheck/biomaRt-Ex.timings
| name | user | system | elapsed | |
| NP2009code | 0 | 0 | 0 | |
| attributePages | 0 | 0 | 0 | |
| exportFASTA | 0 | 0 | 0 | |
| filterOptions | 0 | 0 | 0 | |
| filterType | 0 | 0 | 0 | |
| getBM | 0.580 | 0.008 | 27.725 | |
| getBMlist | 0 | 0 | 0 | |
| getGene | 0.001 | 0.000 | 0.001 | |
| getLDS | 0 | 0 | 0 | |
| getSequence | 0.000 | 0.002 | 0.001 | |
| getXML | 0.000 | 0.001 | 0.001 | |
| listAttributes | 0.001 | 0.000 | 0.001 | |
| listDatasets | 0.001 | 0.000 | 0.001 | |
| listEnsembl | 0 | 0 | 0 | |
| listEnsemblArchives | 0.025 | 0.000 | 1.154 | |
| listFilterValues | 0.000 | 0.001 | 0.001 | |
| listFilters | 0.000 | 0.000 | 0.001 | |
| listMarts | 0.000 | 0.000 | 0.001 | |
| select | 0.311 | 0.060 | 25.837 | |
| useDataset | 0 | 0 | 0 | |
| useEnsembl | 0 | 0 | 0 | |
| useMart | 0 | 0 | 0 | |