| Back to Multiple platform build/check report for BioC 3.9 |
|
This page was generated on 2019-04-09 11:49:47 -0400 (Tue, 09 Apr 2019).
| Package 1650/1703 | Hostname | OS / Arch | INSTALL | BUILD | CHECK | BUILD BIN | ||||||
| TTMap 1.5.0 Rachel Jeitziner
| malbec2 | Linux (Ubuntu 18.04.2 LTS) / x86_64 | OK | OK | [ OK ] | |||||||
| tokay2 | Windows Server 2012 R2 Standard / x64 | OK | OK | OK | OK | |||||||
| celaya2 | OS X 10.11.6 El Capitan / x86_64 | OK | OK | WARNINGS | OK | |||||||
| merida2 | OS X 10.11.6 El Capitan / x86_64 | OK | OK | WARNINGS | OK |
| Package: TTMap |
| Version: 1.5.0 |
| Command: /home/biocbuild/bbs-3.9-bioc/R/bin/R CMD check --install=check:TTMap.install-out.txt --library=/home/biocbuild/bbs-3.9-bioc/R/library --no-vignettes --timings TTMap_1.5.0.tar.gz |
| StartedAt: 2019-04-09 04:11:56 -0400 (Tue, 09 Apr 2019) |
| EndedAt: 2019-04-09 04:15:32 -0400 (Tue, 09 Apr 2019) |
| EllapsedTime: 215.9 seconds |
| RetCode: 0 |
| Status: OK |
| CheckDir: TTMap.Rcheck |
| Warnings: 0 |
##############################################################################
##############################################################################
###
### Running command:
###
### /home/biocbuild/bbs-3.9-bioc/R/bin/R CMD check --install=check:TTMap.install-out.txt --library=/home/biocbuild/bbs-3.9-bioc/R/library --no-vignettes --timings TTMap_1.5.0.tar.gz
###
##############################################################################
##############################################################################
* using log directory ‘/home/biocbuild/bbs-3.9-bioc/meat/TTMap.Rcheck’
* using R Under development (unstable) (2019-03-18 r76245)
* using platform: x86_64-pc-linux-gnu (64-bit)
* using session charset: UTF-8
* using option ‘--no-vignettes’
* checking for file ‘TTMap/DESCRIPTION’ ... OK
* checking extension type ... Package
* this is package ‘TTMap’ version ‘1.5.0’
* checking package namespace information ... OK
* checking package dependencies ... OK
* checking if this is a source package ... OK
* checking if there is a namespace ... OK
* checking for hidden files and directories ... OK
* checking for portable file names ... OK
* checking for sufficient/correct file permissions ... OK
* checking whether package ‘TTMap’ can be installed ... OK
* checking installed package size ... OK
* checking package directory ... OK
* checking ‘build’ directory ... OK
* checking DESCRIPTION meta-information ... OK
* checking top-level files ... OK
* checking for left-over files ... OK
* checking index information ... OK
* checking package subdirectories ... OK
* checking R files for non-ASCII characters ... OK
* checking R files for syntax errors ... OK
* checking whether the package can be loaded ... OK
* checking whether the package can be loaded with stated dependencies ... OK
* checking whether the package can be unloaded cleanly ... OK
* checking whether the namespace can be loaded with stated dependencies ... OK
* checking whether the namespace can be unloaded cleanly ... OK
* checking dependencies in R code ... OK
* checking S3 generic/method consistency ... OK
* checking replacement functions ... OK
* checking foreign function calls ... OK
* checking R code for possible problems ... OK
* checking Rd files ... OK
* checking Rd metadata ... OK
* checking Rd cross-references ... OK
* checking for missing documentation entries ... OK
* checking for code/documentation mismatches ... OK
* checking Rd \usage sections ... OK
* checking Rd contents ... OK
* checking for unstated dependencies in examples ... OK
* checking files in ‘vignettes’ ... OK
* checking examples ... OK
Examples with CPU or elapsed time > 5s
user system elapsed
ttmap_sgn_genes 17.918 0.113 17.971
calcul_e 13.933 0.213 14.460
ttmap 13.548 0.123 13.683
hyperrectangle_deviation_assessment 11.917 0.056 11.977
control_adjustment 8.357 0.016 8.373
* checking for unstated dependencies in vignettes ... OK
* checking package vignettes in ‘inst/doc’ ... OK
* checking running R code from vignettes ... SKIPPED
* checking re-building of vignette outputs ... SKIPPED
* checking PDF version of manual ... OK
* DONE
Status: OK
TTMap.Rcheck/00install.out
############################################################################## ############################################################################## ### ### Running command: ### ### /home/biocbuild/bbs-3.9-bioc/R/bin/R CMD INSTALL TTMap ### ############################################################################## ############################################################################## * installing to library ‘/home/biocbuild/bbs-3.9-bioc/R/library’ * installing *source* package ‘TTMap’ ... ** using staged installation ** R ** byte-compile and prepare package for lazy loading ** help *** installing help indices ** building package indices ** installing vignettes ** testing if installed package can be loaded from temporary location ** testing if installed package can be loaded from final location ** testing if installed package keeps a record of temporary installation path * DONE (TTMap)
TTMap.Rcheck/TTMap-Ex.timings
| name | user | system | elapsed | |
| TTMap-package | 0.000 | 0.000 | 0.001 | |
| calcul_e | 13.933 | 0.213 | 14.460 | |
| control_adjustment | 8.357 | 0.016 | 8.373 | |
| generate_correlation | 0.002 | 0.000 | 0.002 | |
| hyperrectangle_deviation_assessment | 11.917 | 0.056 | 11.977 | |
| make_matrices | 3.288 | 0.016 | 3.309 | |
| ttmap | 13.548 | 0.123 | 13.683 | |
| ttmap_sgn_genes | 17.918 | 0.113 | 17.971 | |
| write_pcl | 3.566 | 0.020 | 3.586 | |