| Back to Multiple platform build/check report for BioC 3.9 |
|
This page was generated on 2019-04-09 11:51:29 -0400 (Tue, 09 Apr 2019).
| Package 1261/1703 | Hostname | OS / Arch | INSTALL | BUILD | CHECK | BUILD BIN | ||||||
| qPLEXanalyzer 1.1.3 Ashley Sawle
| malbec2 | Linux (Ubuntu 18.04.2 LTS) / x86_64 | OK | OK | [ OK ] | |||||||
| tokay2 | Windows Server 2012 R2 Standard / x64 | OK | OK | OK | OK | |||||||
| celaya2 | OS X 10.11.6 El Capitan / x86_64 | OK | OK | OK | OK | |||||||
| merida2 | OS X 10.11.6 El Capitan / x86_64 | OK | OK | OK | OK |
| Package: qPLEXanalyzer |
| Version: 1.1.3 |
| Command: /home/biocbuild/bbs-3.9-bioc/R/bin/R CMD check --install=check:qPLEXanalyzer.install-out.txt --library=/home/biocbuild/bbs-3.9-bioc/R/library --no-vignettes --timings qPLEXanalyzer_1.1.3.tar.gz |
| StartedAt: 2019-04-09 02:55:28 -0400 (Tue, 09 Apr 2019) |
| EndedAt: 2019-04-09 02:58:16 -0400 (Tue, 09 Apr 2019) |
| EllapsedTime: 168.8 seconds |
| RetCode: 0 |
| Status: OK |
| CheckDir: qPLEXanalyzer.Rcheck |
| Warnings: 0 |
############################################################################## ############################################################################## ### ### Running command: ### ### /home/biocbuild/bbs-3.9-bioc/R/bin/R CMD check --install=check:qPLEXanalyzer.install-out.txt --library=/home/biocbuild/bbs-3.9-bioc/R/library --no-vignettes --timings qPLEXanalyzer_1.1.3.tar.gz ### ############################################################################## ############################################################################## * using log directory ‘/home/biocbuild/bbs-3.9-bioc/meat/qPLEXanalyzer.Rcheck’ * using R Under development (unstable) (2019-03-18 r76245) * using platform: x86_64-pc-linux-gnu (64-bit) * using session charset: UTF-8 * using option ‘--no-vignettes’ * checking for file ‘qPLEXanalyzer/DESCRIPTION’ ... OK * checking extension type ... Package * this is package ‘qPLEXanalyzer’ version ‘1.1.3’ * checking package namespace information ... OK * checking package dependencies ... OK * checking if this is a source package ... OK * checking if there is a namespace ... OK * checking for hidden files and directories ... OK * checking for portable file names ... OK * checking for sufficient/correct file permissions ... OK * checking whether package ‘qPLEXanalyzer’ can be installed ... OK * checking installed package size ... OK * checking package directory ... OK * checking ‘build’ directory ... OK * checking DESCRIPTION meta-information ... OK * checking top-level files ... OK * checking for left-over files ... OK * checking index information ... OK * checking package subdirectories ... OK * checking R files for non-ASCII characters ... OK * checking R files for syntax errors ... OK * checking whether the package can be loaded ... OK * checking whether the package can be loaded with stated dependencies ... OK * checking whether the package can be unloaded cleanly ... OK * checking whether the namespace can be loaded with stated dependencies ... OK * checking whether the namespace can be unloaded cleanly ... OK * checking dependencies in R code ... OK * checking S3 generic/method consistency ... OK * checking replacement functions ... OK * checking foreign function calls ... OK * checking R code for possible problems ... NOTE convertToMSnset: no visible binding for global variable ‘.’ corrPlot: no visible binding for global variable ‘Cor’ corrPlot: no visible binding for global variable ‘X’ corrPlot: no visible binding for global variable ‘Y’ corrPlot: no visible binding for global variable ‘CorTxt’ coveragePlot: no visible binding for global variable ‘Accessions’ coveragePlot: no visible binding for global variable ‘Sequence’ coveragePlot: no visible binding for global variable ‘.’ getContrastResults: no visible binding for global variable ‘B’ getContrastResults: no visible binding for global variable ‘.’ getContrastResults: no visible binding for global variable ‘AveExpr’ getContrastResults: no visible binding for global variable ‘logFC’ groupScaling: no visible binding for global variable ‘PeptideID’ groupScaling: no visible binding for global variable ‘SampleName’ groupScaling: no visible binding for global variable ‘RawIntensity’ groupScaling: no visible binding for global variable ‘Grouping_column’ groupScaling: no visible binding for global variable ‘scaledIntensity’ groupScaling: no visible binding for global variable ‘meanscaledIntensity’ groupScaling: no visible binding for global variable ‘scalingFactors’ groupScaling: no visible binding for global variable ‘normalizedIntensities’ hierarchicalPlot: no visible binding for global variable ‘x’ hierarchicalPlot: no visible binding for global variable ‘y’ hierarchicalPlot: no visible binding for global variable ‘xend’ hierarchicalPlot: no visible binding for global variable ‘yend’ intensityBoxplot: no visible binding for global variable ‘Intensity’ intensityBoxplot: no visible binding for global variable ‘logInt’ intensityPlot: no visible binding for global variable ‘SampleName’ intensityPlot: no visible binding for global variable ‘Intensity’ maVolPlot: no visible binding for global variable ‘controlLogFoldChange’ maVolPlot: no visible binding for global variable ‘.’ maVolPlot: no visible binding for global variable ‘Accessions’ maVolPlot: no visible binding for global variable ‘group’ maVolPlot: no visible binding for global variable ‘adj.P.Val’ maVolPlot: no visible binding for global variable ‘GeneSymbol’ peptideIntensityPlot: no visible binding for global variable ‘SampleName’ peptideIntensityPlot: no visible binding for global variable ‘Intensity’ peptideIntensityPlot: no visible binding for global variable ‘PeptideID’ peptideIntensityPlot: no visible binding for global variable ‘Accessions’ peptideIntensityPlot: no visible binding for global variable ‘Sequences’ peptideIntensityPlot: no visible binding for global variable ‘Modifications’ peptideIntensityPlot: no visible binding for global variable ‘logIntensity’ plotMeanVar: no visible binding for global variable ‘x’ plotMeanVar: no visible binding for global variable ‘y’ plotMeanVar: no visible binding for global variable ‘Mean’ plotMeanVar: no visible binding for global variable ‘Variance’ rliPlot: no visible binding for global variable ‘RowID’ rliPlot: no visible binding for global variable ‘Intensity’ rliPlot: no visible binding for global variable ‘logInt’ rliPlot: no visible binding for global variable ‘medianLogInt’ summarizeIntensities: no visible binding for global variable ‘Accessions’ summarizeIntensities: no visible binding for global variable ‘Sequences’ summarizeIntensities: no visible binding for global variable ‘Count’ Undefined global functions or variables: . Accessions AveExpr B Cor CorTxt Count GeneSymbol Grouping_column Intensity Mean Modifications PeptideID RawIntensity RowID SampleName Sequence Sequences Variance X Y adj.P.Val controlLogFoldChange group logFC logInt logIntensity meanscaledIntensity medianLogInt normalizedIntensities scaledIntensity scalingFactors x xend y yend * checking Rd files ... OK * checking Rd metadata ... OK * checking Rd cross-references ... OK * checking for missing documentation entries ... OK * checking for code/documentation mismatches ... OK * checking Rd \usage sections ... OK * checking Rd contents ... OK * checking for unstated dependencies in examples ... OK * checking contents of ‘data’ directory ... OK * checking data for non-ASCII characters ... OK * checking data for ASCII and uncompressed saves ... OK * checking files in ‘vignettes’ ... OK * checking examples ... OK * checking for unstated dependencies in vignettes ... OK * checking package vignettes in ‘inst/doc’ ... OK * checking running R code from vignettes ... SKIPPED * checking re-building of vignette outputs ... SKIPPED * checking PDF version of manual ... OK * DONE Status: 1 NOTE See ‘/home/biocbuild/bbs-3.9-bioc/meat/qPLEXanalyzer.Rcheck/00check.log’ for details.
qPLEXanalyzer.Rcheck/00install.out
############################################################################## ############################################################################## ### ### Running command: ### ### /home/biocbuild/bbs-3.9-bioc/R/bin/R CMD INSTALL qPLEXanalyzer ### ############################################################################## ############################################################################## * installing to library ‘/home/biocbuild/bbs-3.9-bioc/R/library’ * installing *source* package ‘qPLEXanalyzer’ ... ** using staged installation ** R ** data ** inst ** byte-compile and prepare package for lazy loading ** help *** installing help indices ** building package indices ** installing vignettes ** testing if installed package can be loaded from temporary location ** testing if installed package can be loaded from final location ** testing if installed package keeps a record of temporary installation path * DONE (qPLEXanalyzer)
qPLEXanalyzer.Rcheck/qPLEXanalyzer-Ex.timings
| name | user | system | elapsed | |
| assignColours | 0.255 | 0.000 | 0.254 | |
| computeDiffStats | 0.487 | 0.012 | 0.499 | |
| convertToMSnset | 0.279 | 0.008 | 0.287 | |
| corrPlot | 1.312 | 0.012 | 1.323 | |
| coveragePlot | 0.643 | 0.032 | 0.687 | |
| getContrastResults | 0.524 | 0.008 | 0.532 | |
| groupScaling | 0.293 | 0.000 | 0.293 | |
| hierarchicalPlot | 0.353 | 0.008 | 0.366 | |
| intensityBoxplot | 1.389 | 0.012 | 1.401 | |
| intensityPlot | 1.167 | 0.004 | 1.171 | |
| maVolPlot | 1.498 | 0.008 | 1.506 | |
| normalizeQuantiles | 0.307 | 0.000 | 0.307 | |
| normalizeScaling | 0.291 | 0.000 | 0.290 | |
| pcaPlot | 0.998 | 0.004 | 1.004 | |
| peptideIntensityPlot | 0.570 | 0.012 | 0.581 | |
| plotMeanVar | 0.900 | 0.004 | 0.904 | |
| regressIntensity | 3.172 | 0.011 | 3.186 | |
| rliPlot | 3.478 | 0.016 | 3.495 | |
| rowScaling | 0.715 | 0.008 | 0.723 | |
| summarizeIntensities | 0.362 | 0.013 | 0.375 | |