Back to Multiple platform build/check report for BioC 3.9 |
|
This page was generated on 2019-04-09 11:47:02 -0400 (Tue, 09 Apr 2019).
Package 1562/1703 | Hostname | OS / Arch | INSTALL | BUILD | CHECK | BUILD BIN | ||||||
StarBioTrek 1.9.1 Claudia Cava
| malbec2 | Linux (Ubuntu 18.04.2 LTS) / x86_64 | OK | OK | [ OK ] | ![]() | ||||||
tokay2 | Windows Server 2012 R2 Standard / x64 | OK | OK | OK | OK | ![]() | ||||||
celaya2 | OS X 10.11.6 El Capitan / x86_64 | OK | OK | OK | OK | ![]() | ||||||
merida2 | OS X 10.11.6 El Capitan / x86_64 | OK | OK | OK | OK |
Package: StarBioTrek |
Version: 1.9.1 |
Command: /home/biocbuild/bbs-3.9-bioc/R/bin/R CMD check --install=check:StarBioTrek.install-out.txt --library=/home/biocbuild/bbs-3.9-bioc/R/library --no-vignettes --timings StarBioTrek_1.9.1.tar.gz |
StartedAt: 2019-04-09 03:54:10 -0400 (Tue, 09 Apr 2019) |
EndedAt: 2019-04-09 03:56:45 -0400 (Tue, 09 Apr 2019) |
EllapsedTime: 154.7 seconds |
RetCode: 0 |
Status: OK |
CheckDir: StarBioTrek.Rcheck |
Warnings: 0 |
############################################################################## ############################################################################## ### ### Running command: ### ### /home/biocbuild/bbs-3.9-bioc/R/bin/R CMD check --install=check:StarBioTrek.install-out.txt --library=/home/biocbuild/bbs-3.9-bioc/R/library --no-vignettes --timings StarBioTrek_1.9.1.tar.gz ### ############################################################################## ############################################################################## * using log directory ‘/home/biocbuild/bbs-3.9-bioc/meat/StarBioTrek.Rcheck’ * using R Under development (unstable) (2019-03-18 r76245) * using platform: x86_64-pc-linux-gnu (64-bit) * using session charset: UTF-8 * using option ‘--no-vignettes’ * checking for file ‘StarBioTrek/DESCRIPTION’ ... OK * checking extension type ... Package * this is package ‘StarBioTrek’ version ‘1.9.1’ * checking package namespace information ... OK * checking package dependencies ... OK * checking if this is a source package ... OK * checking if there is a namespace ... OK * checking for hidden files and directories ... OK * checking for portable file names ... OK * checking for sufficient/correct file permissions ... OK * checking whether package ‘StarBioTrek’ can be installed ... OK * checking installed package size ... NOTE installed size is 9.0Mb sub-directories of 1Mb or more: data 8.8Mb * checking package directory ... OK * checking ‘build’ directory ... OK * checking DESCRIPTION meta-information ... OK * checking top-level files ... OK * checking for left-over files ... OK * checking index information ... OK * checking package subdirectories ... OK * checking R files for non-ASCII characters ... OK * checking R files for syntax errors ... OK * checking whether the package can be loaded ... OK * checking whether the package can be loaded with stated dependencies ... OK * checking whether the package can be unloaded cleanly ... OK * checking whether the namespace can be loaded with stated dependencies ... OK * checking whether the namespace can be unloaded cleanly ... OK * checking dependencies in R code ... OK * checking S3 generic/method consistency ... OK * checking replacement functions ... OK * checking foreign function calls ... OK * checking R code for possible problems ... NOTE getKEGGdata: no visible binding for global variable ‘Carbohydrate’ getKEGGdata: no visible binding for global variable ‘Energy’ getKEGGdata: no visible binding for global variable ‘Lipid’ getKEGGdata: no visible binding for global variable ‘Aminoacid’ getKEGGdata: no visible binding for global variable ‘Glybio_met’ getKEGGdata: no visible binding for global variable ‘Cofa_vita_met’ getKEGGdata: no visible binding for global variable ‘Transcription’ getKEGGdata: no visible binding for global variable ‘Translation’ getKEGGdata: no visible binding for global variable ‘Folding_sorting_and_degradation’ getKEGGdata: no visible binding for global variable ‘Replication_and_repair’ getKEGGdata: no visible binding for global variable ‘Signal_transduction’ getKEGGdata: no visible binding for global variable ‘Signaling_molecules_and_interaction’ getKEGGdata: no visible binding for global variable ‘Transport_and_catabolism’ getKEGGdata: no visible binding for global variable ‘Cell_growth_and_death’ getKEGGdata: no visible binding for global variable ‘Cellular_community’ getKEGGdata: no visible binding for global variable ‘Immune_system’ getKEGGdata: no visible binding for global variable ‘Endocrine_system’ getKEGGdata: no visible binding for global variable ‘Circulatory_system’ getKEGGdata: no visible binding for global variable ‘Digestive_system’ getKEGGdata: no visible binding for global variable ‘Excretory_system’ getKEGGdata: no visible binding for global variable ‘Nervous_system’ getKEGGdata: no visible binding for global variable ‘Sensory_system’ svm_classification: no visible binding for global variable ‘Target’ Undefined global functions or variables: Aminoacid Carbohydrate Cell_growth_and_death Cellular_community Circulatory_system Cofa_vita_met Digestive_system Endocrine_system Energy Excretory_system Folding_sorting_and_degradation Glybio_met Immune_system Lipid Nervous_system Replication_and_repair Sensory_system Signal_transduction Signaling_molecules_and_interaction Target Transcription Translation Transport_and_catabolism * checking Rd files ... OK * checking Rd metadata ... OK * checking Rd cross-references ... OK * checking for missing documentation entries ... OK * checking for code/documentation mismatches ... OK * checking Rd \usage sections ... OK * checking Rd contents ... OK * checking for unstated dependencies in examples ... OK * checking contents of ‘data’ directory ... OK * checking data for non-ASCII characters ... OK * checking data for ASCII and uncompressed saves ... OK * checking files in ‘vignettes’ ... OK * checking examples ... OK Examples with CPU or elapsed time > 5s user system elapsed IPPI 15.858 0.147 16.013 getKEGGdata 7.217 0.000 9.511 * checking for unstated dependencies in vignettes ... OK * checking package vignettes in ‘inst/doc’ ... OK * checking running R code from vignettes ... SKIPPED * checking re-building of vignette outputs ... SKIPPED * checking PDF version of manual ... OK * DONE Status: 2 NOTEs See ‘/home/biocbuild/bbs-3.9-bioc/meat/StarBioTrek.Rcheck/00check.log’ for details.
StarBioTrek.Rcheck/00install.out
############################################################################## ############################################################################## ### ### Running command: ### ### /home/biocbuild/bbs-3.9-bioc/R/bin/R CMD INSTALL StarBioTrek ### ############################################################################## ############################################################################## * installing to library ‘/home/biocbuild/bbs-3.9-bioc/R/library’ * installing *source* package ‘StarBioTrek’ ... ** using staged installation ** R ** data *** moving datasets to lazyload DB ** inst ** byte-compile and prepare package for lazy loading ** help *** installing help indices ** building package indices ** installing vignettes ** testing if installed package can be loaded from temporary location ** testing if installed package can be loaded from final location ** testing if installed package keeps a record of temporary installation path * DONE (StarBioTrek)
StarBioTrek.Rcheck/StarBioTrek-Ex.timings
name | user | system | elapsed | |
GE_matrix | 0.360 | 0.004 | 0.364 | |
IPPI | 15.858 | 0.147 | 16.013 | |
SelectedSample | 0.115 | 0.012 | 0.127 | |
average | 0.012 | 0.000 | 0.012 | |
ds_score_crtlk | 0.026 | 0.000 | 0.026 | |
euc_dist_crtlk | 0.092 | 0.000 | 0.092 | |
getKEGGdata | 7.217 | 0.000 | 9.511 | |
getNETdata | 2.581 | 0.029 | 4.125 | |
list_path_net | 3.882 | 0.044 | 3.926 | |
matrix_plot | 0.054 | 0.000 | 0.054 | |
path_net | 2.921 | 0.052 | 2.973 | |
plotting_cross_talk | 0.019 | 0.000 | 0.019 | |
st_dv | 0.007 | 0.000 | 0.007 | |
svm_classification | 0.568 | 0.000 | 0.568 | |