| Back to Multiple platform build/check report for BioC 3.9 | 
 | 
This page was generated on 2019-04-09 11:45:52 -0400 (Tue, 09 Apr 2019).
| Package 805/1703 | Hostname | OS / Arch | INSTALL | BUILD | CHECK | BUILD BIN | ||||||
| InteractionSet 1.11.2 Aaron Lun 
 | malbec2 | Linux (Ubuntu 18.04.2 LTS) / x86_64 | [ OK ] | OK | OK |  | ||||||
| tokay2 | Windows Server 2012 R2 Standard / x64 | OK | OK | WARNINGS | OK |  | ||||||
| celaya2 | OS X 10.11.6 El Capitan / x86_64 | OK | OK | OK | OK |  | ||||||
| merida2 | OS X 10.11.6 El Capitan / x86_64 | OK | OK | ERROR | OK | 
| Package: InteractionSet | 
| Version: 1.11.2 | 
| Command: /home/biocbuild/bbs-3.9-bioc/R/bin/R CMD INSTALL InteractionSet | 
| StartedAt: 2019-04-08 18:25:32 -0400 (Mon, 08 Apr 2019) | 
| EndedAt: 2019-04-08 18:26:47 -0400 (Mon, 08 Apr 2019) | 
| EllapsedTime: 75.1 seconds | 
| RetCode: 0 | 
| Status: OK | 
##############################################################################
##############################################################################
###
### Running command:
###
###   /home/biocbuild/bbs-3.9-bioc/R/bin/R CMD INSTALL InteractionSet
###
##############################################################################
##############################################################################
* installing to library ‘/home/biocbuild/bbs-3.9-bioc/R/library’
* installing *source* package ‘InteractionSet’ ...
** using staged installation
** libs
g++ -std=gnu++11 -I"/home/biocbuild/bbs-3.9-bioc/R/include" -DNDEBUG  -I"/home/biocbuild/bbs-3.9-bioc/R/library/Rcpp/include" -I/usr/local/include  -fpic  -g -O2  -Wall -c box_bounds.cpp -o box_bounds.o
box_bounds.cpp: In function ‘SEXPREC* get_box_bounds(SEXP, SEXP, SEXP, SEXP, SEXP, SEXP)’:
box_bounds.cpp:10:13: warning: comparison between signed and unsigned integer expressions [-Wsign-compare]
     if (npts!=Adex.size()) {
         ˜˜˜˜^˜˜˜˜˜˜˜˜˜˜˜˜
g++ -std=gnu++11 -I"/home/biocbuild/bbs-3.9-bioc/R/include" -DNDEBUG  -I"/home/biocbuild/bbs-3.9-bioc/R/library/Rcpp/include" -I/usr/local/include  -fpic  -g -O2  -Wall -c detect_overlaps.cpp -o detect_overlaps.o
g++ -std=gnu++11 -I"/home/biocbuild/bbs-3.9-bioc/R/include" -DNDEBUG  -I"/home/biocbuild/bbs-3.9-bioc/R/library/Rcpp/include" -I/usr/local/include  -fpic  -g -O2  -Wall -c init.cpp -o init.o
g++ -std=gnu++11 -I"/home/biocbuild/bbs-3.9-bioc/R/include" -DNDEBUG  -I"/home/biocbuild/bbs-3.9-bioc/R/library/Rcpp/include" -I/usr/local/include  -fpic  -g -O2  -Wall -c link_overlaps.cpp -o link_overlaps.o
g++ -std=gnu++11 -I"/home/biocbuild/bbs-3.9-bioc/R/include" -DNDEBUG  -I"/home/biocbuild/bbs-3.9-bioc/R/library/Rcpp/include" -I/usr/local/include  -fpic  -g -O2  -Wall -c overlap_utils.cpp -o overlap_utils.o
g++ -std=gnu++11 -shared -L/home/biocbuild/bbs-3.9-bioc/R/lib -L/usr/local/lib -o InteractionSet.so box_bounds.o detect_overlaps.o init.o link_overlaps.o overlap_utils.o -L/home/biocbuild/bbs-3.9-bioc/R/lib -lR
installing to /home/biocbuild/bbs-3.9-bioc/R/library/00LOCK-InteractionSet/00new/InteractionSet/libs
** R
** inst
** byte-compile and prepare package for lazy loading
** help
*** installing help indices
** building package indices
** installing vignettes
** testing if installed package can be loaded from temporary location
** checking absolute paths in shared objects and dynamic libraries
** testing if installed package can be loaded from final location
** testing if installed package keeps a record of temporary installation path
* DONE (InteractionSet)