| Back to Multiple platform build/check report for BioC 3.9 |
|
This page was generated on 2019-04-09 11:40:54 -0400 (Tue, 09 Apr 2019).
| Package 313/1703 | Hostname | OS / Arch | INSTALL | BUILD | CHECK | BUILD BIN | ||||||
| CODEX 1.15.1 Yuchao Jiang
| malbec2 | Linux (Ubuntu 18.04.2 LTS) / x86_64 | OK | OK | [ OK ] | |||||||
| tokay2 | Windows Server 2012 R2 Standard / x64 | OK | OK | OK | OK | |||||||
| celaya2 | OS X 10.11.6 El Capitan / x86_64 | OK | OK | OK | OK | |||||||
| merida2 | OS X 10.11.6 El Capitan / x86_64 | OK | OK | OK | OK |
| Package: CODEX |
| Version: 1.15.1 |
| Command: /home/biocbuild/bbs-3.9-bioc/R/bin/R CMD check --install=check:CODEX.install-out.txt --library=/home/biocbuild/bbs-3.9-bioc/R/library --no-vignettes --timings CODEX_1.15.1.tar.gz |
| StartedAt: 2019-04-08 23:36:14 -0400 (Mon, 08 Apr 2019) |
| EndedAt: 2019-04-08 23:40:54 -0400 (Mon, 08 Apr 2019) |
| EllapsedTime: 279.4 seconds |
| RetCode: 0 |
| Status: OK |
| CheckDir: CODEX.Rcheck |
| Warnings: 0 |
##############################################################################
##############################################################################
###
### Running command:
###
### /home/biocbuild/bbs-3.9-bioc/R/bin/R CMD check --install=check:CODEX.install-out.txt --library=/home/biocbuild/bbs-3.9-bioc/R/library --no-vignettes --timings CODEX_1.15.1.tar.gz
###
##############################################################################
##############################################################################
* using log directory ‘/home/biocbuild/bbs-3.9-bioc/meat/CODEX.Rcheck’
* using R Under development (unstable) (2019-03-18 r76245)
* using platform: x86_64-pc-linux-gnu (64-bit)
* using session charset: UTF-8
* using option ‘--no-vignettes’
* checking for file ‘CODEX/DESCRIPTION’ ... OK
* checking extension type ... Package
* this is package ‘CODEX’ version ‘1.15.1’
* checking package namespace information ... OK
* checking package dependencies ... NOTE
Depends: includes the non-default packages:
'Rsamtools', 'GenomeInfoDb', 'BSgenome.Hsapiens.UCSC.hg19',
'IRanges', 'Biostrings', 'S4Vectors'
Adding so many packages to the search path is excessive and importing
selectively is preferable.
* checking if this is a source package ... OK
* checking if there is a namespace ... OK
* checking for hidden files and directories ... OK
* checking for portable file names ... OK
* checking for sufficient/correct file permissions ... OK
* checking whether package ‘CODEX’ can be installed ... OK
* checking installed package size ... OK
* checking package directory ... OK
* checking ‘build’ directory ... OK
* checking DESCRIPTION meta-information ... OK
* checking top-level files ... OK
* checking for left-over files ... OK
* checking index information ... OK
* checking package subdirectories ... OK
* checking R files for non-ASCII characters ... OK
* checking R files for syntax errors ... OK
* checking whether the package can be loaded ... OK
* checking whether the package can be loaded with stated dependencies ... OK
* checking whether the package can be unloaded cleanly ... OK
* checking whether the namespace can be loaded with stated dependencies ... OK
* checking whether the namespace can be unloaded cleanly ... OK
* checking dependencies in R code ... OK
* checking S3 generic/method consistency ... OK
* checking replacement functions ... OK
* checking foreign function calls ... OK
* checking R code for possible problems ... NOTE
choiceofK: no visible global function definition for ‘pdf’
choiceofK: no visible global function definition for ‘par’
choiceofK: no visible global function definition for ‘plot’
choiceofK: no visible global function definition for ‘dev.off’
getbambed: no visible global function definition for ‘read.table’
normalize : <anonymous>: no visible global function definition for
‘smooth.spline’
normalize : <anonymous>: no visible global function definition for
‘predict’
normalize: no visible global function definition for ‘glm’
normalize: no visible binding for global variable ‘poisson’
normalize: no visible global function definition for ‘lm’
normalize2 : <anonymous>: no visible global function definition for
‘smooth.spline’
normalize2 : <anonymous>: no visible global function definition for
‘predict’
normalize2: no visible global function definition for ‘glm’
normalize2: no visible binding for global variable ‘poisson’
normalize2: no visible global function definition for ‘lm’
Undefined global functions or variables:
dev.off glm lm par pdf plot poisson predict read.table smooth.spline
Consider adding
importFrom("grDevices", "dev.off", "pdf")
importFrom("graphics", "par", "plot")
importFrom("stats", "glm", "lm", "poisson", "predict", "smooth.spline")
importFrom("utils", "read.table")
to your NAMESPACE file.
* checking Rd files ... OK
* checking Rd metadata ... OK
* checking Rd cross-references ... OK
* checking for missing documentation entries ... OK
* checking for code/documentation mismatches ... OK
* checking Rd \usage sections ... OK
* checking Rd contents ... OK
* checking for unstated dependencies in examples ... OK
* checking contents of ‘data’ directory ... OK
* checking data for non-ASCII characters ... OK
* checking data for ASCII and uncompressed saves ... OK
* checking files in ‘vignettes’ ... OK
* checking examples ... OK
Examples with CPU or elapsed time > 5s
user system elapsed
normalize 29.667 0.013 31.194
normalize2 25.532 0.016 27.285
getcoverage 11.656 0.421 16.260
* checking for unstated dependencies in vignettes ... OK
* checking package vignettes in ‘inst/doc’ ... OK
* checking running R code from vignettes ... SKIPPED
* checking re-building of vignette outputs ... SKIPPED
* checking PDF version of manual ... OK
* DONE
Status: 2 NOTEs
See
‘/home/biocbuild/bbs-3.9-bioc/meat/CODEX.Rcheck/00check.log’
for details.
CODEX.Rcheck/00install.out
############################################################################## ############################################################################## ### ### Running command: ### ### /home/biocbuild/bbs-3.9-bioc/R/bin/R CMD INSTALL CODEX ### ############################################################################## ############################################################################## * installing to library ‘/home/biocbuild/bbs-3.9-bioc/R/library’ * installing *source* package ‘CODEX’ ... ** using staged installation ** R ** data *** moving datasets to lazyload DB ** byte-compile and prepare package for lazy loading ** help *** installing help indices ** building package indices ** installing vignettes ** testing if installed package can be loaded from temporary location ** testing if installed package can be loaded from final location ** testing if installed package keeps a record of temporary installation path * DONE (CODEX)
CODEX.Rcheck/CODEX-Ex.timings
| name | user | system | elapsed | |
| bambedObjDemo | 0.001 | 0.001 | 0.001 | |
| choiceofK | 0.028 | 0.007 | 0.036 | |
| coverageObjDemo | 0.001 | 0.000 | 0.001 | |
| gcDemo | 0.002 | 0.001 | 0.002 | |
| getbambed | 0.025 | 0.000 | 0.024 | |
| getcoverage | 11.656 | 0.421 | 16.260 | |
| getgc | 1.043 | 0.056 | 1.133 | |
| getmapp | 0.049 | 0.000 | 0.050 | |
| mappDemo | 0.001 | 0.000 | 0.000 | |
| mapp_ref | 0.015 | 0.000 | 0.015 | |
| mappability | 0.001 | 0.000 | 0.002 | |
| normObjDemo | 0.000 | 0.000 | 0.001 | |
| normalize | 29.667 | 0.013 | 31.194 | |
| normalize2 | 25.532 | 0.016 | 27.285 | |
| qc | 0.030 | 0.000 | 0.041 | |
| qcObjDemo | 0.001 | 0.000 | 0.000 | |
| segment | 0.811 | 0.008 | 0.853 | |