| Back to Multiple platform build/check report for BioC 3.9 |
|
This page was generated on 2019-04-09 11:53:03 -0400 (Tue, 09 Apr 2019).
| Package 681/1703 | Hostname | OS / Arch | INSTALL | BUILD | CHECK | BUILD BIN | ||||||
| GNET2 0.99.12 Chen Chen
| malbec2 | Linux (Ubuntu 18.04.2 LTS) / x86_64 | OK | OK | [ OK ] | |||||||
| tokay2 | Windows Server 2012 R2 Standard / x64 | OK | OK | OK | OK | |||||||
| celaya2 | OS X 10.11.6 El Capitan / x86_64 | OK | OK | OK | OK | |||||||
| merida2 | OS X 10.11.6 El Capitan / x86_64 | OK | OK | OK | OK |
| Package: GNET2 |
| Version: 0.99.12 |
| Command: /home/biocbuild/bbs-3.9-bioc/R/bin/R CMD check --install=check:GNET2.install-out.txt --library=/home/biocbuild/bbs-3.9-bioc/R/library --no-vignettes --timings GNET2_0.99.12.tar.gz |
| StartedAt: 2019-04-09 00:55:35 -0400 (Tue, 09 Apr 2019) |
| EndedAt: 2019-04-09 00:59:21 -0400 (Tue, 09 Apr 2019) |
| EllapsedTime: 226.2 seconds |
| RetCode: 0 |
| Status: OK |
| CheckDir: GNET2.Rcheck |
| Warnings: 0 |
##############################################################################
##############################################################################
###
### Running command:
###
### /home/biocbuild/bbs-3.9-bioc/R/bin/R CMD check --install=check:GNET2.install-out.txt --library=/home/biocbuild/bbs-3.9-bioc/R/library --no-vignettes --timings GNET2_0.99.12.tar.gz
###
##############################################################################
##############################################################################
* using log directory ‘/home/biocbuild/bbs-3.9-bioc/meat/GNET2.Rcheck’
* using R Under development (unstable) (2019-03-18 r76245)
* using platform: x86_64-pc-linux-gnu (64-bit)
* using session charset: UTF-8
* using option ‘--no-vignettes’
* checking for file ‘GNET2/DESCRIPTION’ ... OK
* checking extension type ... Package
* this is package ‘GNET2’ version ‘0.99.12’
* package encoding: UTF-8
* checking package namespace information ... OK
* checking package dependencies ... OK
* checking if this is a source package ... OK
* checking if there is a namespace ... OK
* checking for hidden files and directories ... OK
* checking for portable file names ... OK
* checking for sufficient/correct file permissions ... OK
* checking whether package ‘GNET2’ can be installed ... OK
* checking installed package size ... OK
* checking package directory ... OK
* checking ‘build’ directory ... OK
* checking DESCRIPTION meta-information ... OK
* checking top-level files ... OK
* checking for left-over files ... OK
* checking index information ... OK
* checking package subdirectories ... OK
* checking R files for non-ASCII characters ... OK
* checking R files for syntax errors ... OK
* checking whether the package can be loaded ... OK
* checking whether the package can be loaded with stated dependencies ... OK
* checking whether the package can be unloaded cleanly ... OK
* checking whether the namespace can be loaded with stated dependencies ... OK
* checking whether the namespace can be unloaded cleanly ... OK
* checking dependencies in R code ... OK
* checking S3 generic/method consistency ... OK
* checking replacement functions ... OK
* checking foreign function calls ... OK
* checking R code for possible problems ... OK
* checking Rd files ... OK
* checking Rd metadata ... OK
* checking Rd cross-references ... OK
* checking for missing documentation entries ... OK
* checking for code/documentation mismatches ... OK
* checking Rd \usage sections ... OK
* checking Rd contents ... OK
* checking for unstated dependencies in examples ... OK
* checking line endings in C/C++/Fortran sources/headers ... OK
* checking compiled code ... NOTE
Note: information on .o files is not available
* checking files in ‘vignettes’ ... OK
* checking examples ... OK
Examples with CPU or elapsed time > 5s
user system elapsed
gnet 78.909 0.669 23.587
plot_gene_group 77.842 0.462 22.489
plot_tree 72.129 0.504 19.029
* checking for unstated dependencies in vignettes ... OK
* checking package vignettes in ‘inst/doc’ ... OK
* checking running R code from vignettes ... SKIPPED
* checking re-building of vignette outputs ... SKIPPED
* checking PDF version of manual ... OK
* DONE
Status: 1 NOTE
See
‘/home/biocbuild/bbs-3.9-bioc/meat/GNET2.Rcheck/00check.log’
for details.
GNET2.Rcheck/00install.out
############################################################################## ############################################################################## ### ### Running command: ### ### /home/biocbuild/bbs-3.9-bioc/R/bin/R CMD INSTALL GNET2 ### ############################################################################## ############################################################################## * installing to library ‘/home/biocbuild/bbs-3.9-bioc/R/library’ * installing *source* package ‘GNET2’ ... ** using staged installation ** libs g++ -std=gnu++11 -I"/home/biocbuild/bbs-3.9-bioc/R/include" -DNDEBUG -I"/home/biocbuild/bbs-3.9-bioc/R/library/Rcpp/include" -I/usr/local/include -fpic -g -O2 -Wall -c RcppExports.cpp -o RcppExports.o g++ -std=gnu++11 -I"/home/biocbuild/bbs-3.9-bioc/R/include" -DNDEBUG -I"/home/biocbuild/bbs-3.9-bioc/R/library/Rcpp/include" -I/usr/local/include -fpic -g -O2 -Wall -c gnet_rcpp.cpp -o gnet_rcpp.o g++ -std=gnu++11 -shared -L/home/biocbuild/bbs-3.9-bioc/R/lib -L/usr/local/lib -o GNET2.so RcppExports.o gnet_rcpp.o -L/home/biocbuild/bbs-3.9-bioc/R/lib -lR installing to /home/biocbuild/bbs-3.9-bioc/R/library/00LOCK-GNET2/00new/GNET2/libs ** R ** inst ** byte-compile and prepare package for lazy loading ** help *** installing help indices ** building package indices ** installing vignettes ** testing if installed package can be loaded from temporary location ** checking absolute paths in shared objects and dynamic libraries ** testing if installed package can be loaded from final location ** testing if installed package keeps a record of temporary installation path * DONE (GNET2)
GNET2.Rcheck/GNET2-Ex.timings
| name | user | system | elapsed | |
| build_module | 0.001 | 0.000 | 0.001 | |
| build_moduleR | 0.006 | 0.000 | 0.006 | |
| calc_likelihood_score | 0.001 | 0.000 | 0.001 | |
| get_correlation_list | 0.001 | 0.000 | 0.001 | |
| gnet | 78.909 | 0.669 | 23.587 | |
| kneepointDetection | 0.061 | 0.000 | 0.061 | |
| plot_gene_group | 77.842 | 0.462 | 22.489 | |
| plot_group_correlation | 0.030 | 0.000 | 0.031 | |
| plot_tree | 72.129 | 0.504 | 19.029 | |